BEGIN:VCALENDAR
VERSION:2.0
PRODID:-//The Center on Colfax - LGBTQ Colorado - ECPv6.15.20//NONSGML v1.0//EN
CALSCALE:GREGORIAN
METHOD:PUBLISH
X-WR-CALNAME:The Center on Colfax - LGBTQ Colorado
X-ORIGINAL-URL:https://lgbtqcolorado.org
X-WR-CALDESC:Events for The Center on Colfax - LGBTQ Colorado
REFRESH-INTERVAL;VALUE=DURATION:PT1H
X-Robots-Tag:noindex
X-PUBLISHED-TTL:PT1H
BEGIN:VTIMEZONE
TZID:America/Denver
BEGIN:DAYLIGHT
TZOFFSETFROM:-0700
TZOFFSETTO:-0600
TZNAME:MDT
DTSTART:20250309T090000
END:DAYLIGHT
BEGIN:STANDARD
TZOFFSETFROM:-0600
TZOFFSETTO:-0700
TZNAME:MST
DTSTART:20251102T080000
END:STANDARD
BEGIN:DAYLIGHT
TZOFFSETFROM:-0700
TZOFFSETTO:-0600
TZNAME:MDT
DTSTART:20260308T090000
END:DAYLIGHT
BEGIN:STANDARD
TZOFFSETFROM:-0600
TZOFFSETTO:-0700
TZNAME:MST
DTSTART:20261101T080000
END:STANDARD
BEGIN:DAYLIGHT
TZOFFSETFROM:-0700
TZOFFSETTO:-0600
TZNAME:MDT
DTSTART:20270314T090000
END:DAYLIGHT
BEGIN:STANDARD
TZOFFSETFROM:-0600
TZOFFSETTO:-0700
TZNAME:MST
DTSTART:20271107T080000
END:STANDARD
END:VTIMEZONE
BEGIN:VEVENT
DTSTART;TZID=America/Denver:20260416T183000
DTEND;TZID=America/Denver:20260416T210000
DTSTAMP:20260420T072912
CREATED:20260413T204115Z
LAST-MODIFIED:20260413T204115Z
UID:10035595-1776364200-1776373200@lgbtqcolorado.org
SUMMARY:Flamy Grant in Concert
DESCRIPTION:Thursday\, April 16\, 7:00 pm Concert\, 6:30 pm Doors\, at St. Barnabas Episcopal Parish\, 1280 Vine St\, Denver\, CO 80206. Tickets $20-25\, Children under 12 free. Flamy Grant is a trailblazing drag queen and musician from Asheville\, North Carolina\, with over 1.5 million streams on digital music platforms. Snatching trophies for both songwriting and stage\, this powerhouse performer beautifully blends her Appalachian roots\, drag artistry\, and musical excellence to deliver a fearless and flamboyant show like no other.
URL:https://lgbtqcolorado.org/event/flamy-grant-in-concert/
LOCATION:St. Barnabas Episcopal Church\, 1280 Vine Street\, Denver\, CO\, United States
CATEGORIES:Community Events
ATTACH;FMTTYPE=image/jpeg:https://lgbtqcolorado.org/wp-content/uploads/2026/04/Denver.jpg
END:VEVENT
END:VCALENDAR