BEGIN:VCALENDAR
VERSION:2.0
PRODID:-//The Center on Colfax - LGBTQ Colorado - ECPv6.15.20//NONSGML v1.0//EN
CALSCALE:GREGORIAN
METHOD:PUBLISH
X-ORIGINAL-URL:https://lgbtqcolorado.org
X-WR-CALDESC:Events for The Center on Colfax - LGBTQ Colorado
REFRESH-INTERVAL;VALUE=DURATION:PT1H
X-Robots-Tag:noindex
X-PUBLISHED-TTL:PT1H
BEGIN:VTIMEZONE
TZID:America/Denver
BEGIN:DAYLIGHT
TZOFFSETFROM:-0700
TZOFFSETTO:-0600
TZNAME:MDT
DTSTART:20240310T090000
END:DAYLIGHT
BEGIN:STANDARD
TZOFFSETFROM:-0600
TZOFFSETTO:-0700
TZNAME:MST
DTSTART:20241103T080000
END:STANDARD
BEGIN:DAYLIGHT
TZOFFSETFROM:-0700
TZOFFSETTO:-0600
TZNAME:MDT
DTSTART:20250309T090000
END:DAYLIGHT
BEGIN:STANDARD
TZOFFSETFROM:-0600
TZOFFSETTO:-0700
TZNAME:MST
DTSTART:20251102T080000
END:STANDARD
BEGIN:DAYLIGHT
TZOFFSETFROM:-0700
TZOFFSETTO:-0600
TZNAME:MDT
DTSTART:20260308T090000
END:DAYLIGHT
BEGIN:STANDARD
TZOFFSETFROM:-0600
TZOFFSETTO:-0700
TZNAME:MST
DTSTART:20261101T080000
END:STANDARD
END:VTIMEZONE
BEGIN:VEVENT
DTSTART;TZID=America/Denver:20250824T140000
DTEND;TZID=America/Denver:20250824T170000
DTSTAMP:20260420T144932
CREATED:20250715T193556Z
LAST-MODIFIED:20250715T193556Z
UID:10025168-1756044000-1756054800@lgbtqcolorado.org
SUMMARY:Pippin Presented by Phamaly Theatre Company
DESCRIPTION:Step into a world of wonder and self-discovery with one of American Theatre’s pride and joys: Pippin. This musical\, from prolific writer Stephen Schwartz\, follows the journey of young Pippin as he seeks happiness and fulfillment amidst a troupe of actors who may or may not have his best interests at heart. With unforgettable music\, stunning choreography\, and themes that resonate across generations\, Pippin invites you to explore the joys and challenges of finding your true purpose – your “corner of the sky.” Join Phamaly for a theatrical experience that will inspire\, entertain\, and exclusively feature actors with disabilities! \nPhamaly Theatre Company produced in partnership with the Denver Center for the Performing Arts.
URL:https://lgbtqcolorado.org/event/pippin-presented-by-phamaly-theatre-company/2025-08-24/
LOCATION:Denver Center for Performing Arts\, Kilstrom Theatre\, Speer Blvd and Arapahoe St\, Denver\, CO\, 80204\, United States
CATEGORIES:Community Events
ATTACH;FMTTYPE=image/png:https://lgbtqcolorado.org/wp-content/uploads/2025/07/Pippin.png
ORGANIZER;CN="Phamaly Theatre Company":MAILTO:info@phamaly.org
END:VEVENT
BEGIN:VEVENT
DTSTART;TZID=America/Denver:20250823T193000
DTEND;TZID=America/Denver:20250823T223000
DTSTAMP:20260420T144932
CREATED:20250715T193556Z
LAST-MODIFIED:20250715T193556Z
UID:10025167-1755977400-1755988200@lgbtqcolorado.org
SUMMARY:Pippin Presented by Phamaly Theatre Company
DESCRIPTION:Step into a world of wonder and self-discovery with one of American Theatre’s pride and joys: Pippin. This musical\, from prolific writer Stephen Schwartz\, follows the journey of young Pippin as he seeks happiness and fulfillment amidst a troupe of actors who may or may not have his best interests at heart. With unforgettable music\, stunning choreography\, and themes that resonate across generations\, Pippin invites you to explore the joys and challenges of finding your true purpose – your “corner of the sky.” Join Phamaly for a theatrical experience that will inspire\, entertain\, and exclusively feature actors with disabilities! \nPhamaly Theatre Company produced in partnership with the Denver Center for the Performing Arts.
URL:https://lgbtqcolorado.org/event/pippin-presented-by-phamaly-theatre-company/2025-08-23/
LOCATION:Denver Center for Performing Arts\, Kilstrom Theatre\, Speer Blvd and Arapahoe St\, Denver\, CO\, 80204\, United States
CATEGORIES:Community Events
ATTACH;FMTTYPE=image/png:https://lgbtqcolorado.org/wp-content/uploads/2025/07/Pippin.png
ORGANIZER;CN="Phamaly Theatre Company":MAILTO:info@phamaly.org
END:VEVENT
BEGIN:VEVENT
DTSTART;TZID=America/Denver:20250822T193000
DTEND;TZID=America/Denver:20250822T223000
DTSTAMP:20260420T144932
CREATED:20250715T193556Z
LAST-MODIFIED:20250715T193556Z
UID:10025166-1755891000-1755901800@lgbtqcolorado.org
SUMMARY:Pippin Presented by Phamaly Theatre Company
DESCRIPTION:Step into a world of wonder and self-discovery with one of American Theatre’s pride and joys: Pippin. This musical\, from prolific writer Stephen Schwartz\, follows the journey of young Pippin as he seeks happiness and fulfillment amidst a troupe of actors who may or may not have his best interests at heart. With unforgettable music\, stunning choreography\, and themes that resonate across generations\, Pippin invites you to explore the joys and challenges of finding your true purpose – your “corner of the sky.” Join Phamaly for a theatrical experience that will inspire\, entertain\, and exclusively feature actors with disabilities! \nPhamaly Theatre Company produced in partnership with the Denver Center for the Performing Arts.
URL:https://lgbtqcolorado.org/event/pippin-presented-by-phamaly-theatre-company/2025-08-22/
LOCATION:Denver Center for Performing Arts\, Kilstrom Theatre\, Speer Blvd and Arapahoe St\, Denver\, CO\, 80204\, United States
CATEGORIES:Community Events
ATTACH;FMTTYPE=image/png:https://lgbtqcolorado.org/wp-content/uploads/2025/07/Pippin.png
ORGANIZER;CN="Phamaly Theatre Company":MAILTO:info@phamaly.org
END:VEVENT
BEGIN:VEVENT
DTSTART;TZID=America/Denver:20250821T193000
DTEND;TZID=America/Denver:20250821T223000
DTSTAMP:20260420T144932
CREATED:20250715T193556Z
LAST-MODIFIED:20250715T193556Z
UID:10025165-1755804600-1755815400@lgbtqcolorado.org
SUMMARY:Pippin Presented by Phamaly Theatre Company
DESCRIPTION:Step into a world of wonder and self-discovery with one of American Theatre’s pride and joys: Pippin. This musical\, from prolific writer Stephen Schwartz\, follows the journey of young Pippin as he seeks happiness and fulfillment amidst a troupe of actors who may or may not have his best interests at heart. With unforgettable music\, stunning choreography\, and themes that resonate across generations\, Pippin invites you to explore the joys and challenges of finding your true purpose – your “corner of the sky.” Join Phamaly for a theatrical experience that will inspire\, entertain\, and exclusively feature actors with disabilities! \nPhamaly Theatre Company produced in partnership with the Denver Center for the Performing Arts.
URL:https://lgbtqcolorado.org/event/pippin-presented-by-phamaly-theatre-company/2025-08-21/
LOCATION:Denver Center for Performing Arts\, Kilstrom Theatre\, Speer Blvd and Arapahoe St\, Denver\, CO\, 80204\, United States
CATEGORIES:Community Events
ATTACH;FMTTYPE=image/png:https://lgbtqcolorado.org/wp-content/uploads/2025/07/Pippin.png
ORGANIZER;CN="Phamaly Theatre Company":MAILTO:info@phamaly.org
END:VEVENT
BEGIN:VEVENT
DTSTART;TZID=America/Denver:20250818T193000
DTEND;TZID=America/Denver:20250818T223000
DTSTAMP:20260420T144932
CREATED:20250715T193556Z
LAST-MODIFIED:20250715T193556Z
UID:10025164-1755545400-1755556200@lgbtqcolorado.org
SUMMARY:Pippin Presented by Phamaly Theatre Company
DESCRIPTION:Step into a world of wonder and self-discovery with one of American Theatre’s pride and joys: Pippin. This musical\, from prolific writer Stephen Schwartz\, follows the journey of young Pippin as he seeks happiness and fulfillment amidst a troupe of actors who may or may not have his best interests at heart. With unforgettable music\, stunning choreography\, and themes that resonate across generations\, Pippin invites you to explore the joys and challenges of finding your true purpose – your “corner of the sky.” Join Phamaly for a theatrical experience that will inspire\, entertain\, and exclusively feature actors with disabilities! \nPhamaly Theatre Company produced in partnership with the Denver Center for the Performing Arts.
URL:https://lgbtqcolorado.org/event/pippin-presented-by-phamaly-theatre-company/2025-08-18/
LOCATION:Denver Center for Performing Arts\, Kilstrom Theatre\, Speer Blvd and Arapahoe St\, Denver\, CO\, 80204\, United States
CATEGORIES:Community Events
ATTACH;FMTTYPE=image/png:https://lgbtqcolorado.org/wp-content/uploads/2025/07/Pippin.png
ORGANIZER;CN="Phamaly Theatre Company":MAILTO:info@phamaly.org
END:VEVENT
BEGIN:VEVENT
DTSTART;TZID=America/Denver:20250817T140000
DTEND;TZID=America/Denver:20250817T170000
DTSTAMP:20260420T144932
CREATED:20250715T193556Z
LAST-MODIFIED:20250715T193556Z
UID:10025163-1755439200-1755450000@lgbtqcolorado.org
SUMMARY:Pippin Presented by Phamaly Theatre Company
DESCRIPTION:Step into a world of wonder and self-discovery with one of American Theatre’s pride and joys: Pippin. This musical\, from prolific writer Stephen Schwartz\, follows the journey of young Pippin as he seeks happiness and fulfillment amidst a troupe of actors who may or may not have his best interests at heart. With unforgettable music\, stunning choreography\, and themes that resonate across generations\, Pippin invites you to explore the joys and challenges of finding your true purpose – your “corner of the sky.” Join Phamaly for a theatrical experience that will inspire\, entertain\, and exclusively feature actors with disabilities! \nPhamaly Theatre Company produced in partnership with the Denver Center for the Performing Arts.
URL:https://lgbtqcolorado.org/event/pippin-presented-by-phamaly-theatre-company/2025-08-17/
LOCATION:Denver Center for Performing Arts\, Kilstrom Theatre\, Speer Blvd and Arapahoe St\, Denver\, CO\, 80204\, United States
CATEGORIES:Community Events
ATTACH;FMTTYPE=image/png:https://lgbtqcolorado.org/wp-content/uploads/2025/07/Pippin.png
ORGANIZER;CN="Phamaly Theatre Company":MAILTO:info@phamaly.org
END:VEVENT
BEGIN:VEVENT
DTSTART;TZID=America/Denver:20250816T193000
DTEND;TZID=America/Denver:20250816T223000
DTSTAMP:20260420T144932
CREATED:20250715T193556Z
LAST-MODIFIED:20250715T193556Z
UID:10025162-1755372600-1755383400@lgbtqcolorado.org
SUMMARY:Pippin Presented by Phamaly Theatre Company
DESCRIPTION:Step into a world of wonder and self-discovery with one of American Theatre’s pride and joys: Pippin. This musical\, from prolific writer Stephen Schwartz\, follows the journey of young Pippin as he seeks happiness and fulfillment amidst a troupe of actors who may or may not have his best interests at heart. With unforgettable music\, stunning choreography\, and themes that resonate across generations\, Pippin invites you to explore the joys and challenges of finding your true purpose – your “corner of the sky.” Join Phamaly for a theatrical experience that will inspire\, entertain\, and exclusively feature actors with disabilities! \nPhamaly Theatre Company produced in partnership with the Denver Center for the Performing Arts.
URL:https://lgbtqcolorado.org/event/pippin-presented-by-phamaly-theatre-company/2025-08-16/
LOCATION:Denver Center for Performing Arts\, Kilstrom Theatre\, Speer Blvd and Arapahoe St\, Denver\, CO\, 80204\, United States
CATEGORIES:Community Events
ATTACH;FMTTYPE=image/png:https://lgbtqcolorado.org/wp-content/uploads/2025/07/Pippin.png
ORGANIZER;CN="Phamaly Theatre Company":MAILTO:info@phamaly.org
END:VEVENT
BEGIN:VEVENT
DTSTART;TZID=America/Denver:20250815T193000
DTEND;TZID=America/Denver:20250815T223000
DTSTAMP:20260420T144932
CREATED:20250715T193556Z
LAST-MODIFIED:20250715T193556Z
UID:10025161-1755286200-1755297000@lgbtqcolorado.org
SUMMARY:Pippin Presented by Phamaly Theatre Company
DESCRIPTION:Step into a world of wonder and self-discovery with one of American Theatre’s pride and joys: Pippin. This musical\, from prolific writer Stephen Schwartz\, follows the journey of young Pippin as he seeks happiness and fulfillment amidst a troupe of actors who may or may not have his best interests at heart. With unforgettable music\, stunning choreography\, and themes that resonate across generations\, Pippin invites you to explore the joys and challenges of finding your true purpose – your “corner of the sky.” Join Phamaly for a theatrical experience that will inspire\, entertain\, and exclusively feature actors with disabilities! \nPhamaly Theatre Company produced in partnership with the Denver Center for the Performing Arts.
URL:https://lgbtqcolorado.org/event/pippin-presented-by-phamaly-theatre-company/2025-08-15/
LOCATION:Denver Center for Performing Arts\, Kilstrom Theatre\, Speer Blvd and Arapahoe St\, Denver\, CO\, 80204\, United States
CATEGORIES:Community Events
ATTACH;FMTTYPE=image/png:https://lgbtqcolorado.org/wp-content/uploads/2025/07/Pippin.png
ORGANIZER;CN="Phamaly Theatre Company":MAILTO:info@phamaly.org
END:VEVENT
BEGIN:VEVENT
DTSTART;TZID=America/Denver:20250814T193000
DTEND;TZID=America/Denver:20250814T223000
DTSTAMP:20260420T144932
CREATED:20250715T193556Z
LAST-MODIFIED:20250715T193556Z
UID:10025160-1755199800-1755210600@lgbtqcolorado.org
SUMMARY:Pippin Presented by Phamaly Theatre Company
DESCRIPTION:Step into a world of wonder and self-discovery with one of American Theatre’s pride and joys: Pippin. This musical\, from prolific writer Stephen Schwartz\, follows the journey of young Pippin as he seeks happiness and fulfillment amidst a troupe of actors who may or may not have his best interests at heart. With unforgettable music\, stunning choreography\, and themes that resonate across generations\, Pippin invites you to explore the joys and challenges of finding your true purpose – your “corner of the sky.” Join Phamaly for a theatrical experience that will inspire\, entertain\, and exclusively feature actors with disabilities! \nPhamaly Theatre Company produced in partnership with the Denver Center for the Performing Arts.
URL:https://lgbtqcolorado.org/event/pippin-presented-by-phamaly-theatre-company/2025-08-14/
LOCATION:Denver Center for Performing Arts\, Kilstrom Theatre\, Speer Blvd and Arapahoe St\, Denver\, CO\, 80204\, United States
CATEGORIES:Community Events
ATTACH;FMTTYPE=image/png:https://lgbtqcolorado.org/wp-content/uploads/2025/07/Pippin.png
ORGANIZER;CN="Phamaly Theatre Company":MAILTO:info@phamaly.org
END:VEVENT
BEGIN:VEVENT
DTSTART;TZID=America/Denver:20250810T140000
DTEND;TZID=America/Denver:20250810T170000
DTSTAMP:20260420T144932
CREATED:20250715T193556Z
LAST-MODIFIED:20250715T193556Z
UID:10025159-1754834400-1754845200@lgbtqcolorado.org
SUMMARY:Pippin Presented by Phamaly Theatre Company
DESCRIPTION:Step into a world of wonder and self-discovery with one of American Theatre’s pride and joys: Pippin. This musical\, from prolific writer Stephen Schwartz\, follows the journey of young Pippin as he seeks happiness and fulfillment amidst a troupe of actors who may or may not have his best interests at heart. With unforgettable music\, stunning choreography\, and themes that resonate across generations\, Pippin invites you to explore the joys and challenges of finding your true purpose – your “corner of the sky.” Join Phamaly for a theatrical experience that will inspire\, entertain\, and exclusively feature actors with disabilities! \nPhamaly Theatre Company produced in partnership with the Denver Center for the Performing Arts.
URL:https://lgbtqcolorado.org/event/pippin-presented-by-phamaly-theatre-company/2025-08-10/
LOCATION:Denver Center for Performing Arts\, Kilstrom Theatre\, Speer Blvd and Arapahoe St\, Denver\, CO\, 80204\, United States
CATEGORIES:Community Events
ATTACH;FMTTYPE=image/png:https://lgbtqcolorado.org/wp-content/uploads/2025/07/Pippin.png
ORGANIZER;CN="Phamaly Theatre Company":MAILTO:info@phamaly.org
END:VEVENT
BEGIN:VEVENT
DTSTART;TZID=America/Denver:20250809T193000
DTEND;TZID=America/Denver:20250809T223000
DTSTAMP:20260420T144932
CREATED:20250715T193556Z
LAST-MODIFIED:20250715T193556Z
UID:10025158-1754767800-1754778600@lgbtqcolorado.org
SUMMARY:Pippin Presented by Phamaly Theatre Company
DESCRIPTION:Step into a world of wonder and self-discovery with one of American Theatre’s pride and joys: Pippin. This musical\, from prolific writer Stephen Schwartz\, follows the journey of young Pippin as he seeks happiness and fulfillment amidst a troupe of actors who may or may not have his best interests at heart. With unforgettable music\, stunning choreography\, and themes that resonate across generations\, Pippin invites you to explore the joys and challenges of finding your true purpose – your “corner of the sky.” Join Phamaly for a theatrical experience that will inspire\, entertain\, and exclusively feature actors with disabilities! \nPhamaly Theatre Company produced in partnership with the Denver Center for the Performing Arts.
URL:https://lgbtqcolorado.org/event/pippin-presented-by-phamaly-theatre-company/2025-08-09/
LOCATION:Denver Center for Performing Arts\, Kilstrom Theatre\, Speer Blvd and Arapahoe St\, Denver\, CO\, 80204\, United States
CATEGORIES:Community Events
ATTACH;FMTTYPE=image/png:https://lgbtqcolorado.org/wp-content/uploads/2025/07/Pippin.png
ORGANIZER;CN="Phamaly Theatre Company":MAILTO:info@phamaly.org
END:VEVENT
BEGIN:VEVENT
DTSTART;TZID=America/Denver:20250808T200000
DTEND;TZID=America/Denver:20250808T230000
DTSTAMP:20260420T144932
CREATED:20250715T193556Z
LAST-MODIFIED:20250715T193556Z
UID:10025157-1754683200-1754694000@lgbtqcolorado.org
SUMMARY:Pippin Presented by Phamaly Theatre Company
DESCRIPTION:Step into a world of wonder and self-discovery with one of American Theatre’s pride and joys: Pippin. This musical\, from prolific writer Stephen Schwartz\, follows the journey of young Pippin as he seeks happiness and fulfillment amidst a troupe of actors who may or may not have his best interests at heart. With unforgettable music\, stunning choreography\, and themes that resonate across generations\, Pippin invites you to explore the joys and challenges of finding your true purpose – your “corner of the sky.” Join Phamaly for a theatrical experience that will inspire\, entertain\, and exclusively feature actors with disabilities! \nPhamaly Theatre Company produced in partnership with the Denver Center for the Performing Arts.
URL:https://lgbtqcolorado.org/event/pippin-presented-by-phamaly-theatre-company/2025-08-08/
LOCATION:Denver Center for Performing Arts\, Kilstrom Theatre\, Speer Blvd and Arapahoe St\, Denver\, CO\, 80204\, United States
CATEGORIES:Community Events
ATTACH;FMTTYPE=image/png:https://lgbtqcolorado.org/wp-content/uploads/2025/07/Pippin.png
ORGANIZER;CN="Phamaly Theatre Company":MAILTO:info@phamaly.org
END:VEVENT
BEGIN:VEVENT
DTSTART;TZID=America/Denver:20250807T200000
DTEND;TZID=America/Denver:20250807T230000
DTSTAMP:20260420T144932
CREATED:20250715T193556Z
LAST-MODIFIED:20250715T193556Z
UID:10025156-1754596800-1754607600@lgbtqcolorado.org
SUMMARY:Pippin Presented by Phamaly Theatre Company
DESCRIPTION:Step into a world of wonder and self-discovery with one of American Theatre’s pride and joys: Pippin. This musical\, from prolific writer Stephen Schwartz\, follows the journey of young Pippin as he seeks happiness and fulfillment amidst a troupe of actors who may or may not have his best interests at heart. With unforgettable music\, stunning choreography\, and themes that resonate across generations\, Pippin invites you to explore the joys and challenges of finding your true purpose – your “corner of the sky.” Join Phamaly for a theatrical experience that will inspire\, entertain\, and exclusively feature actors with disabilities! \nPhamaly Theatre Company produced in partnership with the Denver Center for the Performing Arts.
URL:https://lgbtqcolorado.org/event/pippin-presented-by-phamaly-theatre-company/2025-08-07/
LOCATION:Denver Center for Performing Arts\, Kilstrom Theatre\, Speer Blvd and Arapahoe St\, Denver\, CO\, 80204\, United States
CATEGORIES:Community Events
ATTACH;FMTTYPE=image/png:https://lgbtqcolorado.org/wp-content/uploads/2025/07/Pippin.png
ORGANIZER;CN="Phamaly Theatre Company":MAILTO:info@phamaly.org
END:VEVENT
END:VCALENDAR