BEGIN:VCALENDAR
VERSION:2.0
PRODID:-//The Center on Colfax - LGBTQ Colorado - ECPv6.15.20//NONSGML v1.0//EN
CALSCALE:GREGORIAN
METHOD:PUBLISH
X-WR-CALNAME:The Center on Colfax - LGBTQ Colorado
X-ORIGINAL-URL:https://lgbtqcolorado.org
X-WR-CALDESC:Events for The Center on Colfax - LGBTQ Colorado
REFRESH-INTERVAL;VALUE=DURATION:PT1H
X-Robots-Tag:noindex
X-PUBLISHED-TTL:PT1H
BEGIN:VTIMEZONE
TZID:America/Denver
BEGIN:DAYLIGHT
TZOFFSETFROM:-0700
TZOFFSETTO:-0600
TZNAME:MDT
DTSTART:20240310T090000
END:DAYLIGHT
BEGIN:STANDARD
TZOFFSETFROM:-0600
TZOFFSETTO:-0700
TZNAME:MST
DTSTART:20241103T080000
END:STANDARD
BEGIN:DAYLIGHT
TZOFFSETFROM:-0700
TZOFFSETTO:-0600
TZNAME:MDT
DTSTART:20250309T090000
END:DAYLIGHT
BEGIN:STANDARD
TZOFFSETFROM:-0600
TZOFFSETTO:-0700
TZNAME:MST
DTSTART:20251102T080000
END:STANDARD
BEGIN:DAYLIGHT
TZOFFSETFROM:-0700
TZOFFSETTO:-0600
TZNAME:MDT
DTSTART:20260308T090000
END:DAYLIGHT
BEGIN:STANDARD
TZOFFSETFROM:-0600
TZOFFSETTO:-0700
TZNAME:MST
DTSTART:20261101T080000
END:STANDARD
END:VTIMEZONE
BEGIN:VEVENT
DTSTART;TZID=America/Denver:20250926T180000
DTEND;TZID=America/Denver:20250926T213000
DTSTAMP:20260424T011622
CREATED:20250804T182852Z
LAST-MODIFIED:20250910T161049Z
UID:10025394-1758909600-1758922200@lgbtqcolorado.org
SUMMARY:Afterglow Gala
DESCRIPTION:Afterglow is an immersive fashion-forward celebration honoring the bold self-expression\, creativity\, and cultural influence of LGBTQ+ communities. Hosted by The Center on Colfax\, this rooftop gala fuses style\, storytelling\, and community to spotlight local talent and the future of queer fashion. From glam runway moments to red carpet interviews\, Afterglow is a night of celebration\, elevation\, and transformation. \nTickets: Click here to purchase your tickets. \nDate: Friday\, September 26 \nTime: 6:00 PM - 9:30 PM \nLocation: Rook Rooftop\, located at the top of the Catbird Hotel - 3770 Walnut St. Denver\, CO 80205
URL:https://lgbtqcolorado.org/event/afterglow/
LOCATION:Catbird Hotel Rooftop\, 3770 Walnut St\, Denver\, CO\, 80205\, United States
CATEGORIES:The Center Calendar,Arts & Entertainment,Social & Nightlife
ATTACH;FMTTYPE=image/jpeg:https://lgbtqcolorado.org/wp-content/uploads/2025/08/2025-AfterglowGala-16x9-1.jpg
END:VEVENT
END:VCALENDAR