BEGIN:VCALENDAR
VERSION:2.0
PRODID:-//The Center on Colfax - LGBTQ Colorado - ECPv6.15.20//NONSGML v1.0//EN
CALSCALE:GREGORIAN
METHOD:PUBLISH
X-ORIGINAL-URL:https://lgbtqcolorado.org
X-WR-CALDESC:Events for The Center on Colfax - LGBTQ Colorado
REFRESH-INTERVAL;VALUE=DURATION:PT1H
X-Robots-Tag:noindex
X-PUBLISHED-TTL:PT1H
BEGIN:VTIMEZONE
TZID:America/Denver
BEGIN:DAYLIGHT
TZOFFSETFROM:-0700
TZOFFSETTO:-0600
TZNAME:MDT
DTSTART:20240310T090000
END:DAYLIGHT
BEGIN:STANDARD
TZOFFSETFROM:-0600
TZOFFSETTO:-0700
TZNAME:MST
DTSTART:20241103T080000
END:STANDARD
BEGIN:DAYLIGHT
TZOFFSETFROM:-0700
TZOFFSETTO:-0600
TZNAME:MDT
DTSTART:20250309T090000
END:DAYLIGHT
BEGIN:STANDARD
TZOFFSETFROM:-0600
TZOFFSETTO:-0700
TZNAME:MST
DTSTART:20251102T080000
END:STANDARD
BEGIN:DAYLIGHT
TZOFFSETFROM:-0700
TZOFFSETTO:-0600
TZNAME:MDT
DTSTART:20260308T090000
END:DAYLIGHT
BEGIN:STANDARD
TZOFFSETFROM:-0600
TZOFFSETTO:-0700
TZNAME:MST
DTSTART:20261101T080000
END:STANDARD
END:VTIMEZONE
BEGIN:VEVENT
DTSTART;TZID=America/Denver:20251207T110000
DTEND;TZID=America/Denver:20251207T140000
DTSTAMP:20260422T164920
CREATED:20251203T184054Z
LAST-MODIFIED:20251203T184054Z
UID:10028402-1765105200-1765116000@lgbtqcolorado.org
SUMMARY:Hunger Free Colorado Drag Brunch
DESCRIPTION:Join Us for Drag Brunch — Joy\, Community\, and Collective Power! 🌈✨ \nJoin us at Charlie’s Denver on Sunday\, December 7th\, for a fabulous drag brunch to support Hunger Free Colorado. \nWe’ll celebrate the passage of Healthy School Meals for All while standing strong against SNAP cuts and food insecurity. In moments like these\, joy is resistance — and being in community builds our power. \nBring a bag of nonperishable food items to be donated to our local food pantry partners\, and receive a FREE drink ticket as a thank-you for supporting neighbors across Colorado. 🥫 \nAll ticket sales directly support Hunger Free Colorado’s work to ensure every Coloradan has reliable access to nutritious\, affordable food — every day\, where and when they need it. 💚
URL:https://lgbtqcolorado.org/event/hunger-free-colorado-drag-brunch/
LOCATION:Charlie’s Night Club\, 900 E Colfax\, Denver\, CO\, 80218\, United States
CATEGORIES:Community Events
ATTACH;FMTTYPE=image/jpeg:https://lgbtqcolorado.org/wp-content/uploads/2025/11/HFC-Drag-Brunch.jpg
ORGANIZER;CN="Hunger Free Colorado":MAILTO:info@hungerfreecolorado.org
END:VEVENT
END:VCALENDAR