BEGIN:VCALENDAR
VERSION:2.0
PRODID:-//The Center on Colfax - LGBTQ Colorado - ECPv6.15.20//NONSGML v1.0//EN
CALSCALE:GREGORIAN
METHOD:PUBLISH
X-WR-CALNAME:The Center on Colfax - LGBTQ Colorado
X-ORIGINAL-URL:https://lgbtqcolorado.org
X-WR-CALDESC:Events for The Center on Colfax - LGBTQ Colorado
REFRESH-INTERVAL;VALUE=DURATION:PT1H
X-Robots-Tag:noindex
X-PUBLISHED-TTL:PT1H
BEGIN:VTIMEZONE
TZID:America/Denver
BEGIN:DAYLIGHT
TZOFFSETFROM:-0700
TZOFFSETTO:-0600
TZNAME:MDT
DTSTART:20240310T090000
END:DAYLIGHT
BEGIN:STANDARD
TZOFFSETFROM:-0600
TZOFFSETTO:-0700
TZNAME:MST
DTSTART:20241103T080000
END:STANDARD
BEGIN:DAYLIGHT
TZOFFSETFROM:-0700
TZOFFSETTO:-0600
TZNAME:MDT
DTSTART:20250309T090000
END:DAYLIGHT
BEGIN:STANDARD
TZOFFSETFROM:-0600
TZOFFSETTO:-0700
TZNAME:MST
DTSTART:20251102T080000
END:STANDARD
BEGIN:DAYLIGHT
TZOFFSETFROM:-0700
TZOFFSETTO:-0600
TZNAME:MDT
DTSTART:20260308T090000
END:DAYLIGHT
BEGIN:STANDARD
TZOFFSETFROM:-0600
TZOFFSETTO:-0700
TZNAME:MST
DTSTART:20261101T080000
END:STANDARD
END:VTIMEZONE
BEGIN:VEVENT
DTSTART;TZID=America/Denver:20251016T173000
DTEND;TZID=America/Denver:20251016T193000
DTSTAMP:20260420T010741
CREATED:20250410T174403Z
LAST-MODIFIED:20250528T162319Z
UID:10023062-1760635800-1760643000@lgbtqcolorado.org
SUMMARY:Polyamorous Bookclub
DESCRIPTION:Join our book group for individuals who want to learn more about polyamory! We are currently reading Polyamory for Dummies by Jaime Grant. \nDates: Third Thursday of each month \nTime: 5:30 - 7:30 PM \nLocation: The Center on Colfax - 1301 E. Colfax Ave.\, Denver\, CO 80218 \nQuestions? Please contact Brent Amore
URL:https://lgbtqcolorado.org/event/polyamorous-book-club/2025-10-16/
LOCATION:The Center on Colfax\, 1301 E. Colfax Ave.\, Denver\, CO\, 80218\, United States
CATEGORIES:Community Events,The Center Calendar
ORGANIZER;CN="Brent Amore":MAILTO:polyamorous@outlook.com
GEO:39.7402674;-104.970419
X-APPLE-STRUCTURED-LOCATION;VALUE=URI;X-ADDRESS=The Center on Colfax 1301 E. Colfax Ave. Denver CO 80218 United States;X-APPLE-RADIUS=500;X-TITLE=1301 E. Colfax Ave.:geo:-104.970419,39.7402674
END:VEVENT
BEGIN:VEVENT
DTSTART;TZID=America/Denver:20250918T173000
DTEND;TZID=America/Denver:20250918T193000
DTSTAMP:20260420T010741
CREATED:20250410T174403Z
LAST-MODIFIED:20250528T162319Z
UID:10023061-1758216600-1758223800@lgbtqcolorado.org
SUMMARY:Polyamorous Bookclub
DESCRIPTION:Join our book group for individuals who want to learn more about polyamory! We are currently reading Polyamory for Dummies by Jaime Grant. \nDates: Third Thursday of each month \nTime: 5:30 - 7:30 PM \nLocation: The Center on Colfax - 1301 E. Colfax Ave.\, Denver\, CO 80218 \nQuestions? Please contact Brent Amore
URL:https://lgbtqcolorado.org/event/polyamorous-book-club/2025-09-18/
LOCATION:The Center on Colfax\, 1301 E. Colfax Ave.\, Denver\, CO\, 80218\, United States
CATEGORIES:Community Events,The Center Calendar
ORGANIZER;CN="Brent Amore":MAILTO:polyamorous@outlook.com
GEO:39.7402674;-104.970419
X-APPLE-STRUCTURED-LOCATION;VALUE=URI;X-ADDRESS=The Center on Colfax 1301 E. Colfax Ave. Denver CO 80218 United States;X-APPLE-RADIUS=500;X-TITLE=1301 E. Colfax Ave.:geo:-104.970419,39.7402674
END:VEVENT
BEGIN:VEVENT
DTSTART;TZID=America/Denver:20250821T173000
DTEND;TZID=America/Denver:20250821T193000
DTSTAMP:20260420T010741
CREATED:20250410T174403Z
LAST-MODIFIED:20250528T162319Z
UID:10023060-1755797400-1755804600@lgbtqcolorado.org
SUMMARY:Polyamorous Bookclub
DESCRIPTION:Join our book group for individuals who want to learn more about polyamory! We are currently reading Polyamory for Dummies by Jaime Grant. \nDates: Third Thursday of each month \nTime: 5:30 - 7:30 PM \nLocation: The Center on Colfax - 1301 E. Colfax Ave.\, Denver\, CO 80218 \nQuestions? Please contact Brent Amore
URL:https://lgbtqcolorado.org/event/polyamorous-book-club/2025-08-21/
LOCATION:The Center on Colfax\, 1301 E. Colfax Ave.\, Denver\, CO\, 80218\, United States
CATEGORIES:Community Events,The Center Calendar
ORGANIZER;CN="Brent Amore":MAILTO:polyamorous@outlook.com
GEO:39.7402674;-104.970419
X-APPLE-STRUCTURED-LOCATION;VALUE=URI;X-ADDRESS=The Center on Colfax 1301 E. Colfax Ave. Denver CO 80218 United States;X-APPLE-RADIUS=500;X-TITLE=1301 E. Colfax Ave.:geo:-104.970419,39.7402674
END:VEVENT
BEGIN:VEVENT
DTSTART;TZID=America/Denver:20250717T173000
DTEND;TZID=America/Denver:20250717T193000
DTSTAMP:20260420T010741
CREATED:20250410T174403Z
LAST-MODIFIED:20250528T162319Z
UID:10023059-1752773400-1752780600@lgbtqcolorado.org
SUMMARY:Polyamorous Bookclub
DESCRIPTION:Join our book group for individuals who want to learn more about polyamory! We are currently reading Polyamory for Dummies by Jaime Grant. \nDates: Third Thursday of each month \nTime: 5:30 - 7:30 PM \nLocation: The Center on Colfax - 1301 E. Colfax Ave.\, Denver\, CO 80218 \nQuestions? Please contact Brent Amore
URL:https://lgbtqcolorado.org/event/polyamorous-book-club/2025-07-17/
LOCATION:The Center on Colfax\, 1301 E. Colfax Ave.\, Denver\, CO\, 80218\, United States
CATEGORIES:Community Events,The Center Calendar
ORGANIZER;CN="Brent Amore":MAILTO:polyamorous@outlook.com
GEO:39.7402674;-104.970419
X-APPLE-STRUCTURED-LOCATION;VALUE=URI;X-ADDRESS=The Center on Colfax 1301 E. Colfax Ave. Denver CO 80218 United States;X-APPLE-RADIUS=500;X-TITLE=1301 E. Colfax Ave.:geo:-104.970419,39.7402674
END:VEVENT
BEGIN:VEVENT
DTSTART;TZID=America/Denver:20250626T173000
DTEND;TZID=America/Denver:20250626T193000
DTSTAMP:20260420T010741
CREATED:20250410T174403Z
LAST-MODIFIED:20250528T162319Z
UID:10024223-1750959000-1750966200@lgbtqcolorado.org
SUMMARY:Polyamorous Bookclub
DESCRIPTION:Join our book group for individuals who want to learn more about polyamory! We are currently reading Polyamory for Dummies by Jaime Grant. \nDates: Third Thursday of each month \nTime: 5:30 - 7:30 PM \nLocation: The Center on Colfax - 1301 E. Colfax Ave.\, Denver\, CO 80218 \nQuestions? Please contact Brent Amore
URL:https://lgbtqcolorado.org/event/polyamorous-book-club/2025-06-26/
LOCATION:The Center on Colfax\, 1301 E. Colfax Ave.\, Denver\, CO\, 80218\, United States
CATEGORIES:Community Events,The Center Calendar
ORGANIZER;CN="Brent Amore":MAILTO:polyamorous@outlook.com
GEO:39.7402674;-104.970419
X-APPLE-STRUCTURED-LOCATION;VALUE=URI;X-ADDRESS=The Center on Colfax 1301 E. Colfax Ave. Denver CO 80218 United States;X-APPLE-RADIUS=500;X-TITLE=1301 E. Colfax Ave.:geo:-104.970419,39.7402674
END:VEVENT
END:VCALENDAR