BEGIN:VCALENDAR
VERSION:2.0
PRODID:-//The Center on Colfax - LGBTQ Colorado - ECPv6.15.20//NONSGML v1.0//EN
CALSCALE:GREGORIAN
METHOD:PUBLISH
X-WR-CALNAME:The Center on Colfax - LGBTQ Colorado
X-ORIGINAL-URL:https://lgbtqcolorado.org
X-WR-CALDESC:Events for The Center on Colfax - LGBTQ Colorado
REFRESH-INTERVAL;VALUE=DURATION:PT1H
X-Robots-Tag:noindex
X-PUBLISHED-TTL:PT1H
BEGIN:VTIMEZONE
TZID:America/Denver
BEGIN:DAYLIGHT
TZOFFSETFROM:-0700
TZOFFSETTO:-0600
TZNAME:MDT
DTSTART:20250309T090000
END:DAYLIGHT
BEGIN:STANDARD
TZOFFSETFROM:-0600
TZOFFSETTO:-0700
TZNAME:MST
DTSTART:20251102T080000
END:STANDARD
BEGIN:DAYLIGHT
TZOFFSETFROM:-0700
TZOFFSETTO:-0600
TZNAME:MDT
DTSTART:20260308T090000
END:DAYLIGHT
BEGIN:STANDARD
TZOFFSETFROM:-0600
TZOFFSETTO:-0700
TZNAME:MST
DTSTART:20261101T080000
END:STANDARD
BEGIN:DAYLIGHT
TZOFFSETFROM:-0700
TZOFFSETTO:-0600
TZNAME:MDT
DTSTART:20270314T090000
END:DAYLIGHT
BEGIN:STANDARD
TZOFFSETFROM:-0600
TZOFFSETTO:-0700
TZNAME:MST
DTSTART:20271107T080000
END:STANDARD
BEGIN:DAYLIGHT
TZOFFSETFROM:-0700
TZOFFSETTO:-0600
TZNAME:MDT
DTSTART:20280312T090000
END:DAYLIGHT
BEGIN:STANDARD
TZOFFSETFROM:-0600
TZOFFSETTO:-0700
TZNAME:MST
DTSTART:20281105T080000
END:STANDARD
BEGIN:DAYLIGHT
TZOFFSETFROM:-0700
TZOFFSETTO:-0600
TZNAME:MDT
DTSTART:20290311T090000
END:DAYLIGHT
BEGIN:STANDARD
TZOFFSETFROM:-0600
TZOFFSETTO:-0700
TZNAME:MST
DTSTART:20291104T080000
END:STANDARD
END:VTIMEZONE
BEGIN:VEVENT
DTSTART;TZID=America/Denver:20260513T170000
DTEND;TZID=America/Denver:20260513T183000
DTSTAMP:20260425T142240
CREATED:20250207T193404Z
LAST-MODIFIED:20260210T203825Z
UID:10021307-1778691600-1778697000@lgbtqcolorado.org
SUMMARY:Tarot Workshop with Bridge the Gap Tarot
DESCRIPTION:
URL:https://lgbtqcolorado.org/event/rainbow-alley-tarot-workshop/2026-05-13/
LOCATION:The Center on Colfax\, 1301 E. Colfax Ave.\, Denver\, CO\, 80218\, United States
CATEGORIES:The Center Calendar,Rainbow Alley,Arts & Entertainment,Youth & Young Adult
ATTACH;FMTTYPE=image/jpeg:https://lgbtqcolorado.org/wp-content/uploads/2025/02/2026-RATarotGroup-16x9-1.jpg
GEO:39.7402674;-104.970419
X-APPLE-STRUCTURED-LOCATION;VALUE=URI;X-ADDRESS=The Center on Colfax 1301 E. Colfax Ave. Denver CO 80218 United States;X-APPLE-RADIUS=500;X-TITLE=1301 E. Colfax Ave.:geo:-104.970419,39.7402674
END:VEVENT
BEGIN:VEVENT
DTSTART;TZID=America/Denver:20260610T170000
DTEND;TZID=America/Denver:20260610T183000
DTSTAMP:20260425T142240
CREATED:20250207T193404Z
LAST-MODIFIED:20260210T203825Z
UID:10021308-1781110800-1781116200@lgbtqcolorado.org
SUMMARY:Tarot Workshop with Bridge the Gap Tarot
DESCRIPTION:
URL:https://lgbtqcolorado.org/event/rainbow-alley-tarot-workshop/2026-06-10/
LOCATION:The Center on Colfax\, 1301 E. Colfax Ave.\, Denver\, CO\, 80218\, United States
CATEGORIES:The Center Calendar,Rainbow Alley,Arts & Entertainment,Youth & Young Adult
ATTACH;FMTTYPE=image/jpeg:https://lgbtqcolorado.org/wp-content/uploads/2025/02/2026-RATarotGroup-16x9-1.jpg
GEO:39.7402674;-104.970419
X-APPLE-STRUCTURED-LOCATION;VALUE=URI;X-ADDRESS=The Center on Colfax 1301 E. Colfax Ave. Denver CO 80218 United States;X-APPLE-RADIUS=500;X-TITLE=1301 E. Colfax Ave.:geo:-104.970419,39.7402674
END:VEVENT
BEGIN:VEVENT
DTSTART;TZID=America/Denver:20260708T170000
DTEND;TZID=America/Denver:20260708T183000
DTSTAMP:20260425T142240
CREATED:20250207T193404Z
LAST-MODIFIED:20260210T203825Z
UID:10021309-1783530000-1783535400@lgbtqcolorado.org
SUMMARY:Tarot Workshop with Bridge the Gap Tarot
DESCRIPTION:
URL:https://lgbtqcolorado.org/event/rainbow-alley-tarot-workshop/2026-07-08/
LOCATION:The Center on Colfax\, 1301 E. Colfax Ave.\, Denver\, CO\, 80218\, United States
CATEGORIES:The Center Calendar,Rainbow Alley,Arts & Entertainment,Youth & Young Adult
ATTACH;FMTTYPE=image/jpeg:https://lgbtqcolorado.org/wp-content/uploads/2025/02/2026-RATarotGroup-16x9-1.jpg
GEO:39.7402674;-104.970419
X-APPLE-STRUCTURED-LOCATION;VALUE=URI;X-ADDRESS=The Center on Colfax 1301 E. Colfax Ave. Denver CO 80218 United States;X-APPLE-RADIUS=500;X-TITLE=1301 E. Colfax Ave.:geo:-104.970419,39.7402674
END:VEVENT
BEGIN:VEVENT
DTSTART;TZID=America/Denver:20260812T170000
DTEND;TZID=America/Denver:20260812T183000
DTSTAMP:20260425T142240
CREATED:20250207T193404Z
LAST-MODIFIED:20260210T203825Z
UID:10021310-1786554000-1786559400@lgbtqcolorado.org
SUMMARY:Tarot Workshop with Bridge the Gap Tarot
DESCRIPTION:
URL:https://lgbtqcolorado.org/event/rainbow-alley-tarot-workshop/2026-08-12/
LOCATION:The Center on Colfax\, 1301 E. Colfax Ave.\, Denver\, CO\, 80218\, United States
CATEGORIES:The Center Calendar,Rainbow Alley,Arts & Entertainment,Youth & Young Adult
ATTACH;FMTTYPE=image/jpeg:https://lgbtqcolorado.org/wp-content/uploads/2025/02/2026-RATarotGroup-16x9-1.jpg
GEO:39.7402674;-104.970419
X-APPLE-STRUCTURED-LOCATION;VALUE=URI;X-ADDRESS=The Center on Colfax 1301 E. Colfax Ave. Denver CO 80218 United States;X-APPLE-RADIUS=500;X-TITLE=1301 E. Colfax Ave.:geo:-104.970419,39.7402674
END:VEVENT
BEGIN:VEVENT
DTSTART;TZID=America/Denver:20260909T170000
DTEND;TZID=America/Denver:20260909T183000
DTSTAMP:20260425T142240
CREATED:20250207T193404Z
LAST-MODIFIED:20260210T203825Z
UID:10021311-1788973200-1788978600@lgbtqcolorado.org
SUMMARY:Tarot Workshop with Bridge the Gap Tarot
DESCRIPTION:
URL:https://lgbtqcolorado.org/event/rainbow-alley-tarot-workshop/2026-09-09/
LOCATION:The Center on Colfax\, 1301 E. Colfax Ave.\, Denver\, CO\, 80218\, United States
CATEGORIES:The Center Calendar,Rainbow Alley,Arts & Entertainment,Youth & Young Adult
ATTACH;FMTTYPE=image/jpeg:https://lgbtqcolorado.org/wp-content/uploads/2025/02/2026-RATarotGroup-16x9-1.jpg
GEO:39.7402674;-104.970419
X-APPLE-STRUCTURED-LOCATION;VALUE=URI;X-ADDRESS=The Center on Colfax 1301 E. Colfax Ave. Denver CO 80218 United States;X-APPLE-RADIUS=500;X-TITLE=1301 E. Colfax Ave.:geo:-104.970419,39.7402674
END:VEVENT
BEGIN:VEVENT
DTSTART;TZID=America/Denver:20261014T170000
DTEND;TZID=America/Denver:20261014T183000
DTSTAMP:20260425T142240
CREATED:20250207T193404Z
LAST-MODIFIED:20260210T203825Z
UID:10021312-1791997200-1792002600@lgbtqcolorado.org
SUMMARY:Tarot Workshop with Bridge the Gap Tarot
DESCRIPTION:
URL:https://lgbtqcolorado.org/event/rainbow-alley-tarot-workshop/2026-10-14/
LOCATION:The Center on Colfax\, 1301 E. Colfax Ave.\, Denver\, CO\, 80218\, United States
CATEGORIES:The Center Calendar,Rainbow Alley,Arts & Entertainment,Youth & Young Adult
ATTACH;FMTTYPE=image/jpeg:https://lgbtqcolorado.org/wp-content/uploads/2025/02/2026-RATarotGroup-16x9-1.jpg
GEO:39.7402674;-104.970419
X-APPLE-STRUCTURED-LOCATION;VALUE=URI;X-ADDRESS=The Center on Colfax 1301 E. Colfax Ave. Denver CO 80218 United States;X-APPLE-RADIUS=500;X-TITLE=1301 E. Colfax Ave.:geo:-104.970419,39.7402674
END:VEVENT
BEGIN:VEVENT
DTSTART;TZID=America/Denver:20261111T170000
DTEND;TZID=America/Denver:20261111T183000
DTSTAMP:20260425T142240
CREATED:20250207T193404Z
LAST-MODIFIED:20260210T203825Z
UID:10021313-1794416400-1794421800@lgbtqcolorado.org
SUMMARY:Tarot Workshop with Bridge the Gap Tarot
DESCRIPTION:
URL:https://lgbtqcolorado.org/event/rainbow-alley-tarot-workshop/2026-11-11/
LOCATION:The Center on Colfax\, 1301 E. Colfax Ave.\, Denver\, CO\, 80218\, United States
CATEGORIES:The Center Calendar,Rainbow Alley,Arts & Entertainment,Youth & Young Adult
ATTACH;FMTTYPE=image/jpeg:https://lgbtqcolorado.org/wp-content/uploads/2025/02/2026-RATarotGroup-16x9-1.jpg
GEO:39.7402674;-104.970419
X-APPLE-STRUCTURED-LOCATION;VALUE=URI;X-ADDRESS=The Center on Colfax 1301 E. Colfax Ave. Denver CO 80218 United States;X-APPLE-RADIUS=500;X-TITLE=1301 E. Colfax Ave.:geo:-104.970419,39.7402674
END:VEVENT
BEGIN:VEVENT
DTSTART;TZID=America/Denver:20261209T170000
DTEND;TZID=America/Denver:20261209T183000
DTSTAMP:20260425T142240
CREATED:20250207T193404Z
LAST-MODIFIED:20260210T203825Z
UID:10021314-1796835600-1796841000@lgbtqcolorado.org
SUMMARY:Tarot Workshop with Bridge the Gap Tarot
DESCRIPTION:
URL:https://lgbtqcolorado.org/event/rainbow-alley-tarot-workshop/2026-12-09/
LOCATION:The Center on Colfax\, 1301 E. Colfax Ave.\, Denver\, CO\, 80218\, United States
CATEGORIES:The Center Calendar,Rainbow Alley,Arts & Entertainment,Youth & Young Adult
ATTACH;FMTTYPE=image/jpeg:https://lgbtqcolorado.org/wp-content/uploads/2025/02/2026-RATarotGroup-16x9-1.jpg
GEO:39.7402674;-104.970419
X-APPLE-STRUCTURED-LOCATION;VALUE=URI;X-ADDRESS=The Center on Colfax 1301 E. Colfax Ave. Denver CO 80218 United States;X-APPLE-RADIUS=500;X-TITLE=1301 E. Colfax Ave.:geo:-104.970419,39.7402674
END:VEVENT
BEGIN:VEVENT
DTSTART;TZID=America/Denver:20270113T170000
DTEND;TZID=America/Denver:20270113T183000
DTSTAMP:20260425T142240
CREATED:20250207T193404Z
LAST-MODIFIED:20260210T203825Z
UID:10021315-1799859600-1799865000@lgbtqcolorado.org
SUMMARY:Tarot Workshop with Bridge the Gap Tarot
DESCRIPTION:
URL:https://lgbtqcolorado.org/event/rainbow-alley-tarot-workshop/2027-01-13/
LOCATION:The Center on Colfax\, 1301 E. Colfax Ave.\, Denver\, CO\, 80218\, United States
CATEGORIES:The Center Calendar,Rainbow Alley,Arts & Entertainment,Youth & Young Adult
ATTACH;FMTTYPE=image/jpeg:https://lgbtqcolorado.org/wp-content/uploads/2025/02/2026-RATarotGroup-16x9-1.jpg
GEO:39.7402674;-104.970419
X-APPLE-STRUCTURED-LOCATION;VALUE=URI;X-ADDRESS=The Center on Colfax 1301 E. Colfax Ave. Denver CO 80218 United States;X-APPLE-RADIUS=500;X-TITLE=1301 E. Colfax Ave.:geo:-104.970419,39.7402674
END:VEVENT
BEGIN:VEVENT
DTSTART;TZID=America/Denver:20270210T170000
DTEND;TZID=America/Denver:20270210T183000
DTSTAMP:20260425T142240
CREATED:20250207T193404Z
LAST-MODIFIED:20260210T203825Z
UID:10021316-1802278800-1802284200@lgbtqcolorado.org
SUMMARY:Tarot Workshop with Bridge the Gap Tarot
DESCRIPTION:
URL:https://lgbtqcolorado.org/event/rainbow-alley-tarot-workshop/2027-02-10/
LOCATION:The Center on Colfax\, 1301 E. Colfax Ave.\, Denver\, CO\, 80218\, United States
CATEGORIES:The Center Calendar,Rainbow Alley,Arts & Entertainment,Youth & Young Adult
ATTACH;FMTTYPE=image/jpeg:https://lgbtqcolorado.org/wp-content/uploads/2025/02/2026-RATarotGroup-16x9-1.jpg
GEO:39.7402674;-104.970419
X-APPLE-STRUCTURED-LOCATION;VALUE=URI;X-ADDRESS=The Center on Colfax 1301 E. Colfax Ave. Denver CO 80218 United States;X-APPLE-RADIUS=500;X-TITLE=1301 E. Colfax Ave.:geo:-104.970419,39.7402674
END:VEVENT
BEGIN:VEVENT
DTSTART;TZID=America/Denver:20270310T170000
DTEND;TZID=America/Denver:20270310T183000
DTSTAMP:20260425T142240
CREATED:20250207T193404Z
LAST-MODIFIED:20260210T203825Z
UID:10021317-1804698000-1804703400@lgbtqcolorado.org
SUMMARY:Tarot Workshop with Bridge the Gap Tarot
DESCRIPTION:
URL:https://lgbtqcolorado.org/event/rainbow-alley-tarot-workshop/2027-03-10/
LOCATION:The Center on Colfax\, 1301 E. Colfax Ave.\, Denver\, CO\, 80218\, United States
CATEGORIES:The Center Calendar,Rainbow Alley,Arts & Entertainment,Youth & Young Adult
ATTACH;FMTTYPE=image/jpeg:https://lgbtqcolorado.org/wp-content/uploads/2025/02/2026-RATarotGroup-16x9-1.jpg
GEO:39.7402674;-104.970419
X-APPLE-STRUCTURED-LOCATION;VALUE=URI;X-ADDRESS=The Center on Colfax 1301 E. Colfax Ave. Denver CO 80218 United States;X-APPLE-RADIUS=500;X-TITLE=1301 E. Colfax Ave.:geo:-104.970419,39.7402674
END:VEVENT
BEGIN:VEVENT
DTSTART;TZID=America/Denver:20270414T170000
DTEND;TZID=America/Denver:20270414T183000
DTSTAMP:20260425T142240
CREATED:20250207T193404Z
LAST-MODIFIED:20260210T203825Z
UID:10021318-1807722000-1807727400@lgbtqcolorado.org
SUMMARY:Tarot Workshop with Bridge the Gap Tarot
DESCRIPTION:
URL:https://lgbtqcolorado.org/event/rainbow-alley-tarot-workshop/2027-04-14/
LOCATION:The Center on Colfax\, 1301 E. Colfax Ave.\, Denver\, CO\, 80218\, United States
CATEGORIES:The Center Calendar,Rainbow Alley,Arts & Entertainment,Youth & Young Adult
ATTACH;FMTTYPE=image/jpeg:https://lgbtqcolorado.org/wp-content/uploads/2025/02/2026-RATarotGroup-16x9-1.jpg
GEO:39.7402674;-104.970419
X-APPLE-STRUCTURED-LOCATION;VALUE=URI;X-ADDRESS=The Center on Colfax 1301 E. Colfax Ave. Denver CO 80218 United States;X-APPLE-RADIUS=500;X-TITLE=1301 E. Colfax Ave.:geo:-104.970419,39.7402674
END:VEVENT
BEGIN:VEVENT
DTSTART;TZID=America/Denver:20270512T170000
DTEND;TZID=America/Denver:20270512T183000
DTSTAMP:20260425T142240
CREATED:20250207T193404Z
LAST-MODIFIED:20260210T203825Z
UID:10021319-1810141200-1810146600@lgbtqcolorado.org
SUMMARY:Tarot Workshop with Bridge the Gap Tarot
DESCRIPTION:
URL:https://lgbtqcolorado.org/event/rainbow-alley-tarot-workshop/2027-05-12/
LOCATION:The Center on Colfax\, 1301 E. Colfax Ave.\, Denver\, CO\, 80218\, United States
CATEGORIES:The Center Calendar,Rainbow Alley,Arts & Entertainment,Youth & Young Adult
ATTACH;FMTTYPE=image/jpeg:https://lgbtqcolorado.org/wp-content/uploads/2025/02/2026-RATarotGroup-16x9-1.jpg
GEO:39.7402674;-104.970419
X-APPLE-STRUCTURED-LOCATION;VALUE=URI;X-ADDRESS=The Center on Colfax 1301 E. Colfax Ave. Denver CO 80218 United States;X-APPLE-RADIUS=500;X-TITLE=1301 E. Colfax Ave.:geo:-104.970419,39.7402674
END:VEVENT
BEGIN:VEVENT
DTSTART;TZID=America/Denver:20270609T170000
DTEND;TZID=America/Denver:20270609T183000
DTSTAMP:20260425T142240
CREATED:20250207T193404Z
LAST-MODIFIED:20260210T203825Z
UID:10021320-1812560400-1812565800@lgbtqcolorado.org
SUMMARY:Tarot Workshop with Bridge the Gap Tarot
DESCRIPTION:
URL:https://lgbtqcolorado.org/event/rainbow-alley-tarot-workshop/2027-06-09/
LOCATION:The Center on Colfax\, 1301 E. Colfax Ave.\, Denver\, CO\, 80218\, United States
CATEGORIES:The Center Calendar,Rainbow Alley,Arts & Entertainment,Youth & Young Adult
ATTACH;FMTTYPE=image/jpeg:https://lgbtqcolorado.org/wp-content/uploads/2025/02/2026-RATarotGroup-16x9-1.jpg
GEO:39.7402674;-104.970419
X-APPLE-STRUCTURED-LOCATION;VALUE=URI;X-ADDRESS=The Center on Colfax 1301 E. Colfax Ave. Denver CO 80218 United States;X-APPLE-RADIUS=500;X-TITLE=1301 E. Colfax Ave.:geo:-104.970419,39.7402674
END:VEVENT
BEGIN:VEVENT
DTSTART;TZID=America/Denver:20270714T170000
DTEND;TZID=America/Denver:20270714T183000
DTSTAMP:20260425T142240
CREATED:20250207T193404Z
LAST-MODIFIED:20260210T203825Z
UID:10021321-1815584400-1815589800@lgbtqcolorado.org
SUMMARY:Tarot Workshop with Bridge the Gap Tarot
DESCRIPTION:
URL:https://lgbtqcolorado.org/event/rainbow-alley-tarot-workshop/2027-07-14/
LOCATION:The Center on Colfax\, 1301 E. Colfax Ave.\, Denver\, CO\, 80218\, United States
CATEGORIES:The Center Calendar,Rainbow Alley,Arts & Entertainment,Youth & Young Adult
ATTACH;FMTTYPE=image/jpeg:https://lgbtqcolorado.org/wp-content/uploads/2025/02/2026-RATarotGroup-16x9-1.jpg
GEO:39.7402674;-104.970419
X-APPLE-STRUCTURED-LOCATION;VALUE=URI;X-ADDRESS=The Center on Colfax 1301 E. Colfax Ave. Denver CO 80218 United States;X-APPLE-RADIUS=500;X-TITLE=1301 E. Colfax Ave.:geo:-104.970419,39.7402674
END:VEVENT
BEGIN:VEVENT
DTSTART;TZID=America/Denver:20270811T170000
DTEND;TZID=America/Denver:20270811T183000
DTSTAMP:20260425T142240
CREATED:20250207T193404Z
LAST-MODIFIED:20260210T203825Z
UID:10021322-1818003600-1818009000@lgbtqcolorado.org
SUMMARY:Tarot Workshop with Bridge the Gap Tarot
DESCRIPTION:
URL:https://lgbtqcolorado.org/event/rainbow-alley-tarot-workshop/2027-08-11/
LOCATION:The Center on Colfax\, 1301 E. Colfax Ave.\, Denver\, CO\, 80218\, United States
CATEGORIES:The Center Calendar,Rainbow Alley,Arts & Entertainment,Youth & Young Adult
ATTACH;FMTTYPE=image/jpeg:https://lgbtqcolorado.org/wp-content/uploads/2025/02/2026-RATarotGroup-16x9-1.jpg
GEO:39.7402674;-104.970419
X-APPLE-STRUCTURED-LOCATION;VALUE=URI;X-ADDRESS=The Center on Colfax 1301 E. Colfax Ave. Denver CO 80218 United States;X-APPLE-RADIUS=500;X-TITLE=1301 E. Colfax Ave.:geo:-104.970419,39.7402674
END:VEVENT
BEGIN:VEVENT
DTSTART;TZID=America/Denver:20270908T170000
DTEND;TZID=America/Denver:20270908T183000
DTSTAMP:20260425T142240
CREATED:20250207T193404Z
LAST-MODIFIED:20260210T203825Z
UID:10021323-1820422800-1820428200@lgbtqcolorado.org
SUMMARY:Tarot Workshop with Bridge the Gap Tarot
DESCRIPTION:
URL:https://lgbtqcolorado.org/event/rainbow-alley-tarot-workshop/2027-09-08/
LOCATION:The Center on Colfax\, 1301 E. Colfax Ave.\, Denver\, CO\, 80218\, United States
CATEGORIES:The Center Calendar,Rainbow Alley,Arts & Entertainment,Youth & Young Adult
ATTACH;FMTTYPE=image/jpeg:https://lgbtqcolorado.org/wp-content/uploads/2025/02/2026-RATarotGroup-16x9-1.jpg
GEO:39.7402674;-104.970419
X-APPLE-STRUCTURED-LOCATION;VALUE=URI;X-ADDRESS=The Center on Colfax 1301 E. Colfax Ave. Denver CO 80218 United States;X-APPLE-RADIUS=500;X-TITLE=1301 E. Colfax Ave.:geo:-104.970419,39.7402674
END:VEVENT
BEGIN:VEVENT
DTSTART;TZID=America/Denver:20271013T170000
DTEND;TZID=America/Denver:20271013T183000
DTSTAMP:20260425T142240
CREATED:20250207T193404Z
LAST-MODIFIED:20260210T203825Z
UID:10021324-1823446800-1823452200@lgbtqcolorado.org
SUMMARY:Tarot Workshop with Bridge the Gap Tarot
DESCRIPTION:
URL:https://lgbtqcolorado.org/event/rainbow-alley-tarot-workshop/2027-10-13/
LOCATION:The Center on Colfax\, 1301 E. Colfax Ave.\, Denver\, CO\, 80218\, United States
CATEGORIES:The Center Calendar,Rainbow Alley,Arts & Entertainment,Youth & Young Adult
ATTACH;FMTTYPE=image/jpeg:https://lgbtqcolorado.org/wp-content/uploads/2025/02/2026-RATarotGroup-16x9-1.jpg
GEO:39.7402674;-104.970419
X-APPLE-STRUCTURED-LOCATION;VALUE=URI;X-ADDRESS=The Center on Colfax 1301 E. Colfax Ave. Denver CO 80218 United States;X-APPLE-RADIUS=500;X-TITLE=1301 E. Colfax Ave.:geo:-104.970419,39.7402674
END:VEVENT
BEGIN:VEVENT
DTSTART;TZID=America/Denver:20271110T170000
DTEND;TZID=America/Denver:20271110T183000
DTSTAMP:20260425T142240
CREATED:20250207T193404Z
LAST-MODIFIED:20260210T203825Z
UID:10021325-1825866000-1825871400@lgbtqcolorado.org
SUMMARY:Tarot Workshop with Bridge the Gap Tarot
DESCRIPTION:
URL:https://lgbtqcolorado.org/event/rainbow-alley-tarot-workshop/2027-11-10/
LOCATION:The Center on Colfax\, 1301 E. Colfax Ave.\, Denver\, CO\, 80218\, United States
CATEGORIES:The Center Calendar,Rainbow Alley,Arts & Entertainment,Youth & Young Adult
ATTACH;FMTTYPE=image/jpeg:https://lgbtqcolorado.org/wp-content/uploads/2025/02/2026-RATarotGroup-16x9-1.jpg
GEO:39.7402674;-104.970419
X-APPLE-STRUCTURED-LOCATION;VALUE=URI;X-ADDRESS=The Center on Colfax 1301 E. Colfax Ave. Denver CO 80218 United States;X-APPLE-RADIUS=500;X-TITLE=1301 E. Colfax Ave.:geo:-104.970419,39.7402674
END:VEVENT
BEGIN:VEVENT
DTSTART;TZID=America/Denver:20271208T170000
DTEND;TZID=America/Denver:20271208T183000
DTSTAMP:20260425T142240
CREATED:20250207T193404Z
LAST-MODIFIED:20260210T203825Z
UID:10021326-1828285200-1828290600@lgbtqcolorado.org
SUMMARY:Tarot Workshop with Bridge the Gap Tarot
DESCRIPTION:
URL:https://lgbtqcolorado.org/event/rainbow-alley-tarot-workshop/2027-12-08/
LOCATION:The Center on Colfax\, 1301 E. Colfax Ave.\, Denver\, CO\, 80218\, United States
CATEGORIES:The Center Calendar,Rainbow Alley,Arts & Entertainment,Youth & Young Adult
ATTACH;FMTTYPE=image/jpeg:https://lgbtqcolorado.org/wp-content/uploads/2025/02/2026-RATarotGroup-16x9-1.jpg
GEO:39.7402674;-104.970419
X-APPLE-STRUCTURED-LOCATION;VALUE=URI;X-ADDRESS=The Center on Colfax 1301 E. Colfax Ave. Denver CO 80218 United States;X-APPLE-RADIUS=500;X-TITLE=1301 E. Colfax Ave.:geo:-104.970419,39.7402674
END:VEVENT
BEGIN:VEVENT
DTSTART;TZID=America/Denver:20280112T170000
DTEND;TZID=America/Denver:20280112T183000
DTSTAMP:20260425T142240
CREATED:20250207T193404Z
LAST-MODIFIED:20260210T203825Z
UID:10021327-1831309200-1831314600@lgbtqcolorado.org
SUMMARY:Tarot Workshop with Bridge the Gap Tarot
DESCRIPTION:
URL:https://lgbtqcolorado.org/event/rainbow-alley-tarot-workshop/2028-01-12/
LOCATION:The Center on Colfax\, 1301 E. Colfax Ave.\, Denver\, CO\, 80218\, United States
CATEGORIES:The Center Calendar,Rainbow Alley,Arts & Entertainment,Youth & Young Adult
ATTACH;FMTTYPE=image/jpeg:https://lgbtqcolorado.org/wp-content/uploads/2025/02/2026-RATarotGroup-16x9-1.jpg
GEO:39.7402674;-104.970419
X-APPLE-STRUCTURED-LOCATION;VALUE=URI;X-ADDRESS=The Center on Colfax 1301 E. Colfax Ave. Denver CO 80218 United States;X-APPLE-RADIUS=500;X-TITLE=1301 E. Colfax Ave.:geo:-104.970419,39.7402674
END:VEVENT
BEGIN:VEVENT
DTSTART;TZID=America/Denver:20280209T170000
DTEND;TZID=America/Denver:20280209T183000
DTSTAMP:20260425T142240
CREATED:20250207T193404Z
LAST-MODIFIED:20260210T203825Z
UID:10021328-1833728400-1833733800@lgbtqcolorado.org
SUMMARY:Tarot Workshop with Bridge the Gap Tarot
DESCRIPTION:
URL:https://lgbtqcolorado.org/event/rainbow-alley-tarot-workshop/2028-02-09/
LOCATION:The Center on Colfax\, 1301 E. Colfax Ave.\, Denver\, CO\, 80218\, United States
CATEGORIES:The Center Calendar,Rainbow Alley,Arts & Entertainment,Youth & Young Adult
ATTACH;FMTTYPE=image/jpeg:https://lgbtqcolorado.org/wp-content/uploads/2025/02/2026-RATarotGroup-16x9-1.jpg
GEO:39.7402674;-104.970419
X-APPLE-STRUCTURED-LOCATION;VALUE=URI;X-ADDRESS=The Center on Colfax 1301 E. Colfax Ave. Denver CO 80218 United States;X-APPLE-RADIUS=500;X-TITLE=1301 E. Colfax Ave.:geo:-104.970419,39.7402674
END:VEVENT
BEGIN:VEVENT
DTSTART;TZID=America/Denver:20280308T170000
DTEND;TZID=America/Denver:20280308T183000
DTSTAMP:20260425T142240
CREATED:20250207T193404Z
LAST-MODIFIED:20260210T203825Z
UID:10021329-1836147600-1836153000@lgbtqcolorado.org
SUMMARY:Tarot Workshop with Bridge the Gap Tarot
DESCRIPTION:
URL:https://lgbtqcolorado.org/event/rainbow-alley-tarot-workshop/2028-03-08/
LOCATION:The Center on Colfax\, 1301 E. Colfax Ave.\, Denver\, CO\, 80218\, United States
CATEGORIES:The Center Calendar,Rainbow Alley,Arts & Entertainment,Youth & Young Adult
ATTACH;FMTTYPE=image/jpeg:https://lgbtqcolorado.org/wp-content/uploads/2025/02/2026-RATarotGroup-16x9-1.jpg
GEO:39.7402674;-104.970419
X-APPLE-STRUCTURED-LOCATION;VALUE=URI;X-ADDRESS=The Center on Colfax 1301 E. Colfax Ave. Denver CO 80218 United States;X-APPLE-RADIUS=500;X-TITLE=1301 E. Colfax Ave.:geo:-104.970419,39.7402674
END:VEVENT
BEGIN:VEVENT
DTSTART;TZID=America/Denver:20280412T170000
DTEND;TZID=America/Denver:20280412T183000
DTSTAMP:20260425T142240
CREATED:20250207T193404Z
LAST-MODIFIED:20260210T203825Z
UID:10021330-1839171600-1839177000@lgbtqcolorado.org
SUMMARY:Tarot Workshop with Bridge the Gap Tarot
DESCRIPTION:
URL:https://lgbtqcolorado.org/event/rainbow-alley-tarot-workshop/2028-04-12/
LOCATION:The Center on Colfax\, 1301 E. Colfax Ave.\, Denver\, CO\, 80218\, United States
CATEGORIES:The Center Calendar,Rainbow Alley,Arts & Entertainment,Youth & Young Adult
ATTACH;FMTTYPE=image/jpeg:https://lgbtqcolorado.org/wp-content/uploads/2025/02/2026-RATarotGroup-16x9-1.jpg
GEO:39.7402674;-104.970419
X-APPLE-STRUCTURED-LOCATION;VALUE=URI;X-ADDRESS=The Center on Colfax 1301 E. Colfax Ave. Denver CO 80218 United States;X-APPLE-RADIUS=500;X-TITLE=1301 E. Colfax Ave.:geo:-104.970419,39.7402674
END:VEVENT
BEGIN:VEVENT
DTSTART;TZID=America/Denver:20280510T170000
DTEND;TZID=America/Denver:20280510T183000
DTSTAMP:20260425T142240
CREATED:20250207T193404Z
LAST-MODIFIED:20260210T203825Z
UID:10021331-1841590800-1841596200@lgbtqcolorado.org
SUMMARY:Tarot Workshop with Bridge the Gap Tarot
DESCRIPTION:
URL:https://lgbtqcolorado.org/event/rainbow-alley-tarot-workshop/2028-05-10/
LOCATION:The Center on Colfax\, 1301 E. Colfax Ave.\, Denver\, CO\, 80218\, United States
CATEGORIES:The Center Calendar,Rainbow Alley,Arts & Entertainment,Youth & Young Adult
ATTACH;FMTTYPE=image/jpeg:https://lgbtqcolorado.org/wp-content/uploads/2025/02/2026-RATarotGroup-16x9-1.jpg
GEO:39.7402674;-104.970419
X-APPLE-STRUCTURED-LOCATION;VALUE=URI;X-ADDRESS=The Center on Colfax 1301 E. Colfax Ave. Denver CO 80218 United States;X-APPLE-RADIUS=500;X-TITLE=1301 E. Colfax Ave.:geo:-104.970419,39.7402674
END:VEVENT
BEGIN:VEVENT
DTSTART;TZID=America/Denver:20280614T170000
DTEND;TZID=America/Denver:20280614T183000
DTSTAMP:20260425T142240
CREATED:20250207T193404Z
LAST-MODIFIED:20260210T203825Z
UID:10021332-1844614800-1844620200@lgbtqcolorado.org
SUMMARY:Tarot Workshop with Bridge the Gap Tarot
DESCRIPTION:
URL:https://lgbtqcolorado.org/event/rainbow-alley-tarot-workshop/2028-06-14/
LOCATION:The Center on Colfax\, 1301 E. Colfax Ave.\, Denver\, CO\, 80218\, United States
CATEGORIES:The Center Calendar,Rainbow Alley,Arts & Entertainment,Youth & Young Adult
ATTACH;FMTTYPE=image/jpeg:https://lgbtqcolorado.org/wp-content/uploads/2025/02/2026-RATarotGroup-16x9-1.jpg
GEO:39.7402674;-104.970419
X-APPLE-STRUCTURED-LOCATION;VALUE=URI;X-ADDRESS=The Center on Colfax 1301 E. Colfax Ave. Denver CO 80218 United States;X-APPLE-RADIUS=500;X-TITLE=1301 E. Colfax Ave.:geo:-104.970419,39.7402674
END:VEVENT
BEGIN:VEVENT
DTSTART;TZID=America/Denver:20280712T170000
DTEND;TZID=America/Denver:20280712T183000
DTSTAMP:20260425T142240
CREATED:20250207T193404Z
LAST-MODIFIED:20260210T203825Z
UID:10021333-1847034000-1847039400@lgbtqcolorado.org
SUMMARY:Tarot Workshop with Bridge the Gap Tarot
DESCRIPTION:
URL:https://lgbtqcolorado.org/event/rainbow-alley-tarot-workshop/2028-07-12/
LOCATION:The Center on Colfax\, 1301 E. Colfax Ave.\, Denver\, CO\, 80218\, United States
CATEGORIES:The Center Calendar,Rainbow Alley,Arts & Entertainment,Youth & Young Adult
ATTACH;FMTTYPE=image/jpeg:https://lgbtqcolorado.org/wp-content/uploads/2025/02/2026-RATarotGroup-16x9-1.jpg
GEO:39.7402674;-104.970419
X-APPLE-STRUCTURED-LOCATION;VALUE=URI;X-ADDRESS=The Center on Colfax 1301 E. Colfax Ave. Denver CO 80218 United States;X-APPLE-RADIUS=500;X-TITLE=1301 E. Colfax Ave.:geo:-104.970419,39.7402674
END:VEVENT
BEGIN:VEVENT
DTSTART;TZID=America/Denver:20280809T170000
DTEND;TZID=America/Denver:20280809T183000
DTSTAMP:20260425T142240
CREATED:20250207T193404Z
LAST-MODIFIED:20260210T203825Z
UID:10021334-1849453200-1849458600@lgbtqcolorado.org
SUMMARY:Tarot Workshop with Bridge the Gap Tarot
DESCRIPTION:
URL:https://lgbtqcolorado.org/event/rainbow-alley-tarot-workshop/2028-08-09/
LOCATION:The Center on Colfax\, 1301 E. Colfax Ave.\, Denver\, CO\, 80218\, United States
CATEGORIES:The Center Calendar,Rainbow Alley,Arts & Entertainment,Youth & Young Adult
ATTACH;FMTTYPE=image/jpeg:https://lgbtqcolorado.org/wp-content/uploads/2025/02/2026-RATarotGroup-16x9-1.jpg
GEO:39.7402674;-104.970419
X-APPLE-STRUCTURED-LOCATION;VALUE=URI;X-ADDRESS=The Center on Colfax 1301 E. Colfax Ave. Denver CO 80218 United States;X-APPLE-RADIUS=500;X-TITLE=1301 E. Colfax Ave.:geo:-104.970419,39.7402674
END:VEVENT
BEGIN:VEVENT
DTSTART;TZID=America/Denver:20280913T170000
DTEND;TZID=America/Denver:20280913T183000
DTSTAMP:20260425T142240
CREATED:20250207T193404Z
LAST-MODIFIED:20260210T203825Z
UID:10021335-1852477200-1852482600@lgbtqcolorado.org
SUMMARY:Tarot Workshop with Bridge the Gap Tarot
DESCRIPTION:
URL:https://lgbtqcolorado.org/event/rainbow-alley-tarot-workshop/2028-09-13/
LOCATION:The Center on Colfax\, 1301 E. Colfax Ave.\, Denver\, CO\, 80218\, United States
CATEGORIES:The Center Calendar,Rainbow Alley,Arts & Entertainment,Youth & Young Adult
ATTACH;FMTTYPE=image/jpeg:https://lgbtqcolorado.org/wp-content/uploads/2025/02/2026-RATarotGroup-16x9-1.jpg
GEO:39.7402674;-104.970419
X-APPLE-STRUCTURED-LOCATION;VALUE=URI;X-ADDRESS=The Center on Colfax 1301 E. Colfax Ave. Denver CO 80218 United States;X-APPLE-RADIUS=500;X-TITLE=1301 E. Colfax Ave.:geo:-104.970419,39.7402674
END:VEVENT
BEGIN:VEVENT
DTSTART;TZID=America/Denver:20281011T170000
DTEND;TZID=America/Denver:20281011T183000
DTSTAMP:20260425T142240
CREATED:20250207T193404Z
LAST-MODIFIED:20260210T203825Z
UID:10021336-1854896400-1854901800@lgbtqcolorado.org
SUMMARY:Tarot Workshop with Bridge the Gap Tarot
DESCRIPTION:
URL:https://lgbtqcolorado.org/event/rainbow-alley-tarot-workshop/2028-10-11/
LOCATION:The Center on Colfax\, 1301 E. Colfax Ave.\, Denver\, CO\, 80218\, United States
CATEGORIES:The Center Calendar,Rainbow Alley,Arts & Entertainment,Youth & Young Adult
ATTACH;FMTTYPE=image/jpeg:https://lgbtqcolorado.org/wp-content/uploads/2025/02/2026-RATarotGroup-16x9-1.jpg
GEO:39.7402674;-104.970419
X-APPLE-STRUCTURED-LOCATION;VALUE=URI;X-ADDRESS=The Center on Colfax 1301 E. Colfax Ave. Denver CO 80218 United States;X-APPLE-RADIUS=500;X-TITLE=1301 E. Colfax Ave.:geo:-104.970419,39.7402674
END:VEVENT
END:VCALENDAR