BEGIN:VCALENDAR
VERSION:2.0
PRODID:-//The Center on Colfax - LGBTQ Colorado - ECPv6.15.20//NONSGML v1.0//EN
CALSCALE:GREGORIAN
METHOD:PUBLISH
X-WR-CALNAME:The Center on Colfax - LGBTQ Colorado
X-ORIGINAL-URL:https://lgbtqcolorado.org
X-WR-CALDESC:Events for The Center on Colfax - LGBTQ Colorado
REFRESH-INTERVAL;VALUE=DURATION:PT1H
X-Robots-Tag:noindex
X-PUBLISHED-TTL:PT1H
BEGIN:VTIMEZONE
TZID:America/Denver
BEGIN:DAYLIGHT
TZOFFSETFROM:-0700
TZOFFSETTO:-0600
TZNAME:MDT
DTSTART:20260308T090000
END:DAYLIGHT
BEGIN:STANDARD
TZOFFSETFROM:-0600
TZOFFSETTO:-0700
TZNAME:MST
DTSTART:20261101T080000
END:STANDARD
BEGIN:DAYLIGHT
TZOFFSETFROM:-0700
TZOFFSETTO:-0600
TZNAME:MDT
DTSTART:20270314T090000
END:DAYLIGHT
BEGIN:STANDARD
TZOFFSETFROM:-0600
TZOFFSETTO:-0700
TZNAME:MST
DTSTART:20271107T080000
END:STANDARD
BEGIN:DAYLIGHT
TZOFFSETFROM:-0700
TZOFFSETTO:-0600
TZNAME:MDT
DTSTART:20280312T090000
END:DAYLIGHT
BEGIN:STANDARD
TZOFFSETFROM:-0600
TZOFFSETTO:-0700
TZNAME:MST
DTSTART:20281105T080000
END:STANDARD
END:VTIMEZONE
BEGIN:VEVENT
DTSTART;TZID=America/Denver:20270117T113000
DTEND;TZID=America/Denver:20270117T130000
DTSTAMP:20260423T062139
CREATED:20250818T153508Z
LAST-MODIFIED:20250818T155138Z
UID:10025719-1800185400-1800190800@lgbtqcolorado.org
SUMMARY:Rainbow Family Storytime at the Denver Public Library
DESCRIPTION:Fun and engaging activities to build community and celebrate LGBTQ+ families \nAt the Central Library in Gates Meeting Room (5th Floor - east side of building) \nFor children 0-8 years and their caregivers. \nActivities include: \n\n30-Minute Storytime\nPlaytime\nSnacks and Socializing\n\nParking is free at meters on Sundays!
URL:https://lgbtqcolorado.org/event/rainbow-family-storytime-denver-public-library/2027-01-17/
LOCATION:Denver Public Library: Central Library\, 10 W 14th Ave\, Denver\, CO\, 80204\, United States
CATEGORIES:Community Events
ATTACH;FMTTYPE=image/jpeg:https://lgbtqcolorado.org/wp-content/uploads/2025/08/Rainbow-Family-Storytime-Flyer-1.jpg
ORGANIZER;CN="Denver Public Library":MAILTO:info@denverlibrary.org
END:VEVENT
BEGIN:VEVENT
DTSTART;TZID=America/Denver:20270126T183000
DTEND;TZID=America/Denver:20270126T200000
DTSTAMP:20260423T062139
CREATED:20260203T225802Z
LAST-MODIFIED:20260203T230321Z
UID:10031793-1800988200-1800993600@lgbtqcolorado.org
SUMMARY:Allies of Trans People Support Group
DESCRIPTION:How can I be a better ally to trans people?\nTogether with a facilitator in this support group\, we celebrate allyship\, provide education\, support safe conversations\, and promote human rights. We welcome our allies\, old and new\, to join us in learning how to best support their trans family members\, friends\, and colleagues. \nWhen: Every 4th Thursday\, 6:30 - 8:00 PM\nWhere: 1301 E. Colfax Ave. Denver\, CO 80218
URL:https://lgbtqcolorado.org/event/allies-of-trans-people-support-group/2027-01-26/
LOCATION:The Center on Colfax\, 1301 E. Colfax Ave.\, Denver\, CO\, 80218\, United States
CATEGORIES:The Center Calendar,Transgender Program,Transgender
ATTACH;FMTTYPE=image/jpeg:https://lgbtqcolorado.org/wp-content/uploads/2026/02/2026-TransAllySupport-Light-16x9-1.jpg
GEO:39.7402674;-104.970419
X-APPLE-STRUCTURED-LOCATION;VALUE=URI;X-ADDRESS=The Center on Colfax 1301 E. Colfax Ave. Denver CO 80218 United States;X-APPLE-RADIUS=500;X-TITLE=1301 E. Colfax Ave.:geo:-104.970419,39.7402674
END:VEVENT
BEGIN:VEVENT
DTSTART;TZID=America/Denver:20270127T080000
DTEND;TZID=America/Denver:20270127T170000
DTSTAMP:20260423T062139
CREATED:20250206T214306Z
LAST-MODIFIED:20250212T203208Z
UID:10021237-1801036800-1801069200@lgbtqcolorado.org
SUMMARY:Queer Meditation Group
DESCRIPTION:Join us the fourth Wednesday of the month from 6:30-8pm for a Queer meditation practice in the Thich Nhat Hanh Plum Village mindfulness lineage. This is sponsored by the Denver Eyes of Compassion Sangha and Wake Up Denver Young Adult Sangha and welcomes all members of the LGBTQIA+ community. No prior meditation experience is needed. This practice is offered freely\, and for those able\, we appreciate a suggested donation of $5 to help cover space rental. \nOur general format for the monthly practice is: \n6:30pm - Welcome and introductions \n15 - 20 minute Guided Meditation \n10 Minute Optional Walking Meditation \n10 Minute Dharma Reading \n25 Minute Deep Listening & Loving Speech \n8:30pm Dedication of Merit and Closing \nOptional Tea Time!
URL:https://lgbtqcolorado.org/event/queer-meditation-group/2027-01-27/
LOCATION:University Park Methodist Church\, 2180 S. University Blvd\, Denver\, 80211
CATEGORIES:Community Events,Resources
ATTACH;FMTTYPE=image/jpeg:https://lgbtqcolorado.org/wp-content/uploads/2025/02/Flyer_QueerMeditationGroup_Rainbow.jpg
ORGANIZER;CN="Linds West Roberts":MAILTO:linds@gatherthewild.love
END:VEVENT
BEGIN:VEVENT
DTSTART;TZID=America/Denver:20270128T160000
DTEND;TZID=America/Denver:20270128T180000
DTSTAMP:20260423T062139
CREATED:20260122T225736Z
LAST-MODIFIED:20260318T162952Z
UID:10031610-1801152000-1801159200@lgbtqcolorado.org
SUMMARY:Rainbow Alley's DnD Club
DESCRIPTION:
URL:https://lgbtqcolorado.org/event/rainbow-alley-dnd-2/2027-01-28/
LOCATION:Rainbow Alley (The Center on Colfax)\, 1301 E. Colfax Ave.\, Denver\, CO\, 80218\, United States
CATEGORIES:The Center Calendar,Rainbow Alley,Arts & Entertainment,Social & Nightlife,Youth & Young Adult
ATTACH;FMTTYPE=image/jpeg:https://lgbtqcolorado.org/wp-content/uploads/2026/01/2026-RainbowAlleyDND-16x9-1.jpg
GEO:39.7402674;-104.970419
X-APPLE-STRUCTURED-LOCATION;VALUE=URI;X-ADDRESS=Rainbow Alley (The Center on Colfax) 1301 E. Colfax Ave. Denver CO 80218 United States;X-APPLE-RADIUS=500;X-TITLE=1301 E. Colfax Ave.:geo:-104.970419,39.7402674
END:VEVENT
BEGIN:VEVENT
DTSTART;TZID=America/Denver:20270128T200000
DTEND;TZID=America/Denver:20270128T220000
DTSTAMP:20260423T062139
CREATED:20260410T154443Z
LAST-MODIFIED:20260410T154443Z
UID:10035770-1801166400-1801173600@lgbtqcolorado.org
SUMMARY:Read the Room: A Drag + Standup Show
DESCRIPTION:Giggle and gag at Read the Room\, a standup-meets-drag comedy show where sharp jokes and sharper looks combine to create magical chaos. Upstairs at X Bar\, expect quick wit\, big energy\, and delightfully off-script moments. Come ready to laugh\, tip\, and be at the center of it all—because at Read The Room YOU make the action happen.
URL:https://lgbtqcolorado.org/event/read-the-room-a-drag-standup-show-2/2027-01-28/
LOCATION:X BAR\, 695 E Colfax\, Denver\, 820203
CATEGORIES:Community Events
ATTACH;FMTTYPE=image/jpeg:https://lgbtqcolorado.org/wp-content/uploads/2026/04/Shotgun-Graphic.jpg
ORGANIZER;CN="Marina Wool":MAILTO:mw@marinawool.com
END:VEVENT
BEGIN:VEVENT
DTSTART;VALUE=DATE:20270612
DTEND;VALUE=DATE:20270615
DTSTAMP:20260423T062139
CREATED:20250325T151419Z
LAST-MODIFIED:20250325T151419Z
UID:10022909-1812769200-1812941999@lgbtqcolorado.org
SUMMARY:Pikes Peak Pride Festival & Parade
DESCRIPTION:Pikes Peak Pride Festival & Parade is a two-day community event in downtown Colorado Springs celebrating achievements of the lesbian\, gay\, bisexual and transgender (LGBTQ+) communities in the Pikes Peak region. \n\nTens of thousands of visitors will gather from Colorado and the Pikes Peak Region.  Two full days of festival activities to include over 150 vendors\, a cocktail lounge\, youth square and over 25 live entertainment acts.\n\nFestival: Saturday & Sunday @ 10:00am - 7:00pm\nParade: Sunday @ 11:00am
URL:https://lgbtqcolorado.org/event/pikes-peak-pride-festival-parade/2027-06-12/
LOCATION:Alamo Square Park\, 215 S Tejon St\, Colorado Springs\, 80903
CATEGORIES:Community Events
ATTACH;FMTTYPE=image/jpeg:https://lgbtqcolorado.org/wp-content/uploads/2025/03/PPP.Stacked_FullColor_3D.1500x763.jpg
ORGANIZER;CN="Pikes Peak Pride":MAILTO:info@pikespeakpride.org
END:VEVENT
END:VCALENDAR