BEGIN:VCALENDAR
VERSION:2.0
PRODID:-//The Center on Colfax - LGBTQ Colorado - ECPv6.15.20//NONSGML v1.0//EN
CALSCALE:GREGORIAN
METHOD:PUBLISH
X-ORIGINAL-URL:https://lgbtqcolorado.org
X-WR-CALDESC:Events for The Center on Colfax - LGBTQ Colorado
REFRESH-INTERVAL;VALUE=DURATION:PT1H
X-Robots-Tag:noindex
X-PUBLISHED-TTL:PT1H
BEGIN:VTIMEZONE
TZID:America/Denver
BEGIN:DAYLIGHT
TZOFFSETFROM:-0700
TZOFFSETTO:-0600
TZNAME:MDT
DTSTART:20240310T090000
END:DAYLIGHT
BEGIN:STANDARD
TZOFFSETFROM:-0600
TZOFFSETTO:-0700
TZNAME:MST
DTSTART:20241103T080000
END:STANDARD
BEGIN:DAYLIGHT
TZOFFSETFROM:-0700
TZOFFSETTO:-0600
TZNAME:MDT
DTSTART:20250309T090000
END:DAYLIGHT
BEGIN:STANDARD
TZOFFSETFROM:-0600
TZOFFSETTO:-0700
TZNAME:MST
DTSTART:20251102T080000
END:STANDARD
BEGIN:DAYLIGHT
TZOFFSETFROM:-0700
TZOFFSETTO:-0600
TZNAME:MDT
DTSTART:20260308T090000
END:DAYLIGHT
BEGIN:STANDARD
TZOFFSETFROM:-0600
TZOFFSETTO:-0700
TZNAME:MST
DTSTART:20261101T080000
END:STANDARD
END:VTIMEZONE
BEGIN:VEVENT
DTSTART;TZID=America/Denver:20251202T160000
DTEND;TZID=America/Denver:20251202T190000
DTSTAMP:20260425T092624
CREATED:20230123T230901Z
LAST-MODIFIED:20250722T161741Z
UID:10009810-1764691200-1764702000@lgbtqcolorado.org
SUMMARY:Young Adult Drop In Hours
DESCRIPTION:Our Young Adult Drop In Hours are a casual space for LGBTQ+ young adults to come build community\, socialize\, engage with educational workshops\, and participate in community events. Young Adult Drop In Hours include activities such as cooking classes\, guest speakers\, occasional field trips\, resources\, and more. \nDates: Every Tuesday \nTime: 4:00 - 7:00 PM \nLocation: The Center on Colfax - 1301 E. Colfax Ave\, Denver\, CO\, 80218 \nAges: 18-24 years old \nAny questions? Please contact Nick at nmassey@lgbtqcolorado.org
URL:https://lgbtqcolorado.org/event/young-adult-drop-in/2025-12-02/
LOCATION:The Center on Colfax\, 1301 E. Colfax Ave.\, Denver\, CO\, 80218\, United States
CATEGORIES:Young Adults and Adults Program,The Center Calendar,Youth & Young Adult
ATTACH;FMTTYPE=image/jpeg:https://lgbtqcolorado.org/wp-content/uploads/2023/01/2025-YoungAdultDropIn-16x9-V2.jpg
GEO:39.7402674;-104.970419
X-APPLE-STRUCTURED-LOCATION;VALUE=URI;X-ADDRESS=The Center on Colfax 1301 E. Colfax Ave. Denver CO 80218 United States;X-APPLE-RADIUS=500;X-TITLE=1301 E. Colfax Ave.:geo:-104.970419,39.7402674
END:VEVENT
BEGIN:VEVENT
DTSTART;TZID=America/Denver:20251209T160000
DTEND;TZID=America/Denver:20251209T190000
DTSTAMP:20260425T092624
CREATED:20230123T230901Z
LAST-MODIFIED:20250722T161741Z
UID:10009811-1765296000-1765306800@lgbtqcolorado.org
SUMMARY:Young Adult Drop In Hours
DESCRIPTION:Our Young Adult Drop In Hours are a casual space for LGBTQ+ young adults to come build community\, socialize\, engage with educational workshops\, and participate in community events. Young Adult Drop In Hours include activities such as cooking classes\, guest speakers\, occasional field trips\, resources\, and more. \nDates: Every Tuesday \nTime: 4:00 - 7:00 PM \nLocation: The Center on Colfax - 1301 E. Colfax Ave\, Denver\, CO\, 80218 \nAges: 18-24 years old \nAny questions? Please contact Nick at nmassey@lgbtqcolorado.org
URL:https://lgbtqcolorado.org/event/young-adult-drop-in/2025-12-09/
LOCATION:The Center on Colfax\, 1301 E. Colfax Ave.\, Denver\, CO\, 80218\, United States
CATEGORIES:Young Adults and Adults Program,The Center Calendar,Youth & Young Adult
ATTACH;FMTTYPE=image/jpeg:https://lgbtqcolorado.org/wp-content/uploads/2023/01/2025-YoungAdultDropIn-16x9-V2.jpg
GEO:39.7402674;-104.970419
X-APPLE-STRUCTURED-LOCATION;VALUE=URI;X-ADDRESS=The Center on Colfax 1301 E. Colfax Ave. Denver CO 80218 United States;X-APPLE-RADIUS=500;X-TITLE=1301 E. Colfax Ave.:geo:-104.970419,39.7402674
END:VEVENT
BEGIN:VEVENT
DTSTART;TZID=America/Denver:20251209T173000
DTEND;TZID=America/Denver:20251209T183000
DTSTAMP:20260425T092624
CREATED:20250924T204510Z
LAST-MODIFIED:20250924T204510Z
UID:10026421-1765301400-1765305000@lgbtqcolorado.org
SUMMARY:Creative Meditation with Quána Madison - Young Adults and Adults Program
DESCRIPTION:
URL:https://lgbtqcolorado.org/event/meditation-quana-madison-yaa/2025-12-09/
LOCATION:The Center on Colfax\, 1301 E. Colfax Ave.\, Denver\, CO\, 80218\, United States
CATEGORIES:Young Adults and Adults Program,The Center Calendar,Health & Fitness,Youth & Young Adult
ATTACH;FMTTYPE=image/jpeg:https://lgbtqcolorado.org/wp-content/uploads/2025/09/2025-CreativeMeditationWithQuanaMadison-16x9-1.jpg
GEO:39.7402674;-104.970419
X-APPLE-STRUCTURED-LOCATION;VALUE=URI;X-ADDRESS=The Center on Colfax 1301 E. Colfax Ave. Denver CO 80218 United States;X-APPLE-RADIUS=500;X-TITLE=1301 E. Colfax Ave.:geo:-104.970419,39.7402674
END:VEVENT
BEGIN:VEVENT
DTSTART;TZID=America/Denver:20251216T160000
DTEND;TZID=America/Denver:20251216T190000
DTSTAMP:20260425T092624
CREATED:20230123T230901Z
LAST-MODIFIED:20250722T161741Z
UID:10009812-1765900800-1765911600@lgbtqcolorado.org
SUMMARY:Young Adult Drop In Hours
DESCRIPTION:Our Young Adult Drop In Hours are a casual space for LGBTQ+ young adults to come build community\, socialize\, engage with educational workshops\, and participate in community events. Young Adult Drop In Hours include activities such as cooking classes\, guest speakers\, occasional field trips\, resources\, and more. \nDates: Every Tuesday \nTime: 4:00 - 7:00 PM \nLocation: The Center on Colfax - 1301 E. Colfax Ave\, Denver\, CO\, 80218 \nAges: 18-24 years old \nAny questions? Please contact Nick at nmassey@lgbtqcolorado.org
URL:https://lgbtqcolorado.org/event/young-adult-drop-in/2025-12-16/
LOCATION:The Center on Colfax\, 1301 E. Colfax Ave.\, Denver\, CO\, 80218\, United States
CATEGORIES:Young Adults and Adults Program,The Center Calendar,Youth & Young Adult
ATTACH;FMTTYPE=image/jpeg:https://lgbtqcolorado.org/wp-content/uploads/2023/01/2025-YoungAdultDropIn-16x9-V2.jpg
GEO:39.7402674;-104.970419
X-APPLE-STRUCTURED-LOCATION;VALUE=URI;X-ADDRESS=The Center on Colfax 1301 E. Colfax Ave. Denver CO 80218 United States;X-APPLE-RADIUS=500;X-TITLE=1301 E. Colfax Ave.:geo:-104.970419,39.7402674
END:VEVENT
BEGIN:VEVENT
DTSTART;TZID=America/Denver:20251223T160000
DTEND;TZID=America/Denver:20251223T190000
DTSTAMP:20260425T092624
CREATED:20230123T230901Z
LAST-MODIFIED:20250722T161741Z
UID:10009813-1766505600-1766516400@lgbtqcolorado.org
SUMMARY:Young Adult Drop In Hours
DESCRIPTION:Our Young Adult Drop In Hours are a casual space for LGBTQ+ young adults to come build community\, socialize\, engage with educational workshops\, and participate in community events. Young Adult Drop In Hours include activities such as cooking classes\, guest speakers\, occasional field trips\, resources\, and more. \nDates: Every Tuesday \nTime: 4:00 - 7:00 PM \nLocation: The Center on Colfax - 1301 E. Colfax Ave\, Denver\, CO\, 80218 \nAges: 18-24 years old \nAny questions? Please contact Nick at nmassey@lgbtqcolorado.org
URL:https://lgbtqcolorado.org/event/young-adult-drop-in/2025-12-23/
LOCATION:The Center on Colfax\, 1301 E. Colfax Ave.\, Denver\, CO\, 80218\, United States
CATEGORIES:Young Adults and Adults Program,The Center Calendar,Youth & Young Adult
ATTACH;FMTTYPE=image/jpeg:https://lgbtqcolorado.org/wp-content/uploads/2023/01/2025-YoungAdultDropIn-16x9-V2.jpg
GEO:39.7402674;-104.970419
X-APPLE-STRUCTURED-LOCATION;VALUE=URI;X-ADDRESS=The Center on Colfax 1301 E. Colfax Ave. Denver CO 80218 United States;X-APPLE-RADIUS=500;X-TITLE=1301 E. Colfax Ave.:geo:-104.970419,39.7402674
END:VEVENT
END:VCALENDAR