BEGIN:VCALENDAR
VERSION:2.0
PRODID:-//The Center on Colfax - LGBTQ Colorado - ECPv6.15.20//NONSGML v1.0//EN
CALSCALE:GREGORIAN
METHOD:PUBLISH
X-ORIGINAL-URL:https://lgbtqcolorado.org
X-WR-CALDESC:Events for The Center on Colfax - LGBTQ Colorado
REFRESH-INTERVAL;VALUE=DURATION:PT1H
X-Robots-Tag:noindex
X-PUBLISHED-TTL:PT1H
BEGIN:VTIMEZONE
TZID:America/Denver
BEGIN:DAYLIGHT
TZOFFSETFROM:-0700
TZOFFSETTO:-0600
TZNAME:MDT
DTSTART:20240310T090000
END:DAYLIGHT
BEGIN:STANDARD
TZOFFSETFROM:-0600
TZOFFSETTO:-0700
TZNAME:MST
DTSTART:20241103T080000
END:STANDARD
BEGIN:DAYLIGHT
TZOFFSETFROM:-0700
TZOFFSETTO:-0600
TZNAME:MDT
DTSTART:20250309T090000
END:DAYLIGHT
BEGIN:STANDARD
TZOFFSETFROM:-0600
TZOFFSETTO:-0700
TZNAME:MST
DTSTART:20251102T080000
END:STANDARD
BEGIN:DAYLIGHT
TZOFFSETFROM:-0700
TZOFFSETTO:-0600
TZNAME:MDT
DTSTART:20260308T090000
END:DAYLIGHT
BEGIN:STANDARD
TZOFFSETFROM:-0600
TZOFFSETTO:-0700
TZNAME:MST
DTSTART:20261101T080000
END:STANDARD
END:VTIMEZONE
BEGIN:VEVENT
DTSTART;TZID=America/Denver:20251214T110000
DTEND;TZID=America/Denver:20251214T150000
DTSTAMP:20260423T170451
CREATED:20251108T002145Z
LAST-MODIFIED:20251205T174335Z
UID:10027974-1765710000-1765724400@lgbtqcolorado.org
SUMMARY:2025 Holigay
DESCRIPTION:Get excited!Youth and their loved ones are invited to celebrate the winter holiday season with a day of arts and crafts\, food\, and gifts! \nWe are so excited to offer the following at Holigay: \n\nArtsy Tots (11 a.m. to 12 p.m.) Get your little artists' curiosity flowing and prepare to get messy as each tot creates a melty snowman\nArt Garage: Join our Art Garage staff in imagining and creating your very own magical\, miniature winter wonderland!\nPFLAG Coffee Table Gathering: PFLAG will be hosting a cozy coffee table gathering\, a drop-in space for parents and caregivers to connect\, recharge\, and meet others who are walking similar journeys in support of their LGBTQIA+ loved ones.\n\nAges: All Ages \nLocation: Town Hall Collaborative\, 525 Santa Fe Dr\, Denver\, CO 80204 \nDate: Sunday\, December 14  \nTime: 11:00 AM - 3:00 PM
URL:https://lgbtqcolorado.org/event/2025-holigay/
LOCATION:Town Hall Collaborative\, 525 Santa Fe\, Denver\, CO\, 80204\, United States
CATEGORIES:Community Events,The Center Calendar,Rainbow Alley,Arts & Entertainment
ATTACH;FMTTYPE=image/jpeg:https://lgbtqcolorado.org/wp-content/uploads/2025/11/2025-12-05-Holiday-16x9-1.jpg
END:VEVENT
BEGIN:VEVENT
DTSTART;TZID=America/Denver:20251217T160000
DTEND;TZID=America/Denver:20251217T190000
DTSTAMP:20260423T170451
CREATED:20250516T171925Z
LAST-MODIFIED:20250516T171925Z
UID:10023795-1765987200-1765998000@lgbtqcolorado.org
SUMMARY:Rainbow Alley Drop-In
DESCRIPTION:Ages 10-17  \nTours available upon request\, outside of drop in hours. Contact Vincent at vwong@lgbtqcolorado.org for more information. \nRainbow Alley Drop-In is a safe\, brave space where LGBTQ youth and their allies find support and acceptance. Drop-in programming consists of activities\, community building\, referrals\, and resources all in a warm and welcoming environment. \nJoin us every Wednesday and Thursday from 4:00 - 7:00 PM! Newcomers – join us during the first drop-in of each month for an introduction meeting and activity.
URL:https://lgbtqcolorado.org/event/rainbow-alley-drop-in-wednesdays/2025-12-17/
LOCATION:The Center on Colfax\, 1301 E. Colfax Ave.\, Denver\, CO\, 80218\, United States
CATEGORIES:The Center Calendar,Rainbow Alley,Youth & Young Adult
ATTACH;FMTTYPE=image/png:https://lgbtqcolorado.org/wp-content/uploads/2021/12/RainbowAlleyDropIn-Graphic-1.png
GEO:39.7402674;-104.970419
X-APPLE-STRUCTURED-LOCATION;VALUE=URI;X-ADDRESS=The Center on Colfax 1301 E. Colfax Ave. Denver CO 80218 United States;X-APPLE-RADIUS=500;X-TITLE=1301 E. Colfax Ave.:geo:-104.970419,39.7402674
END:VEVENT
END:VCALENDAR