BEGIN:VCALENDAR
VERSION:2.0
PRODID:-//The Center on Colfax - LGBTQ Colorado - ECPv6.15.20//NONSGML v1.0//EN
CALSCALE:GREGORIAN
METHOD:PUBLISH
X-ORIGINAL-URL:https://lgbtqcolorado.org
X-WR-CALDESC:Events for The Center on Colfax - LGBTQ Colorado
REFRESH-INTERVAL;VALUE=DURATION:PT1H
X-Robots-Tag:noindex
X-PUBLISHED-TTL:PT1H
BEGIN:VTIMEZONE
TZID:America/Denver
BEGIN:DAYLIGHT
TZOFFSETFROM:-0700
TZOFFSETTO:-0600
TZNAME:MDT
DTSTART:20240310T090000
END:DAYLIGHT
BEGIN:STANDARD
TZOFFSETFROM:-0600
TZOFFSETTO:-0700
TZNAME:MST
DTSTART:20241103T080000
END:STANDARD
BEGIN:DAYLIGHT
TZOFFSETFROM:-0700
TZOFFSETTO:-0600
TZNAME:MDT
DTSTART:20250309T090000
END:DAYLIGHT
BEGIN:STANDARD
TZOFFSETFROM:-0600
TZOFFSETTO:-0700
TZNAME:MST
DTSTART:20251102T080000
END:STANDARD
BEGIN:DAYLIGHT
TZOFFSETFROM:-0700
TZOFFSETTO:-0600
TZNAME:MDT
DTSTART:20260308T090000
END:DAYLIGHT
BEGIN:STANDARD
TZOFFSETFROM:-0600
TZOFFSETTO:-0700
TZNAME:MST
DTSTART:20261101T080000
END:STANDARD
END:VTIMEZONE
BEGIN:VEVENT
DTSTART;VALUE=DATE:20250901
DTEND;VALUE=DATE:20250903
DTSTAMP:20260421T170405
CREATED:20250717T160148Z
LAST-MODIFIED:20250717T160148Z
UID:10025178-1756695600-1756781999@lgbtqcolorado.org
SUMMARY:Closure - September 1\, 2025
DESCRIPTION:The Center on Colfax will be closed Monday\, September 1\, 2025 in observance of Labor Day.\nWe apologize for any inconvenience this closure may cause and we look forward to resuming our normal business hours on Tuesday\, September 2\, 2025 at 10:00 AM. If this an emergency\, please call the Colorado Crisis Line at 1-844-493-8255.
URL:https://lgbtqcolorado.org/event/closure-september-1-2025/
LOCATION:The Center on Colfax\, 1301 E. Colfax Ave.\, Denver\, CO\, 80218\, United States
CATEGORIES:Young Adults and Adults Program,Glass Lawler Mental Health,Disability Program,Colorado LGBTQ History Project,The Center Calendar,Rainbow Alley,West of 50,Transgender Program,Older Adults,Transgender,Youth & Young Adult
GEO:39.7402674;-104.970419
X-APPLE-STRUCTURED-LOCATION;VALUE=URI;X-ADDRESS=The Center on Colfax 1301 E. Colfax Ave. Denver CO 80218 United States;X-APPLE-RADIUS=500;X-TITLE=1301 E. Colfax Ave.:geo:-104.970419,39.7402674
END:VEVENT
BEGIN:VEVENT
DTSTART;TZID=America/Denver:20250903T160000
DTEND;TZID=America/Denver:20250903T190000
DTSTAMP:20260421T170405
CREATED:20250516T171925Z
LAST-MODIFIED:20250516T171925Z
UID:10023780-1756915200-1756926000@lgbtqcolorado.org
SUMMARY:Rainbow Alley Drop-In
DESCRIPTION:Ages 10-17  \nTours available upon request\, outside of drop in hours. Contact Vincent at vwong@lgbtqcolorado.org for more information. \nRainbow Alley Drop-In is a safe\, brave space where LGBTQ youth and their allies find support and acceptance. Drop-in programming consists of activities\, community building\, referrals\, and resources all in a warm and welcoming environment. \nJoin us every Wednesday and Thursday from 4:00 - 7:00 PM! Newcomers – join us during the first drop-in of each month for an introduction meeting and activity.
URL:https://lgbtqcolorado.org/event/rainbow-alley-drop-in-wednesdays/2025-09-03/
LOCATION:The Center on Colfax\, 1301 E. Colfax Ave.\, Denver\, CO\, 80218\, United States
CATEGORIES:The Center Calendar,Rainbow Alley,Youth & Young Adult
ATTACH;FMTTYPE=image/png:https://lgbtqcolorado.org/wp-content/uploads/2021/12/RainbowAlleyDropIn-Graphic-1.png
GEO:39.7402674;-104.970419
X-APPLE-STRUCTURED-LOCATION;VALUE=URI;X-ADDRESS=The Center on Colfax 1301 E. Colfax Ave. Denver CO 80218 United States;X-APPLE-RADIUS=500;X-TITLE=1301 E. Colfax Ave.:geo:-104.970419,39.7402674
END:VEVENT
BEGIN:VEVENT
DTSTART;TZID=America/Denver:20250908T180000
DTEND;TZID=America/Denver:20250908T190000
DTSTAMP:20260421T170405
CREATED:20250828T184255Z
LAST-MODIFIED:20250828T184323Z
UID:10024329-1757354400-1757358000@lgbtqcolorado.org
SUMMARY:Trusted Adults Virtual Space: Gender Affirming Care Q&A with Denver Health
DESCRIPTION:
URL:https://lgbtqcolorado.org/event/trusted-adults-virtual-space-gender-affirming-care/
LOCATION:The Center on Colfax\, 1301 E. Colfax Ave.\, Denver\, CO\, 80218\, United States
CATEGORIES:Resources,The Center Calendar,Rainbow Alley,Family,Support Groups,Youth & Young Adult
ATTACH;FMTTYPE=image/jpeg:https://lgbtqcolorado.org/wp-content/uploads/2025/06/2025-09-TrustedAdults-GenderAffirmingCare-16x9-1.jpg
GEO:39.7402674;-104.970419
X-APPLE-STRUCTURED-LOCATION;VALUE=URI;X-ADDRESS=The Center on Colfax 1301 E. Colfax Ave. Denver CO 80218 United States;X-APPLE-RADIUS=500;X-TITLE=1301 E. Colfax Ave.:geo:-104.970419,39.7402674
END:VEVENT
BEGIN:VEVENT
DTSTART;TZID=America/Denver:20250910T160000
DTEND;TZID=America/Denver:20250910T190000
DTSTAMP:20260421T170405
CREATED:20250516T171925Z
LAST-MODIFIED:20250516T171925Z
UID:10023781-1757520000-1757530800@lgbtqcolorado.org
SUMMARY:Rainbow Alley Drop-In
DESCRIPTION:Ages 10-17  \nTours available upon request\, outside of drop in hours. Contact Vincent at vwong@lgbtqcolorado.org for more information. \nRainbow Alley Drop-In is a safe\, brave space where LGBTQ youth and their allies find support and acceptance. Drop-in programming consists of activities\, community building\, referrals\, and resources all in a warm and welcoming environment. \nJoin us every Wednesday and Thursday from 4:00 - 7:00 PM! Newcomers – join us during the first drop-in of each month for an introduction meeting and activity.
URL:https://lgbtqcolorado.org/event/rainbow-alley-drop-in-wednesdays/2025-09-10/
LOCATION:The Center on Colfax\, 1301 E. Colfax Ave.\, Denver\, CO\, 80218\, United States
CATEGORIES:The Center Calendar,Rainbow Alley,Youth & Young Adult
ATTACH;FMTTYPE=image/png:https://lgbtqcolorado.org/wp-content/uploads/2021/12/RainbowAlleyDropIn-Graphic-1.png
GEO:39.7402674;-104.970419
X-APPLE-STRUCTURED-LOCATION;VALUE=URI;X-ADDRESS=The Center on Colfax 1301 E. Colfax Ave. Denver CO 80218 United States;X-APPLE-RADIUS=500;X-TITLE=1301 E. Colfax Ave.:geo:-104.970419,39.7402674
END:VEVENT
BEGIN:VEVENT
DTSTART;TZID=America/Denver:20250910T170000
DTEND;TZID=America/Denver:20250910T183000
DTSTAMP:20260421T170405
CREATED:20250207T193404Z
LAST-MODIFIED:20260210T203825Z
UID:10021299-1757523600-1757529000@lgbtqcolorado.org
SUMMARY:Tarot Workshop with Bridge the Gap Tarot
DESCRIPTION:
URL:https://lgbtqcolorado.org/event/rainbow-alley-tarot-workshop/2025-09-10/
LOCATION:The Center on Colfax\, 1301 E. Colfax Ave.\, Denver\, CO\, 80218\, United States
CATEGORIES:The Center Calendar,Rainbow Alley,Arts & Entertainment,Youth & Young Adult
ATTACH;FMTTYPE=image/jpeg:https://lgbtqcolorado.org/wp-content/uploads/2025/02/2026-RATarotGroup-16x9-1.jpg
GEO:39.7402674;-104.970419
X-APPLE-STRUCTURED-LOCATION;VALUE=URI;X-ADDRESS=The Center on Colfax 1301 E. Colfax Ave. Denver CO 80218 United States;X-APPLE-RADIUS=500;X-TITLE=1301 E. Colfax Ave.:geo:-104.970419,39.7402674
END:VEVENT
BEGIN:VEVENT
DTSTART;TZID=America/Denver:20250912T160000
DTEND;TZID=America/Denver:20250912T180000
DTSTAMP:20260421T170405
CREATED:20231218T172326Z
LAST-MODIFIED:20251016T225033Z
UID:10009400-1757692800-1757700000@lgbtqcolorado.org
SUMMARY:Cooking Around the World
DESCRIPTION:
URL:https://lgbtqcolorado.org/event/cooking/2025-09-12/
LOCATION:The Center on Colfax\, 1301 E. Colfax Ave.\, Denver\, CO\, 80218\, United States
CATEGORIES:The Center Calendar,Rainbow Alley,Arts & Entertainment,Classes & Trainings,Youth & Young Adult
ATTACH;FMTTYPE=image/jpeg:https://lgbtqcolorado.org/wp-content/uploads/2023/12/2025-CookingAroundTheWorld-16x9-V2.jpg
GEO:39.7402674;-104.970419
X-APPLE-STRUCTURED-LOCATION;VALUE=URI;X-ADDRESS=The Center on Colfax 1301 E. Colfax Ave. Denver CO 80218 United States;X-APPLE-RADIUS=500;X-TITLE=1301 E. Colfax Ave.:geo:-104.970419,39.7402674
END:VEVENT
BEGIN:VEVENT
DTSTART;TZID=America/Denver:20250917T160000
DTEND;TZID=America/Denver:20250917T190000
DTSTAMP:20260421T170405
CREATED:20250516T171925Z
LAST-MODIFIED:20250516T171925Z
UID:10023782-1758124800-1758135600@lgbtqcolorado.org
SUMMARY:Rainbow Alley Drop-In
DESCRIPTION:Ages 10-17  \nTours available upon request\, outside of drop in hours. Contact Vincent at vwong@lgbtqcolorado.org for more information. \nRainbow Alley Drop-In is a safe\, brave space where LGBTQ youth and their allies find support and acceptance. Drop-in programming consists of activities\, community building\, referrals\, and resources all in a warm and welcoming environment. \nJoin us every Wednesday and Thursday from 4:00 - 7:00 PM! Newcomers – join us during the first drop-in of each month for an introduction meeting and activity.
URL:https://lgbtqcolorado.org/event/rainbow-alley-drop-in-wednesdays/2025-09-17/
LOCATION:The Center on Colfax\, 1301 E. Colfax Ave.\, Denver\, CO\, 80218\, United States
CATEGORIES:The Center Calendar,Rainbow Alley,Youth & Young Adult
ATTACH;FMTTYPE=image/png:https://lgbtqcolorado.org/wp-content/uploads/2021/12/RainbowAlleyDropIn-Graphic-1.png
GEO:39.7402674;-104.970419
X-APPLE-STRUCTURED-LOCATION;VALUE=URI;X-ADDRESS=The Center on Colfax 1301 E. Colfax Ave. Denver CO 80218 United States;X-APPLE-RADIUS=500;X-TITLE=1301 E. Colfax Ave.:geo:-104.970419,39.7402674
END:VEVENT
BEGIN:VEVENT
DTSTART;TZID=America/Denver:20250919T160000
DTEND;TZID=America/Denver:20250919T180000
DTSTAMP:20260421T170405
CREATED:20241104T213100Z
LAST-MODIFIED:20260109T231327Z
UID:10025871-1758297600-1758304800@lgbtqcolorado.org
SUMMARY:Rainbow Alley's DnD Club
DESCRIPTION:
URL:https://lgbtqcolorado.org/event/rainbow-alley-dnd/2025-09-19/
LOCATION:Rainbow Alley (The Center on Colfax)\, 1301 E. Colfax Ave.\, Denver\, CO\, 80218\, United States
CATEGORIES:The Center Calendar,Rainbow Alley,Arts & Entertainment,Social & Nightlife,Youth & Young Adult
ATTACH;FMTTYPE=image/jpeg:https://lgbtqcolorado.org/wp-content/uploads/2024/11/2025-RA-DnDClub-16x9-1.jpg
GEO:39.7402674;-104.970419
X-APPLE-STRUCTURED-LOCATION;VALUE=URI;X-ADDRESS=Rainbow Alley (The Center on Colfax) 1301 E. Colfax Ave. Denver CO 80218 United States;X-APPLE-RADIUS=500;X-TITLE=1301 E. Colfax Ave.:geo:-104.970419,39.7402674
END:VEVENT
BEGIN:VEVENT
DTSTART;TZID=America/Denver:20250924T160000
DTEND;TZID=America/Denver:20250924T190000
DTSTAMP:20260421T170405
CREATED:20250516T171925Z
LAST-MODIFIED:20250516T171925Z
UID:10023783-1758729600-1758740400@lgbtqcolorado.org
SUMMARY:Rainbow Alley Drop-In
DESCRIPTION:Ages 10-17  \nTours available upon request\, outside of drop in hours. Contact Vincent at vwong@lgbtqcolorado.org for more information. \nRainbow Alley Drop-In is a safe\, brave space where LGBTQ youth and their allies find support and acceptance. Drop-in programming consists of activities\, community building\, referrals\, and resources all in a warm and welcoming environment. \nJoin us every Wednesday and Thursday from 4:00 - 7:00 PM! Newcomers – join us during the first drop-in of each month for an introduction meeting and activity.
URL:https://lgbtqcolorado.org/event/rainbow-alley-drop-in-wednesdays/2025-09-24/
LOCATION:The Center on Colfax\, 1301 E. Colfax Ave.\, Denver\, CO\, 80218\, United States
CATEGORIES:The Center Calendar,Rainbow Alley,Youth & Young Adult
ATTACH;FMTTYPE=image/png:https://lgbtqcolorado.org/wp-content/uploads/2021/12/RainbowAlleyDropIn-Graphic-1.png
GEO:39.7402674;-104.970419
X-APPLE-STRUCTURED-LOCATION;VALUE=URI;X-ADDRESS=The Center on Colfax 1301 E. Colfax Ave. Denver CO 80218 United States;X-APPLE-RADIUS=500;X-TITLE=1301 E. Colfax Ave.:geo:-104.970419,39.7402674
END:VEVENT
BEGIN:VEVENT
DTSTART;TZID=America/Denver:20250924T170000
DTEND;TZID=America/Denver:20250924T183000
DTSTAMP:20260421T170405
CREATED:20250211T234909Z
LAST-MODIFIED:20260318T165549Z
UID:10021431-1758733200-1758738600@lgbtqcolorado.org
SUMMARY:Rainbow Alley Art Night
DESCRIPTION:
URL:https://lgbtqcolorado.org/event/rainbow-alley-art-night/2025-09-24/
LOCATION:The Center on Colfax\, 1301 E. Colfax Ave.\, Denver\, CO\, 80218\, United States
CATEGORIES:The Center Calendar,Rainbow Alley,Arts & Entertainment,Youth & Young Adult
ATTACH;FMTTYPE=image/jpeg:https://lgbtqcolorado.org/wp-content/uploads/2025/02/2026-RainbowAlley-ArtSpace-16x9-1.jpg
GEO:39.7402674;-104.970419
X-APPLE-STRUCTURED-LOCATION;VALUE=URI;X-ADDRESS=The Center on Colfax 1301 E. Colfax Ave. Denver CO 80218 United States;X-APPLE-RADIUS=500;X-TITLE=1301 E. Colfax Ave.:geo:-104.970419,39.7402674
END:VEVENT
BEGIN:VEVENT
DTSTART;VALUE=DATE:20250926
DTEND;VALUE=DATE:20250928
DTSTAMP:20260421T170405
CREATED:20250826T224814Z
LAST-MODIFIED:20250826T224814Z
UID:10025874-1758855600-1758941999@lgbtqcolorado.org
SUMMARY:Service and Building Closure for Afterglow Preparations - September 26\, 2025
DESCRIPTION:The Center on Colfax will be closed for services on Friday\, September 26\, 2025 as our staff prepares for Afterglow.\nWe apologize for any inconvenience this closure may cause and we look forward to resuming our normal business hours on Monday\, September 29\, 2025 at 10:00 AM. If this an emergency\, please call the Colorado Crisis Line at 1-844-493-8255.
URL:https://lgbtqcolorado.org/event/closure-september-26-2025/
LOCATION:The Center on Colfax\, 1301 E. Colfax Ave.\, Denver\, CO\, 80218\, United States
CATEGORIES:Young Adults and Adults Program,Glass Lawler Mental Health,Disability Program,Colorado LGBTQ History Project,The Center Calendar,Rainbow Alley,West of 50,Transgender Program,Older Adults,Transgender,Youth & Young Adult
GEO:39.7402674;-104.970419
X-APPLE-STRUCTURED-LOCATION;VALUE=URI;X-ADDRESS=The Center on Colfax 1301 E. Colfax Ave. Denver CO 80218 United States;X-APPLE-RADIUS=500;X-TITLE=1301 E. Colfax Ave.:geo:-104.970419,39.7402674
END:VEVENT
BEGIN:VEVENT
DTSTART;VALUE=DATE:20250927
DTEND;VALUE=DATE:20250929
DTSTAMP:20260421T170405
CREATED:20250828T185336Z
LAST-MODIFIED:20250828T185336Z
UID:10025937-1758942000-1759028399@lgbtqcolorado.org
SUMMARY:Service and Building Closure for Afterglow Recovery - September 27\, 2025
DESCRIPTION:The Center on Colfax will be closed for services on Saturday\, September 27\, 2025 as our staff recovers from Afterglow.\nWe apologize for any inconvenience this closure may cause and we look forward to resuming our normal business hours on Monday\, September 29\, 2025 at 10:00 AM. If this an emergency\, please call the Colorado Crisis Line at 1-844-493-8255.
URL:https://lgbtqcolorado.org/event/service-and-building-closure-for-afterglow-recovery-september-27-2025/
LOCATION:The Center on Colfax\, 1301 E. Colfax Ave.\, Denver\, CO\, 80218\, United States
CATEGORIES:Young Adults and Adults Program,Glass Lawler Mental Health,Disability Program,Colorado LGBTQ History Project,The Center Calendar,Rainbow Alley,West of 50,Transgender Program,Older Adults,Transgender,Youth & Young Adult
GEO:39.7402674;-104.970419
X-APPLE-STRUCTURED-LOCATION;VALUE=URI;X-ADDRESS=The Center on Colfax 1301 E. Colfax Ave. Denver CO 80218 United States;X-APPLE-RADIUS=500;X-TITLE=1301 E. Colfax Ave.:geo:-104.970419,39.7402674
END:VEVENT
END:VCALENDAR