BEGIN:VCALENDAR
VERSION:2.0
PRODID:-//The Center on Colfax - LGBTQ Colorado - ECPv6.15.20//NONSGML v1.0//EN
CALSCALE:GREGORIAN
METHOD:PUBLISH
X-ORIGINAL-URL:https://lgbtqcolorado.org
X-WR-CALDESC:Events for The Center on Colfax - LGBTQ Colorado
REFRESH-INTERVAL;VALUE=DURATION:PT1H
X-Robots-Tag:noindex
X-PUBLISHED-TTL:PT1H
BEGIN:VTIMEZONE
TZID:America/Denver
BEGIN:DAYLIGHT
TZOFFSETFROM:-0700
TZOFFSETTO:-0600
TZNAME:MDT
DTSTART:20250309T090000
END:DAYLIGHT
BEGIN:STANDARD
TZOFFSETFROM:-0600
TZOFFSETTO:-0700
TZNAME:MST
DTSTART:20251102T080000
END:STANDARD
BEGIN:DAYLIGHT
TZOFFSETFROM:-0700
TZOFFSETTO:-0600
TZNAME:MDT
DTSTART:20260308T090000
END:DAYLIGHT
BEGIN:STANDARD
TZOFFSETFROM:-0600
TZOFFSETTO:-0700
TZNAME:MST
DTSTART:20261101T080000
END:STANDARD
BEGIN:DAYLIGHT
TZOFFSETFROM:-0700
TZOFFSETTO:-0600
TZNAME:MDT
DTSTART:20270314T090000
END:DAYLIGHT
BEGIN:STANDARD
TZOFFSETFROM:-0600
TZOFFSETTO:-0700
TZNAME:MST
DTSTART:20271107T080000
END:STANDARD
END:VTIMEZONE
BEGIN:VEVENT
DTSTART;TZID=America/Denver:20260210T160000
DTEND;TZID=America/Denver:20260210T173000
DTSTAMP:20260420T221941
CREATED:20260204T185952Z
LAST-MODIFIED:20260209T171618Z
UID:10031843-1770739200-1770744600@lgbtqcolorado.org
SUMMARY:Queer Peer Connection Group
DESCRIPTION:Crafts\, Chats\, & Community\nCome hang out with other teens in the LGBTQIA2S+ community! We won't solve world problems by the time the hour is up\, but we will chat\, craft\, eat snacks\, and simply be in each other's company. This month\, we'll be decorating Valentines and paper lanterns for Lunar New Year. Staff from The Center on Colfax's Rainbow Alley will be present to answer questions and provide information about all kinds of LGBTQ+ resources around Denver. \nTo request ASL\, CART\, or other disability related accommodations\, contact programs@denverlibrary.org or call 720-865-1111 with a minimum five (5) business day notice. \nWhere: Denver Central Library\nWhen: Tuesday\, February 10\, 4:00 - 5:30 PM\nAges: 10 - 17
URL:https://lgbtqcolorado.org/event/queer-peer-connection-group/
LOCATION:Denver Public Library: Central Library\, 10 W 14th Ave\, Denver\, CO\, 80204\, United States
CATEGORIES:The Center Calendar,Rainbow Alley
ATTACH;FMTTYPE=image/jpeg:https://lgbtqcolorado.org/wp-content/uploads/2026/02/2026-02-10-QueerPeerConnection-16x9-1.jpg
END:VEVENT
BEGIN:VEVENT
DTSTART;TZID=America/Denver:20260210T160000
DTEND;TZID=America/Denver:20260210T190000
DTSTAMP:20260420T221941
CREATED:20230123T230901Z
LAST-MODIFIED:20250722T161741Z
UID:10009820-1770739200-1770750000@lgbtqcolorado.org
SUMMARY:Young Adult Drop In Hours
DESCRIPTION:Our Young Adult Drop In Hours are a casual space for LGBTQ+ young adults to come build community\, socialize\, engage with educational workshops\, and participate in community events. Young Adult Drop In Hours include activities such as cooking classes\, guest speakers\, occasional field trips\, resources\, and more. \nDates: Every Tuesday \nTime: 4:00 - 7:00 PM \nLocation: The Center on Colfax - 1301 E. Colfax Ave\, Denver\, CO\, 80218 \nAges: 18-24 years old \nAny questions? Please contact Nick at nmassey@lgbtqcolorado.org
URL:https://lgbtqcolorado.org/event/young-adult-drop-in/2026-02-10/
LOCATION:The Center on Colfax\, 1301 E. Colfax Ave.\, Denver\, CO\, 80218\, United States
CATEGORIES:Young Adults and Adults Program,The Center Calendar,Youth & Young Adult
ATTACH;FMTTYPE=image/jpeg:https://lgbtqcolorado.org/wp-content/uploads/2023/01/2025-YoungAdultDropIn-16x9-V2.jpg
GEO:39.7402674;-104.970419
X-APPLE-STRUCTURED-LOCATION;VALUE=URI;X-ADDRESS=The Center on Colfax 1301 E. Colfax Ave. Denver CO 80218 United States;X-APPLE-RADIUS=500;X-TITLE=1301 E. Colfax Ave.:geo:-104.970419,39.7402674
END:VEVENT
END:VCALENDAR