BEGIN:VCALENDAR
VERSION:2.0
PRODID:-//The Center on Colfax - LGBTQ Colorado - ECPv6.15.20//NONSGML v1.0//EN
CALSCALE:GREGORIAN
METHOD:PUBLISH
X-WR-CALNAME:The Center on Colfax - LGBTQ Colorado
X-ORIGINAL-URL:https://lgbtqcolorado.org
X-WR-CALDESC:Events for The Center on Colfax - LGBTQ Colorado
REFRESH-INTERVAL;VALUE=DURATION:PT1H
X-Robots-Tag:noindex
X-PUBLISHED-TTL:PT1H
BEGIN:VTIMEZONE
TZID:America/Denver
BEGIN:DAYLIGHT
TZOFFSETFROM:-0700
TZOFFSETTO:-0600
TZNAME:MDT
DTSTART:20250309T090000
END:DAYLIGHT
BEGIN:STANDARD
TZOFFSETFROM:-0600
TZOFFSETTO:-0700
TZNAME:MST
DTSTART:20251102T080000
END:STANDARD
BEGIN:DAYLIGHT
TZOFFSETFROM:-0700
TZOFFSETTO:-0600
TZNAME:MDT
DTSTART:20260308T090000
END:DAYLIGHT
BEGIN:STANDARD
TZOFFSETFROM:-0600
TZOFFSETTO:-0700
TZNAME:MST
DTSTART:20261101T080000
END:STANDARD
BEGIN:DAYLIGHT
TZOFFSETFROM:-0700
TZOFFSETTO:-0600
TZNAME:MDT
DTSTART:20270314T090000
END:DAYLIGHT
BEGIN:STANDARD
TZOFFSETFROM:-0600
TZOFFSETTO:-0700
TZNAME:MST
DTSTART:20271107T080000
END:STANDARD
END:VTIMEZONE
BEGIN:VEVENT
DTSTART;TZID=America/Denver:20260323T180000
DTEND;TZID=America/Denver:20260323T200000
DTSTAMP:20260422T231759
CREATED:20220103T194659Z
LAST-MODIFIED:20251006T154444Z
UID:10011102-1774288800-1774296000@lgbtqcolorado.org
SUMMARY:Online Ace Space Support Group
DESCRIPTION:This online peer lead and confidential support group is for individuals who identify along the asexual and/or aromantic spectrums\, including (but not limited to) demiromantic\, demisexual\, greyromantic\, and greysexual. This is a safe space providing peer-run social support\, engaging conversation\, and relevant resources to attendees. Support groups at The Center on Colfax are always free to attend. \nDates: Join us on the Fourth Monday of each month in-person from 6:00 - 8:00 PM \nLocation: Online via Zoom \nFor Registration and/or Questions: Please contact Terwanda McMoore\, Support Group Coordinator\, at tmcmoore@lgbtqcolorado.org
URL:https://lgbtqcolorado.org/event/ace-space-online/2026-03-23/
LOCATION:Online
CATEGORIES:The Center Calendar,Transgender Program,Support Groups,Transgender
ATTACH;FMTTYPE=image/png:https://lgbtqcolorado.org/wp-content/uploads/2022/01/AceSpace-Online-16x9-1.png
END:VEVENT
BEGIN:VEVENT
DTSTART;TZID=America/Denver:20260323T183000
DTEND;TZID=America/Denver:20260323T200000
DTSTAMP:20260422T231759
CREATED:20240905T225342Z
LAST-MODIFIED:20251006T154130Z
UID:10018678-1774290600-1774296000@lgbtqcolorado.org
SUMMARY:Online Trans Masc Support Group - Second and Fourth Mondays
DESCRIPTION:MUST BE 18 YEARS OLD\n\nThis online peer lead and confidential support group is for individuals who were assigned female at birth and identify as trans men\, trans masculine\, and/or female-to-male (FtM). This is a safe space providing peer-run social support\, engaging conversation\, and relevant resources to attendees. Support groups at The Center on Colfax are always free to attend.\n\nDates: Join us on the Second and Fourth Monday of every month online from 6:30 - 8:00 PM \nFor Registration and/or Questions: Please contact Terwanda McMoore\, Support Group Coordinator\, at tmcmoore@lgbtqcolorado.org
URL:https://lgbtqcolorado.org/event/online-trans-masc-support-group-3/2026-03-23/
LOCATION:Online
CATEGORIES:The Center Calendar,Transgender Program,Support Groups
ATTACH;FMTTYPE=image/png:https://lgbtqcolorado.org/wp-content/uploads/2022/04/OnlineTransMasc-16x9-2.png
END:VEVENT
BEGIN:VEVENT
DTSTART;TZID=America/Denver:20260324T183000
DTEND;TZID=America/Denver:20260324T200000
DTSTAMP:20260422T231759
CREATED:20231201T175601Z
LAST-MODIFIED:20251006T153941Z
UID:10006393-1774377000-1774382400@lgbtqcolorado.org
SUMMARY:Online Nonbinary Support Group
DESCRIPTION:MUST BE 18 YEARS OLD \nThis online peer lead and confidential support group provides peer support and resources to those who identify outside the gender binary\, including gender queer\, agender\, gender fluid\, bi-gender\, or gender non-conforming people. This is a safe space providing peer-run social support\, engaging conversation\, and relevant resources to attendees. Support groups at The Center on Colfax are always free to attend. Support groups at The Center on Colfax are always free to attend. \nDates: Join us the second and fourth Tuesdays of every month from 6:30 - 8:00 PM. \nFor Registration and/or Questions: Please contact Terwanda McMoore\, Support Group Coordinator\, at tmcmoore@lgbtqcolorado.org
URL:https://lgbtqcolorado.org/event/online-nonbinary-support-group-40/2026-03-24/
LOCATION:Virtual
CATEGORIES:The Center Calendar,Transgender Program,Support Groups,Transgender
ATTACH;FMTTYPE=image/png:https://lgbtqcolorado.org/wp-content/uploads/2023/09/OnlineNonBinary-16x9-1.png
END:VEVENT
BEGIN:VEVENT
DTSTART;TZID=America/Denver:20260324T183000
DTEND;TZID=America/Denver:20260324T200000
DTSTAMP:20260422T231759
CREATED:20260203T225802Z
LAST-MODIFIED:20260203T230321Z
UID:10031783-1774377000-1774382400@lgbtqcolorado.org
SUMMARY:Allies of Trans People Support Group
DESCRIPTION:How can I be a better ally to trans people?\nTogether with a facilitator in this support group\, we celebrate allyship\, provide education\, support safe conversations\, and promote human rights. We welcome our allies\, old and new\, to join us in learning how to best support their trans family members\, friends\, and colleagues. \nWhen: Every 4th Thursday\, 6:30 - 8:00 PM\nWhere: 1301 E. Colfax Ave. Denver\, CO 80218
URL:https://lgbtqcolorado.org/event/allies-of-trans-people-support-group/2026-03-24/
LOCATION:The Center on Colfax\, 1301 E. Colfax Ave.\, Denver\, CO\, 80218\, United States
CATEGORIES:The Center Calendar,Transgender Program,Transgender
ATTACH;FMTTYPE=image/jpeg:https://lgbtqcolorado.org/wp-content/uploads/2026/02/2026-TransAllySupport-Light-16x9-1.jpg
GEO:39.7402674;-104.970419
X-APPLE-STRUCTURED-LOCATION;VALUE=URI;X-ADDRESS=The Center on Colfax 1301 E. Colfax Ave. Denver CO 80218 United States;X-APPLE-RADIUS=500;X-TITLE=1301 E. Colfax Ave.:geo:-104.970419,39.7402674
END:VEVENT
BEGIN:VEVENT
DTSTART;TZID=America/Denver:20260325T180000
DTEND;TZID=America/Denver:20260325T200000
DTSTAMP:20260422T231759
CREATED:20251203T200520Z
LAST-MODIFIED:20251203T200520Z
UID:10028555-1774461600-1774468800@lgbtqcolorado.org
SUMMARY:In-Person Trans Masc Support Group
DESCRIPTION:MUST BE 18 YEARS OLD\n\nThis in-person peer lead and confidential support group is for individuals who were assigned female at birth and identify as trans men\, trans masculine\, and/or female-to-male (FtM). This is a safe\, drop-in space providing peer-run social support\, engaging conversation\, and relevant resources to attendees. Support groups at The Center on Colfax are always free to attend. No signup necessary. Walk-ins are welcome. \n\nFor any questions\, please contact Joy Iwancio\, Support Group Coordinator\, at JIwancio@lgbtqcolorado.org.
URL:https://lgbtqcolorado.org/event/in-person-trans-masc-support-group/2026-03-25/
LOCATION:The Center on Colfax\, 1301 E. Colfax Ave.\, Denver\, CO\, 80218\, United States
CATEGORIES:The Center Calendar,Transgender Program,Support Groups
ATTACH;FMTTYPE=image/png:https://lgbtqcolorado.org/wp-content/uploads/2024/01/InPersonTransMasc-16x9-2.png
GEO:39.7402674;-104.970419
X-APPLE-STRUCTURED-LOCATION;VALUE=URI;X-ADDRESS=The Center on Colfax 1301 E. Colfax Ave. Denver CO 80218 United States;X-APPLE-RADIUS=500;X-TITLE=1301 E. Colfax Ave.:geo:-104.970419,39.7402674
END:VEVENT
BEGIN:VEVENT
DTSTART;TZID=America/Denver:20260325T183000
DTEND;TZID=America/Denver:20260325T200000
DTSTAMP:20260422T231759
CREATED:20260302T221912Z
LAST-MODIFIED:20260302T221914Z
UID:10034481-1774463400-1774468800@lgbtqcolorado.org
SUMMARY:Online Trans & Nonbinary Adults 40+ Group
DESCRIPTION:This peer led group welcomes all transgender and nonbinary adults to an online space where they can come together for conversation and connections. \nDetails: A weekly\, drop-in friendly group for individuals 40 years or older. \nDate: Every Tuesday \nTime: 2:30 - 4:00 PM \nFor Registration and/or Questions: Please contact Terwanda McMoore\, Support Group Coordinator\, at tmcmoore@lgbtqcolorado.org
URL:https://lgbtqcolorado.org/event/online-trans-non-binary-adults-40-2/2026-03-25/
LOCATION:Online
CATEGORIES:The Center Calendar,Transgender Program,Older Adults,Support Groups,Transgender
ATTACH;FMTTYPE=image/png:https://lgbtqcolorado.org/wp-content/uploads/2020/10/content_trans_and_non-binary_gender_flags.png
END:VEVENT
BEGIN:VEVENT
DTSTART;TZID=America/Denver:20260326T180000
DTEND;TZID=America/Denver:20260326T200000
DTSTAMP:20260422T231759
CREATED:20220414T013020Z
LAST-MODIFIED:20250805T161945Z
UID:10008277-1774548000-1774555200@lgbtqcolorado.org
SUMMARY:In-Person Trans Femme Support Group
DESCRIPTION:This in-person peer lead and confidential support group is for individuals who were assigned male at birth and identify as trans women\, trans feminine\, and/or male-to-female (MtF). This is a safe\, drop-in space providing peer-run social support\, engaging conversation\, and relevant resources to attendees. Support groups at The Center on Colfax are always free to attend. No signup necessary. Walk-ins are welcome. \nHow to Get Involved: For any questions\, please contact Joy Iwancio\, Director of Transgender Services\, at JIwancio@lgbtqcolorado.org.\n\nDates: Join us weekly on Thursdays from 6:00 - 8:00 PM
URL:https://lgbtqcolorado.org/event/in-person-trans-femme-support/2026-03-26/
LOCATION:Stonewall Meeting Room\, 1301 E. Colfax Ave.\, Denver\, Colorado\, 80218
CATEGORIES:The Center Calendar,Transgender Program,Support Groups
ATTACH;FMTTYPE=image/jpeg:https://lgbtqcolorado.org/wp-content/uploads/2022/04/TransFemme-InPerson-16x9-2.jpg
END:VEVENT
BEGIN:VEVENT
DTSTART;TZID=America/Denver:20260326T183000
DTEND;TZID=America/Denver:20260326T200000
DTSTAMP:20260422T231759
CREATED:20220414T012626Z
LAST-MODIFIED:20251006T154239Z
UID:10014487-1774549800-1774555200@lgbtqcolorado.org
SUMMARY:Online Trans Femme Support Group
DESCRIPTION:MUST BE 18 YEARS OLD \nThis online peer lead and confidential support group is for individuals who were assigned male at birth and identify as trans women\, trans feminine\, and/or male-to-female (MtF). This is a safe space providing peer-run social support\, engaging conversation\, and relevant resources to attendees. Support groups at The Center on Colfax are always free to attend. \nDates: Every Thursday from 6:30 - 8:00 PM.  \nFor Registration and/or Questions: Please contact Terwanda McMoore\, Support Group Coordinator\, at tmcmoore@lgbtqcolorado.org
URL:https://lgbtqcolorado.org/event/online-trans-femme-support/2026-03-26/
LOCATION:Online
CATEGORIES:The Center Calendar,Transgender Program,Support Groups
ATTACH;FMTTYPE=image/jpeg:https://lgbtqcolorado.org/wp-content/uploads/2022/04/TransFemme-Online-16x9-1.jpg
END:VEVENT
BEGIN:VEVENT
DTSTART;TZID=America/Denver:20260328T140000
DTEND;TZID=America/Denver:20260328T200000
DTSTAMP:20260422T231759
CREATED:20260309T191445Z
LAST-MODIFIED:20260327T221738Z
UID:10034990-1774706400-1774728000@lgbtqcolorado.org
SUMMARY:Transgender Day of Visibility
DESCRIPTION:Transgender Day of Visibility & Clothing Swap \nTime: 2:00 - 5:00 PM \nLocation:⁠ Dry Clean Only\, 3358 York St. \nFollowed by an After Party at The Pearl \nLocation: Jungle Room at The Pearl\, 2195 California St \nTime: 6:00 P.M.-8:00 P.M. \nAccessibility: Guests should enter through the front door. Most of the event will take place on the fully accessible main floor\, which includes multiple ADA-accessible\, gender-neutral bathrooms.  \nThe makeup portion of the event will take place in a private room downstairs. Please note that the downstairs space is only accessible by stairs and does not have elevator access. To ensure everyone can participate\, one makeup station will also be available upstairs on the main floor.  \nHighlights include\nClothing Swap Coordinated by The Clothing Cycle   \nThe Clothing Cycle is building a zero-waste secondhand fashion system that centers community and climate. \nBring your old clothing to the event and look for new pieces to take home! Please do not bring used underwear or swimwear\, and ensure all items are clean before dropping them off at the event. \nColor Analysis by Something Blue Color Studio  \nDiscover your undertones and learn how to use that knowledge when choosing clothing and experimenting with makeup. \nGender-Affirming Haircuts\nProvided by a variety of local stylists. \nEye Makeup Art\nGet creative and try new looks with support from local makeup artists. \nChest Binder Fittings\nGet fitted for a binder that works for you and leave with a new binder generously donated by Point of Pride. \nDrinks\nEnjoy coffee\, tea\, mocktails\, cocktails\, and more while connecting with community. \nPartner bios\nThe Clothing Cycle   \nThe Clothing Cycle keeps clothing out of the global waste stream by building a consumer community that takes on fashion without harming people\, animals\, or the planet. They circulate secondhand clothing through clothing swaps\, upcycling workshops\, and mutual aid distribution. The clothing in their shop is sourced from our clothing swap events and community donations. They also work with small fashion designers that upcycle to repurpose and sell one-of-a-kind fashionable clothing. They are building a zero-waste secondhand fashion system that centers community and climate. Learn more about our work at theclothingcycle.com.  \nSomething Blue Color Studio   \nWith over ten years of experience in the fashion industry and over 100 clients analyzed\, Maddie is a color analysis pro with a passion for adding more whimsy\, silliness\, and words of affirmation to every consultation.   \nAfter receiving her own color analysis results in 2024 and feeling more fabulous in her own skin than ever before\, Maddie knew she wanted to help others find their best colors. She is a trained master color analyst in the International Image Institute 23-Season method.   \nMaddie celebrates everyone in her color analysis practice. People of all ethnicities\, gender expressions\, ages\, body sizes\, and backgrounds are welcomed. As a queer person\, Maddie cultivates a space for people to authentically show up as their whole selves.   \nLearn more at https://www.somethingbluecolorstudio.com/.   \nOutlaw Barber  \nElizabeth is a trans\, West Coast- trained barber who provides a traditional barber shop atmosphere without the tradition of misogyny. After graduating from barber school back in 2021\, she moved to Colorado to pursue her passion! Her love of queer styles continues to grow just as fast as your hair.   \nHer hair pursuits are blurry fades\, textured styles\, and clean lines. When she's not behind the chair\, she spends her time cycling around Ccapitol Hill or playing/watching baseball! Her goal as your barber is to learn and grow with your hair. If you leave smiling\, so does she. The Outlaw Barber is the name. Affirming haircuts is my game.  \nRosé Curley  \nRosé Curley is the founder and owner of Curls\, Kinks & Coils and has been working with nothing but textured hair since they finished school in 2017. They were born and raised in Colorado so one of their passions is community and giving back where they see that there is something missing. As a queer\, polyam\, non-binary person\, Rosé strives to break barriers for BIPOC\, LGBTQIA+\, and all people who have been ostracized by society. \nIan Duvall \nTwo years ago\, Ian followed a passion that had been brewing for a lifetime and earned his Barber License. Since then\, he's brought an infectious energy to the chair every single day. Starting his journey as a Master Barber in Tennessee\, Ian's craft has taken him through North Carolina and finally to his current home here in Denver\, Colorado.\nFor Ian\, hair isn't just a service—it's an art form. Growing up immersed in music and creative arts\, he views every client as a rockstar preparing to take the stage. Whether you are looking for:\n• Flowing Length: Expertly shaped long styles and natural movement.\n• Retro Revival: Bold\, vintage looks like Shags and Mullets.\n• Modern Precision: Sharp\, stylish fades executed with class. \nIan is currently behind the chair at Barber X barbershop in RiNo\, located at 3320 Brighton Blvd.\nBarber X is a queer-owned barbershop that welcomes all genders.\nReach out to jiwancio@lgbtqcolorado.org for more information.
URL:https://lgbtqcolorado.org/event/transgender-day-of-visibility/
LOCATION:Dry Clean Only\, 3358 York St\, Denver\, 80205
CATEGORIES:The Center Calendar,Transgender Program,Transgender
ATTACH;FMTTYPE=image/jpeg:https://lgbtqcolorado.org/wp-content/uploads/2026/03/TDOV-flyer-landscape.jpg
END:VEVENT
END:VCALENDAR