BEGIN:VCALENDAR
VERSION:2.0
PRODID:-//The Center on Colfax - LGBTQ Colorado - ECPv6.15.20//NONSGML v1.0//EN
CALSCALE:GREGORIAN
METHOD:PUBLISH
X-ORIGINAL-URL:https://lgbtqcolorado.org
X-WR-CALDESC:Events for The Center on Colfax - LGBTQ Colorado
REFRESH-INTERVAL;VALUE=DURATION:PT1H
X-Robots-Tag:noindex
X-PUBLISHED-TTL:PT1H
BEGIN:VTIMEZONE
TZID:America/Denver
BEGIN:DAYLIGHT
TZOFFSETFROM:-0700
TZOFFSETTO:-0600
TZNAME:MDT
DTSTART:20240310T090000
END:DAYLIGHT
BEGIN:STANDARD
TZOFFSETFROM:-0600
TZOFFSETTO:-0700
TZNAME:MST
DTSTART:20241103T080000
END:STANDARD
BEGIN:DAYLIGHT
TZOFFSETFROM:-0700
TZOFFSETTO:-0600
TZNAME:MDT
DTSTART:20250309T090000
END:DAYLIGHT
BEGIN:STANDARD
TZOFFSETFROM:-0600
TZOFFSETTO:-0700
TZNAME:MST
DTSTART:20251102T080000
END:STANDARD
BEGIN:DAYLIGHT
TZOFFSETFROM:-0700
TZOFFSETTO:-0600
TZNAME:MDT
DTSTART:20260308T090000
END:DAYLIGHT
BEGIN:STANDARD
TZOFFSETFROM:-0600
TZOFFSETTO:-0700
TZNAME:MST
DTSTART:20261101T080000
END:STANDARD
END:VTIMEZONE
BEGIN:VEVENT
DTSTART;VALUE=DATE:20250927
DTEND;VALUE=DATE:20250929
DTSTAMP:20260423T175229
CREATED:20250828T185336Z
LAST-MODIFIED:20250828T185336Z
UID:10025937-1758942000-1759028399@lgbtqcolorado.org
SUMMARY:Service and Building Closure for Afterglow Recovery - September 27\, 2025
DESCRIPTION:The Center on Colfax will be closed for services on Saturday\, September 27\, 2025 as our staff recovers from Afterglow.\nWe apologize for any inconvenience this closure may cause and we look forward to resuming our normal business hours on Monday\, September 29\, 2025 at 10:00 AM. If this an emergency\, please call the Colorado Crisis Line at 1-844-493-8255.
URL:https://lgbtqcolorado.org/event/service-and-building-closure-for-afterglow-recovery-september-27-2025/
LOCATION:The Center on Colfax\, 1301 E. Colfax Ave.\, Denver\, CO\, 80218\, United States
CATEGORIES:Young Adults and Adults Program,Glass Lawler Mental Health,Disability Program,Colorado LGBTQ History Project,The Center Calendar,Rainbow Alley,West of 50,Transgender Program,Older Adults,Transgender,Youth & Young Adult
GEO:39.7402674;-104.970419
X-APPLE-STRUCTURED-LOCATION;VALUE=URI;X-ADDRESS=The Center on Colfax 1301 E. Colfax Ave. Denver CO 80218 United States;X-APPLE-RADIUS=500;X-TITLE=1301 E. Colfax Ave.:geo:-104.970419,39.7402674
END:VEVENT
BEGIN:VEVENT
DTSTART;TZID=America/Denver:20250930T143000
DTEND;TZID=America/Denver:20250930T160000
DTSTAMP:20260423T175229
CREATED:20240102T163937Z
LAST-MODIFIED:20251006T153908Z
UID:10010065-1759242600-1759248000@lgbtqcolorado.org
SUMMARY:Online Trans & Nonbinary Adults 40+ Group
DESCRIPTION:This peer led group welcomes all transgender and nonbinary adults to an online space where they can come together for conversation and connections. \nDetails: A weekly\, drop-in friendly group for individuals 40 years or older. \nDate: Every Tuesday \nTime: 2:30 - 4:00 PM \nFor Registration and/or Questions: Please contact Terwanda McMoore\, Support Group Coordinator\, at tmcmoore@lgbtqcolorado.org
URL:https://lgbtqcolorado.org/event/online-trans-non-binary-adults-40/2025-09-30/
LOCATION:Online
CATEGORIES:The Center Calendar,Transgender Program,Older Adults,Support Groups,Transgender
ATTACH;FMTTYPE=image/png:https://lgbtqcolorado.org/wp-content/uploads/2020/10/content_trans_and_non-binary_gender_flags.png
END:VEVENT
BEGIN:VEVENT
DTSTART;TZID=America/Denver:20250930T180000
DTEND;TZID=America/Denver:20250930T200000
DTSTAMP:20260423T175229
CREATED:20250829T164633Z
LAST-MODIFIED:20250929T203232Z
UID:10025944-1759255200-1759262400@lgbtqcolorado.org
SUMMARY:Pride Night at Putter's Pride
DESCRIPTION:
URL:https://lgbtqcolorado.org/event/pride-night-at-putters-pride/
LOCATION:Putter’s Pride\, 3604 South Kipling Street\, Denver\, CO\, 80235\, United States
CATEGORIES:Young Adults and Adults Program,The Center Calendar,Transgender Program,Social & Nightlife,Transgender,Youth & Young Adult
ATTACH;FMTTYPE=image/jpeg:https://lgbtqcolorado.org/wp-content/uploads/2025/08/2025-09-PrideNightPuttersPride-V2.jpg
END:VEVENT
BEGIN:VEVENT
DTSTART;TZID=America/Denver:20251001T160000
DTEND;TZID=America/Denver:20251001T180000
DTSTAMP:20260423T175229
CREATED:20241022T045338Z
LAST-MODIFIED:20250805T161925Z
UID:10021661-1759334400-1759341600@lgbtqcolorado.org
SUMMARY:Trans-Inclusive Family Support Group
DESCRIPTION:This group is designed as a positive support community for trans-inclusive families and adults. We will chat\, socialize\, and snack together as we build friendships. This is also a place to let your support needs be known and where support for each other can positively impact our larger community. \nHosted by trans-inclusive families\, this group is for anyone who wants to support the trans community. This group welcomes all families with trans folks in them\, including but not limited to parents of trans youth. \nFamilies with kids 10-17 years old can drop off at at Rainbow Alley Drop In - all allies welcome. \nAges: 18+ \nDates: First Wednesday of each month \nTime: 4:00 - 6:00 PM \nFor any questions\, please contact Joy Iwancio\, Director of Transgender Services\, at JIwancio@lgbtqcolorado.org
URL:https://lgbtqcolorado.org/event/trans-inclusive-family-support-group/2025-10-01/
LOCATION:The Center on Colfax\, 1301 E. Colfax Ave.\, Denver\, CO\, 80218\, United States
CATEGORIES:The Center Calendar,Transgender Program,Family,Support Groups,Transgender
ATTACH;FMTTYPE=image/jpeg:https://lgbtqcolorado.org/wp-content/uploads/2024/10/TransInclusiveFamilySupport-16x9-V2.jpg
GEO:39.7402674;-104.970419
X-APPLE-STRUCTURED-LOCATION;VALUE=URI;X-ADDRESS=The Center on Colfax 1301 E. Colfax Ave. Denver CO 80218 United States;X-APPLE-RADIUS=500;X-TITLE=1301 E. Colfax Ave.:geo:-104.970419,39.7402674
END:VEVENT
BEGIN:VEVENT
DTSTART;TZID=America/Denver:20251001T180000
DTEND;TZID=America/Denver:20251001T200000
DTSTAMP:20260423T175229
CREATED:20251203T200520Z
LAST-MODIFIED:20251203T200520Z
UID:10028533-1759341600-1759348800@lgbtqcolorado.org
SUMMARY:In-Person Trans Masc Support Group
DESCRIPTION:MUST BE 18 YEARS OLD\n\nThis in-person peer lead and confidential support group is for individuals who were assigned female at birth and identify as trans men\, trans masculine\, and/or female-to-male (FtM). This is a safe\, drop-in space providing peer-run social support\, engaging conversation\, and relevant resources to attendees. Support groups at The Center on Colfax are always free to attend. No signup necessary. Walk-ins are welcome. \n\nFor any questions\, please contact Joy Iwancio\, Support Group Coordinator\, at JIwancio@lgbtqcolorado.org.
URL:https://lgbtqcolorado.org/event/in-person-trans-masc-support-group/2025-10-01/
LOCATION:The Center on Colfax\, 1301 E. Colfax Ave.\, Denver\, CO\, 80218\, United States
CATEGORIES:The Center Calendar,Transgender Program,Support Groups
ATTACH;FMTTYPE=image/png:https://lgbtqcolorado.org/wp-content/uploads/2024/01/InPersonTransMasc-16x9-2.png
GEO:39.7402674;-104.970419
X-APPLE-STRUCTURED-LOCATION;VALUE=URI;X-ADDRESS=The Center on Colfax 1301 E. Colfax Ave. Denver CO 80218 United States;X-APPLE-RADIUS=500;X-TITLE=1301 E. Colfax Ave.:geo:-104.970419,39.7402674
END:VEVENT
BEGIN:VEVENT
DTSTART;TZID=America/Denver:20251002T180000
DTEND;TZID=America/Denver:20251002T200000
DTSTAMP:20260423T175229
CREATED:20220414T013020Z
LAST-MODIFIED:20250805T161945Z
UID:10008252-1759428000-1759435200@lgbtqcolorado.org
SUMMARY:In-Person Trans Femme Support Group
DESCRIPTION:This in-person peer lead and confidential support group is for individuals who were assigned male at birth and identify as trans women\, trans feminine\, and/or male-to-female (MtF). This is a safe\, drop-in space providing peer-run social support\, engaging conversation\, and relevant resources to attendees. Support groups at The Center on Colfax are always free to attend. No signup necessary. Walk-ins are welcome. \nHow to Get Involved: For any questions\, please contact Joy Iwancio\, Director of Transgender Services\, at JIwancio@lgbtqcolorado.org.\n\nDates: Join us weekly on Thursdays from 6:00 - 8:00 PM
URL:https://lgbtqcolorado.org/event/in-person-trans-femme-support/2025-10-02/
LOCATION:Stonewall Meeting Room\, 1301 E. Colfax Ave.\, Denver\, Colorado\, 80218
CATEGORIES:The Center Calendar,Transgender Program,Support Groups
ATTACH;FMTTYPE=image/jpeg:https://lgbtqcolorado.org/wp-content/uploads/2022/04/TransFemme-InPerson-16x9-2.jpg
END:VEVENT
BEGIN:VEVENT
DTSTART;TZID=America/Denver:20251002T183000
DTEND;TZID=America/Denver:20251002T200000
DTSTAMP:20260423T175229
CREATED:20220414T012626Z
LAST-MODIFIED:20251006T154239Z
UID:10014462-1759429800-1759435200@lgbtqcolorado.org
SUMMARY:Online Trans Femme Support Group
DESCRIPTION:MUST BE 18 YEARS OLD \nThis online peer lead and confidential support group is for individuals who were assigned male at birth and identify as trans women\, trans feminine\, and/or male-to-female (MtF). This is a safe space providing peer-run social support\, engaging conversation\, and relevant resources to attendees. Support groups at The Center on Colfax are always free to attend. \nDates: Every Thursday from 6:30 - 8:00 PM.  \nFor Registration and/or Questions: Please contact Terwanda McMoore\, Support Group Coordinator\, at tmcmoore@lgbtqcolorado.org
URL:https://lgbtqcolorado.org/event/online-trans-femme-support/2025-10-02/
LOCATION:Online
CATEGORIES:The Center Calendar,Transgender Program,Support Groups
ATTACH;FMTTYPE=image/jpeg:https://lgbtqcolorado.org/wp-content/uploads/2022/04/TransFemme-Online-16x9-1.jpg
END:VEVENT
END:VCALENDAR