BEGIN:VCALENDAR
VERSION:2.0
PRODID:-//The Center on Colfax - LGBTQ Colorado - ECPv6.15.20//NONSGML v1.0//EN
CALSCALE:GREGORIAN
METHOD:PUBLISH
X-ORIGINAL-URL:https://lgbtqcolorado.org
X-WR-CALDESC:Events for The Center on Colfax - LGBTQ Colorado
REFRESH-INTERVAL;VALUE=DURATION:PT1H
X-Robots-Tag:noindex
X-PUBLISHED-TTL:PT1H
BEGIN:VTIMEZONE
TZID:America/Denver
BEGIN:DAYLIGHT
TZOFFSETFROM:-0700
TZOFFSETTO:-0600
TZNAME:MDT
DTSTART:20240310T090000
END:DAYLIGHT
BEGIN:STANDARD
TZOFFSETFROM:-0600
TZOFFSETTO:-0700
TZNAME:MST
DTSTART:20241103T080000
END:STANDARD
BEGIN:DAYLIGHT
TZOFFSETFROM:-0700
TZOFFSETTO:-0600
TZNAME:MDT
DTSTART:20250309T090000
END:DAYLIGHT
BEGIN:STANDARD
TZOFFSETFROM:-0600
TZOFFSETTO:-0700
TZNAME:MST
DTSTART:20251102T080000
END:STANDARD
BEGIN:DAYLIGHT
TZOFFSETFROM:-0700
TZOFFSETTO:-0600
TZNAME:MDT
DTSTART:20260308T090000
END:DAYLIGHT
BEGIN:STANDARD
TZOFFSETFROM:-0600
TZOFFSETTO:-0700
TZNAME:MST
DTSTART:20261101T080000
END:STANDARD
END:VTIMEZONE
BEGIN:VEVENT
DTSTART;TZID=America/Denver:20251120T180000
DTEND;TZID=America/Denver:20251120T210000
DTSTAMP:20260422T000539
CREATED:20251028T204955Z
LAST-MODIFIED:20251104T170219Z
UID:10027412-1763661600-1763672400@lgbtqcolorado.org
SUMMARY:Transgender Day of Remembrance
DESCRIPTION:Transgender Day of Remembrance (TDoR) is an annual observance that honors the memory of transgender and gender-diverse people whose lives were lost in acts of anti-trans violence. \nPlease join The Transgender Center of the Rockies and The Center on Colfax in observing Transgender Day of Remembrance with a heartfelt community event at The Pearl Denver. We will honor those who have lost their lives this year with music\, poetry\, affirmations\, and speaking their names aloud during a candlelit ceremony. \nAttendees are invited to contribute to our altar and name-reading ceremony with photos and names of their trans and gender-diverse loved ones who have passed away. \nAll community members and allies are welcome at the event. Light refreshments and warm drinks will be provided with vegan\, vegetarian\, and gluten free options available. \nDate: Thursday\, November 20 \nTime: Doors open at 6:00 PM. Ceremony runs 7:00 - 9:00 PM \nIn-Person Location: The Pearl Denver\, 2199 California St\, Denver\, CO 80205
URL:https://lgbtqcolorado.org/event/transgender-day-of-remembrance-2025/
LOCATION:The Pearl\, 2199 California st\, Denver\, 80203
CATEGORIES:Community Events,The Center Calendar,Transgender Program,Transgender
ATTACH;FMTTYPE=image/jpeg:https://lgbtqcolorado.org/wp-content/uploads/2025/10/2025-TDOR-1920x1080-1.jpg
END:VEVENT
END:VCALENDAR