BEGIN:VCALENDAR
VERSION:2.0
PRODID:-//The Center on Colfax - LGBTQ Colorado - ECPv6.15.20//NONSGML v1.0//EN
CALSCALE:GREGORIAN
METHOD:PUBLISH
X-ORIGINAL-URL:https://lgbtqcolorado.org
X-WR-CALDESC:Events for The Center on Colfax - LGBTQ Colorado
REFRESH-INTERVAL;VALUE=DURATION:PT1H
X-Robots-Tag:noindex
X-PUBLISHED-TTL:PT1H
BEGIN:VTIMEZONE
TZID:America/Denver
BEGIN:DAYLIGHT
TZOFFSETFROM:-0700
TZOFFSETTO:-0600
TZNAME:MDT
DTSTART:20250309T090000
END:DAYLIGHT
BEGIN:STANDARD
TZOFFSETFROM:-0600
TZOFFSETTO:-0700
TZNAME:MST
DTSTART:20251102T080000
END:STANDARD
BEGIN:DAYLIGHT
TZOFFSETFROM:-0700
TZOFFSETTO:-0600
TZNAME:MDT
DTSTART:20260308T090000
END:DAYLIGHT
BEGIN:STANDARD
TZOFFSETFROM:-0600
TZOFFSETTO:-0700
TZNAME:MST
DTSTART:20261101T080000
END:STANDARD
BEGIN:DAYLIGHT
TZOFFSETFROM:-0700
TZOFFSETTO:-0600
TZNAME:MDT
DTSTART:20270314T090000
END:DAYLIGHT
BEGIN:STANDARD
TZOFFSETFROM:-0600
TZOFFSETTO:-0700
TZNAME:MST
DTSTART:20271107T080000
END:STANDARD
BEGIN:DAYLIGHT
TZOFFSETFROM:-0700
TZOFFSETTO:-0600
TZNAME:MDT
DTSTART:20280312T090000
END:DAYLIGHT
BEGIN:STANDARD
TZOFFSETFROM:-0600
TZOFFSETTO:-0700
TZNAME:MST
DTSTART:20281105T080000
END:STANDARD
END:VTIMEZONE
BEGIN:VEVENT
DTSTART;TZID=America/Denver:20261228T180000
DTEND;TZID=America/Denver:20261228T200000
DTSTAMP:20260424T160849
CREATED:20220103T194659Z
LAST-MODIFIED:20251006T154444Z
UID:10011111-1798480800-1798488000@lgbtqcolorado.org
SUMMARY:Online Ace Space Support Group
DESCRIPTION:This online peer lead and confidential support group is for individuals who identify along the asexual and/or aromantic spectrums\, including (but not limited to) demiromantic\, demisexual\, greyromantic\, and greysexual. This is a safe space providing peer-run social support\, engaging conversation\, and relevant resources to attendees. Support groups at The Center on Colfax are always free to attend. \nDates: Join us on the Fourth Monday of each month in-person from 6:00 - 8:00 PM \nLocation: Online via Zoom \nFor Registration and/or Questions: Please contact Terwanda McMoore\, Support Group Coordinator\, at tmcmoore@lgbtqcolorado.org
URL:https://lgbtqcolorado.org/event/ace-space-online/2026-12-28/
LOCATION:Online
CATEGORIES:The Center Calendar,Transgender Program,Support Groups,Transgender
ATTACH;FMTTYPE=image/png:https://lgbtqcolorado.org/wp-content/uploads/2022/01/AceSpace-Online-16x9-1.png
END:VEVENT
BEGIN:VEVENT
DTSTART;TZID=America/Denver:20261228T183000
DTEND;TZID=America/Denver:20261228T200000
DTSTAMP:20260424T160849
CREATED:20240905T225342Z
LAST-MODIFIED:20251006T154130Z
UID:10018687-1798482600-1798488000@lgbtqcolorado.org
SUMMARY:Online Trans Masc Support Group - Second and Fourth Mondays
DESCRIPTION:MUST BE 18 YEARS OLD\n\nThis online peer lead and confidential support group is for individuals who were assigned female at birth and identify as trans men\, trans masculine\, and/or female-to-male (FtM). This is a safe space providing peer-run social support\, engaging conversation\, and relevant resources to attendees. Support groups at The Center on Colfax are always free to attend.\n\nDates: Join us on the Second and Fourth Monday of every month online from 6:30 - 8:00 PM \nFor Registration and/or Questions: Please contact Terwanda McMoore\, Support Group Coordinator\, at tmcmoore@lgbtqcolorado.org
URL:https://lgbtqcolorado.org/event/online-trans-masc-support-group-3/2026-12-28/
LOCATION:Online
CATEGORIES:The Center Calendar,Transgender Program,Support Groups
ATTACH;FMTTYPE=image/png:https://lgbtqcolorado.org/wp-content/uploads/2022/04/OnlineTransMasc-16x9-2.png
END:VEVENT
BEGIN:VEVENT
DTSTART;TZID=America/Denver:20261229T190000
DTEND;TZID=America/Denver:20261229T200000
DTSTAMP:20260424T160849
CREATED:20240816T180453Z
LAST-MODIFIED:20240816T180741Z
UID:10017811-1798570800-1798574400@lgbtqcolorado.org
SUMMARY:Narcotics Anonymous
DESCRIPTION:Please join us for a weekly meeting for Narcotics Anonymous. \nDates: Every Tuesday\, 7:00 - 8:00 PM and Every Saturday\, 1:00 - 2:00 PM \nWhere: The Phoenix Annex Building - 2221 Champa Street\, Denver\, CO 80205
URL:https://lgbtqcolorado.org/event/narcotics-anonymous/2026-12-29/
LOCATION:The Phoenix – Annex Building\, 2221 Champa Street\, Denver\, CO\, 80205\, United States
CATEGORIES:Community Events,Support Groups
ATTACH;FMTTYPE=image/jpeg:https://lgbtqcolorado.org/wp-content/uploads/2022/04/NA_group_logo_Jimmy_K.jpg
ORGANIZER;CN="The Phoenix":MAILTO:richard@thephoenix.org
END:VEVENT
BEGIN:VEVENT
DTSTART;TZID=America/Denver:20261230T180000
DTEND;TZID=America/Denver:20261230T200000
DTSTAMP:20260424T160849
CREATED:20251203T200520Z
LAST-MODIFIED:20251203T200520Z
UID:10028595-1798653600-1798660800@lgbtqcolorado.org
SUMMARY:In-Person Trans Masc Support Group
DESCRIPTION:MUST BE 18 YEARS OLD\n\nThis in-person peer lead and confidential support group is for individuals who were assigned female at birth and identify as trans men\, trans masculine\, and/or female-to-male (FtM). This is a safe\, drop-in space providing peer-run social support\, engaging conversation\, and relevant resources to attendees. Support groups at The Center on Colfax are always free to attend. No signup necessary. Walk-ins are welcome. \n\nFor any questions\, please contact Joy Iwancio\, Support Group Coordinator\, at JIwancio@lgbtqcolorado.org.
URL:https://lgbtqcolorado.org/event/in-person-trans-masc-support-group/2026-12-30/
LOCATION:The Center on Colfax\, 1301 E. Colfax Ave.\, Denver\, CO\, 80218\, United States
CATEGORIES:The Center Calendar,Transgender Program,Support Groups
ATTACH;FMTTYPE=image/png:https://lgbtqcolorado.org/wp-content/uploads/2024/01/InPersonTransMasc-16x9-2.png
GEO:39.7402674;-104.970419
X-APPLE-STRUCTURED-LOCATION;VALUE=URI;X-ADDRESS=The Center on Colfax 1301 E. Colfax Ave. Denver CO 80218 United States;X-APPLE-RADIUS=500;X-TITLE=1301 E. Colfax Ave.:geo:-104.970419,39.7402674
END:VEVENT
BEGIN:VEVENT
DTSTART;TZID=America/Denver:20261230T183000
DTEND;TZID=America/Denver:20261230T200000
DTSTAMP:20260424T160849
CREATED:20260302T221912Z
LAST-MODIFIED:20260302T221914Z
UID:10034521-1798655400-1798660800@lgbtqcolorado.org
SUMMARY:Online Trans & Nonbinary Adults 40+ Group
DESCRIPTION:This peer led group welcomes all transgender and nonbinary adults to an online space where they can come together for conversation and connections. \nDetails: A weekly\, drop-in friendly group for individuals 40 years or older. \nDate: Every Tuesday \nTime: 2:30 - 4:00 PM \nFor Registration and/or Questions: Please contact Terwanda McMoore\, Support Group Coordinator\, at tmcmoore@lgbtqcolorado.org
URL:https://lgbtqcolorado.org/event/online-trans-non-binary-adults-40-2/2026-12-30/
LOCATION:Online
CATEGORIES:The Center Calendar,Transgender Program,Older Adults,Support Groups,Transgender
ATTACH;FMTTYPE=image/png:https://lgbtqcolorado.org/wp-content/uploads/2020/10/content_trans_and_non-binary_gender_flags.png
END:VEVENT
BEGIN:VEVENT
DTSTART;TZID=America/Denver:20261231T180000
DTEND;TZID=America/Denver:20261231T200000
DTSTAMP:20260424T160849
CREATED:20220414T013020Z
LAST-MODIFIED:20250805T161945Z
UID:10008317-1798740000-1798747200@lgbtqcolorado.org
SUMMARY:In-Person Trans Femme Support Group
DESCRIPTION:This in-person peer lead and confidential support group is for individuals who were assigned male at birth and identify as trans women\, trans feminine\, and/or male-to-female (MtF). This is a safe\, drop-in space providing peer-run social support\, engaging conversation\, and relevant resources to attendees. Support groups at The Center on Colfax are always free to attend. No signup necessary. Walk-ins are welcome. \nHow to Get Involved: For any questions\, please contact Joy Iwancio\, Director of Transgender Services\, at JIwancio@lgbtqcolorado.org.\n\nDates: Join us weekly on Thursdays from 6:00 - 8:00 PM
URL:https://lgbtqcolorado.org/event/in-person-trans-femme-support/2026-12-31/
LOCATION:Stonewall Meeting Room\, 1301 E. Colfax Ave.\, Denver\, Colorado\, 80218
CATEGORIES:The Center Calendar,Transgender Program,Support Groups
ATTACH;FMTTYPE=image/jpeg:https://lgbtqcolorado.org/wp-content/uploads/2022/04/TransFemme-InPerson-16x9-2.jpg
END:VEVENT
BEGIN:VEVENT
DTSTART;TZID=America/Denver:20261231T183000
DTEND;TZID=America/Denver:20261231T200000
DTSTAMP:20260424T160849
CREATED:20220414T012626Z
LAST-MODIFIED:20251006T154239Z
UID:10014527-1798741800-1798747200@lgbtqcolorado.org
SUMMARY:Online Trans Femme Support Group
DESCRIPTION:MUST BE 18 YEARS OLD \nThis online peer lead and confidential support group is for individuals who were assigned male at birth and identify as trans women\, trans feminine\, and/or male-to-female (MtF). This is a safe space providing peer-run social support\, engaging conversation\, and relevant resources to attendees. Support groups at The Center on Colfax are always free to attend. \nDates: Every Thursday from 6:30 - 8:00 PM.  \nFor Registration and/or Questions: Please contact Terwanda McMoore\, Support Group Coordinator\, at tmcmoore@lgbtqcolorado.org
URL:https://lgbtqcolorado.org/event/online-trans-femme-support/2026-12-31/
LOCATION:Online
CATEGORIES:The Center Calendar,Transgender Program,Support Groups
ATTACH;FMTTYPE=image/jpeg:https://lgbtqcolorado.org/wp-content/uploads/2022/04/TransFemme-Online-16x9-1.jpg
END:VEVENT
BEGIN:VEVENT
DTSTART;TZID=America/Denver:20270102T130000
DTEND;TZID=America/Denver:20270102T140000
DTSTAMP:20260424T160849
CREATED:20240816T180731Z
LAST-MODIFIED:20250212T203132Z
UID:10018333-1798894800-1798898400@lgbtqcolorado.org
SUMMARY:Narcotics Anonymous
DESCRIPTION:Please join us for a weekly meeting for Narcotics Anonymous. \nDates: Every Tuesday\, 7:00 - 8:00 PM and Every Saturday\, 1:00 - 2:00 PM \nWhere: The Phoenix Annex Building - 2221 Champa Street\, Denver\, CO 80205
URL:https://lgbtqcolorado.org/event/narcotics-anonymous-2/2027-01-02/
LOCATION:The Phoenix – Annex Building\, 2221 Champa Street\, Denver\, CO\, 80205\, United States
CATEGORIES:Community Events,Resources,Support Groups
ATTACH;FMTTYPE=image/jpeg:https://lgbtqcolorado.org/wp-content/uploads/2022/04/NA_group_logo_Jimmy_K.jpg
ORGANIZER;CN="The Phoenix":MAILTO:richard@thephoenix.org
END:VEVENT
END:VCALENDAR