BEGIN:VCALENDAR
VERSION:2.0
PRODID:-//The Center on Colfax - LGBTQ Colorado - ECPv6.15.20//NONSGML v1.0//EN
CALSCALE:GREGORIAN
METHOD:PUBLISH
X-ORIGINAL-URL:https://lgbtqcolorado.org
X-WR-CALDESC:Events for The Center on Colfax - LGBTQ Colorado
REFRESH-INTERVAL;VALUE=DURATION:PT1H
X-Robots-Tag:noindex
X-PUBLISHED-TTL:PT1H
BEGIN:VTIMEZONE
TZID:America/Denver
BEGIN:DAYLIGHT
TZOFFSETFROM:-0700
TZOFFSETTO:-0600
TZNAME:MDT
DTSTART:20250309T090000
END:DAYLIGHT
BEGIN:STANDARD
TZOFFSETFROM:-0600
TZOFFSETTO:-0700
TZNAME:MST
DTSTART:20251102T080000
END:STANDARD
BEGIN:DAYLIGHT
TZOFFSETFROM:-0700
TZOFFSETTO:-0600
TZNAME:MDT
DTSTART:20260308T090000
END:DAYLIGHT
BEGIN:STANDARD
TZOFFSETFROM:-0600
TZOFFSETTO:-0700
TZNAME:MST
DTSTART:20261101T080000
END:STANDARD
BEGIN:DAYLIGHT
TZOFFSETFROM:-0700
TZOFFSETTO:-0600
TZNAME:MDT
DTSTART:20270314T090000
END:DAYLIGHT
BEGIN:STANDARD
TZOFFSETFROM:-0600
TZOFFSETTO:-0700
TZNAME:MST
DTSTART:20271107T080000
END:STANDARD
END:VTIMEZONE
BEGIN:VEVENT
DTSTART;TZID=America/Denver:20260907T183000
DTEND;TZID=America/Denver:20260907T200000
DTSTAMP:20260422T222400
CREATED:20251022T220653Z
LAST-MODIFIED:20260109T234530Z
UID:10030066-1788805800-1788811200@lgbtqcolorado.org
SUMMARY:Alternatives to Suicide Peer Support Group
DESCRIPTION:Alternatives to Suicide Peer Support Group\nAlternatives to Suicide is a free\, non-judgmental\, non-clinical\, peer-led\, and confidential drop-in space where people can share difficult thoughts and feelings without being assumed to have an illness or be assessed for involuntary intervention. \nThe phrase\, “I feel suicidal” can hold many meanings. Having the space to openly explore the thoughts\, feelings\, and experiences underneath is often helpful in moving towards something different. \nThese groups are not just for people who are actively suicidal\, but for anyone who would benefit from a non-judgmental space to explore their thoughts and emotions with a group. \nThis group is free\, welcoming and friendly\, and we provide snacks! \nFor information on accessibility at the building itself\, check out this access guide. \nFor accessibility requests or other questions\, email: info@yarrowcollective.org. \nFAQ about our groups here. \nAges: 18+ \nDates: First and Third Mondays of each month \nTime: 6:30 - 8:00 PM \nLocation: The Center on Colfax - 1301 E. Colfax Ave.\, Denver\, CO 80218
URL:https://lgbtqcolorado.org/event/lgbtq-suicide-awareness-support-group-first-mondays/2026-09-07/
LOCATION:The Center on Colfax\, 1301 E. Colfax Ave.\, Denver\, CO\, 80218\, United States
CATEGORIES:Glass Lawler Mental Health,Resources,The Center Calendar,Support Groups
ATTACH;FMTTYPE=image/jpeg:https://lgbtqcolorado.org/wp-content/uploads/2025/10/2025-SuicideAwarenessPeerSupportGroup-16x9-1.jpg
GEO:39.7402674;-104.970419
X-APPLE-STRUCTURED-LOCATION;VALUE=URI;X-ADDRESS=The Center on Colfax 1301 E. Colfax Ave. Denver CO 80218 United States;X-APPLE-RADIUS=500;X-TITLE=1301 E. Colfax Ave.:geo:-104.970419,39.7402674
END:VEVENT
BEGIN:VEVENT
DTSTART;TZID=America/Denver:20260908T180000
DTEND;TZID=America/Denver:20260908T193000
DTSTAMP:20260422T222400
CREATED:20250303T184453Z
LAST-MODIFIED:20260304T220903Z
UID:10032545-1788890400-1788895800@lgbtqcolorado.org
SUMMARY:BIPOC Peer Support Group
DESCRIPTION:Join our hybrid BIPOC peer support group! This group is here to support those in the LGBTQ+ community who have an intersecting BIPOC identity. Participants can expect to meet others in the community who closely identity with them\, learn about themselves and about the many other factors that could contribute to their overall well-being. \nAges: 18+ years old \nDates: Second Tuesday of each month \nTime: 6:00 - 7:30 PM \nIn-Person Attendance: The Center on Colfax - 1301 East Colfax Avenue\, Denver\, CO\, 80218 \nVirtual Attendance: Via Zoom - Click here for the meeting link \n\nMeeting ID: 886 8738 5939\nPasscode: 754647\n\nAny questions? Please contact Jaylin Goodloe at jgoodloe@lgbtqcolorado.org.
URL:https://lgbtqcolorado.org/event/bipoc-support/2026-09-08/
LOCATION:Virtual – Zoom
CATEGORIES:Glass Lawler Mental Health,The Center Calendar,Support Groups
ATTACH;FMTTYPE=image/jpeg:https://lgbtqcolorado.org/wp-content/uploads/2023/06/2025-BIPOCPeerSupportGroup-16x9-1.jpg
END:VEVENT
BEGIN:VEVENT
DTSTART;TZID=America/Denver:20260908T183000
DTEND;TZID=America/Denver:20260908T200000
DTSTAMP:20260422T222400
CREATED:20220111T175217Z
LAST-MODIFIED:20251006T153924Z
UID:10005293-1788892200-1788897600@lgbtqcolorado.org
SUMMARY:Online Nonbinary Support Group
DESCRIPTION:MUST BE 18 YEARS OLD \nThis online peer lead and confidential support group provides peer support and resources to those who identify outside the gender binary\, including gender queer\, agender\, gender fluid\, bi-gender\, or gender non-conforming people. This is a safe space providing peer-run social support\, engaging conversation\, and relevant resources to attendees. Support groups at The Center on Colfax are always free to attend. Support groups at The Center on Colfax are always free to attend. \nDates: Join us the second and fourth Tuesdays of every month from 6:30 - 8:00 PM. \nFor Registration and/or Questions: Please contact Terwanda McMoore\, Support Group Coordinator\, at tmcmoore@lgbtqcolorado.org
URL:https://lgbtqcolorado.org/event/online-nonbinary-support-group/2026-09-08/
LOCATION:Virtual
CATEGORIES:The Center Calendar,Transgender Program,Support Groups,Transgender
ATTACH;FMTTYPE=image/png:https://lgbtqcolorado.org/wp-content/uploads/2023/09/OnlineNonBinary-16x9-1.png
END:VEVENT
BEGIN:VEVENT
DTSTART;TZID=America/Denver:20260908T190000
DTEND;TZID=America/Denver:20260908T200000
DTSTAMP:20260422T222400
CREATED:20240816T180453Z
LAST-MODIFIED:20240816T180741Z
UID:10017795-1788894000-1788897600@lgbtqcolorado.org
SUMMARY:Narcotics Anonymous
DESCRIPTION:Please join us for a weekly meeting for Narcotics Anonymous. \nDates: Every Tuesday\, 7:00 - 8:00 PM and Every Saturday\, 1:00 - 2:00 PM \nWhere: The Phoenix Annex Building - 2221 Champa Street\, Denver\, CO 80205
URL:https://lgbtqcolorado.org/event/narcotics-anonymous/2026-09-08/
LOCATION:The Phoenix – Annex Building\, 2221 Champa Street\, Denver\, CO\, 80205\, United States
CATEGORIES:Community Events,Support Groups
ATTACH;FMTTYPE=image/jpeg:https://lgbtqcolorado.org/wp-content/uploads/2022/04/NA_group_logo_Jimmy_K.jpg
ORGANIZER;CN="The Phoenix":MAILTO:richard@thephoenix.org
END:VEVENT
BEGIN:VEVENT
DTSTART;TZID=America/Denver:20260909T180000
DTEND;TZID=America/Denver:20260909T200000
DTSTAMP:20260422T222400
CREATED:20251203T200520Z
LAST-MODIFIED:20251203T200520Z
UID:10028579-1788976800-1788984000@lgbtqcolorado.org
SUMMARY:In-Person Trans Masc Support Group
DESCRIPTION:MUST BE 18 YEARS OLD\n\nThis in-person peer lead and confidential support group is for individuals who were assigned female at birth and identify as trans men\, trans masculine\, and/or female-to-male (FtM). This is a safe\, drop-in space providing peer-run social support\, engaging conversation\, and relevant resources to attendees. Support groups at The Center on Colfax are always free to attend. No signup necessary. Walk-ins are welcome. \n\nFor any questions\, please contact Joy Iwancio\, Support Group Coordinator\, at JIwancio@lgbtqcolorado.org.
URL:https://lgbtqcolorado.org/event/in-person-trans-masc-support-group/2026-09-09/
LOCATION:The Center on Colfax\, 1301 E. Colfax Ave.\, Denver\, CO\, 80218\, United States
CATEGORIES:The Center Calendar,Transgender Program,Support Groups
ATTACH;FMTTYPE=image/png:https://lgbtqcolorado.org/wp-content/uploads/2024/01/InPersonTransMasc-16x9-2.png
GEO:39.7402674;-104.970419
X-APPLE-STRUCTURED-LOCATION;VALUE=URI;X-ADDRESS=The Center on Colfax 1301 E. Colfax Ave. Denver CO 80218 United States;X-APPLE-RADIUS=500;X-TITLE=1301 E. Colfax Ave.:geo:-104.970419,39.7402674
END:VEVENT
BEGIN:VEVENT
DTSTART;TZID=America/Denver:20260909T183000
DTEND;TZID=America/Denver:20260909T200000
DTSTAMP:20260422T222400
CREATED:20260302T221912Z
LAST-MODIFIED:20260302T221914Z
UID:10034505-1788978600-1788984000@lgbtqcolorado.org
SUMMARY:Online Trans & Nonbinary Adults 40+ Group
DESCRIPTION:This peer led group welcomes all transgender and nonbinary adults to an online space where they can come together for conversation and connections. \nDetails: A weekly\, drop-in friendly group for individuals 40 years or older. \nDate: Every Tuesday \nTime: 2:30 - 4:00 PM \nFor Registration and/or Questions: Please contact Terwanda McMoore\, Support Group Coordinator\, at tmcmoore@lgbtqcolorado.org
URL:https://lgbtqcolorado.org/event/online-trans-non-binary-adults-40-2/2026-09-09/
LOCATION:Online
CATEGORIES:The Center Calendar,Transgender Program,Older Adults,Support Groups,Transgender
ATTACH;FMTTYPE=image/png:https://lgbtqcolorado.org/wp-content/uploads/2020/10/content_trans_and_non-binary_gender_flags.png
END:VEVENT
BEGIN:VEVENT
DTSTART;TZID=America/Denver:20260910T180000
DTEND;TZID=America/Denver:20260910T200000
DTSTAMP:20260422T222400
CREATED:20220414T013020Z
LAST-MODIFIED:20250805T161945Z
UID:10008301-1789063200-1789070400@lgbtqcolorado.org
SUMMARY:In-Person Trans Femme Support Group
DESCRIPTION:This in-person peer lead and confidential support group is for individuals who were assigned male at birth and identify as trans women\, trans feminine\, and/or male-to-female (MtF). This is a safe\, drop-in space providing peer-run social support\, engaging conversation\, and relevant resources to attendees. Support groups at The Center on Colfax are always free to attend. No signup necessary. Walk-ins are welcome. \nHow to Get Involved: For any questions\, please contact Joy Iwancio\, Director of Transgender Services\, at JIwancio@lgbtqcolorado.org.\n\nDates: Join us weekly on Thursdays from 6:00 - 8:00 PM
URL:https://lgbtqcolorado.org/event/in-person-trans-femme-support/2026-09-10/
LOCATION:Stonewall Meeting Room\, 1301 E. Colfax Ave.\, Denver\, Colorado\, 80218
CATEGORIES:The Center Calendar,Transgender Program,Support Groups
ATTACH;FMTTYPE=image/jpeg:https://lgbtqcolorado.org/wp-content/uploads/2022/04/TransFemme-InPerson-16x9-2.jpg
END:VEVENT
BEGIN:VEVENT
DTSTART;TZID=America/Denver:20260910T183000
DTEND;TZID=America/Denver:20260910T200000
DTSTAMP:20260422T222400
CREATED:20220414T012626Z
LAST-MODIFIED:20251006T154239Z
UID:10014511-1789065000-1789070400@lgbtqcolorado.org
SUMMARY:Online Trans Femme Support Group
DESCRIPTION:MUST BE 18 YEARS OLD \nThis online peer lead and confidential support group is for individuals who were assigned male at birth and identify as trans women\, trans feminine\, and/or male-to-female (MtF). This is a safe space providing peer-run social support\, engaging conversation\, and relevant resources to attendees. Support groups at The Center on Colfax are always free to attend. \nDates: Every Thursday from 6:30 - 8:00 PM.  \nFor Registration and/or Questions: Please contact Terwanda McMoore\, Support Group Coordinator\, at tmcmoore@lgbtqcolorado.org
URL:https://lgbtqcolorado.org/event/online-trans-femme-support/2026-09-10/
LOCATION:Online
CATEGORIES:The Center Calendar,Transgender Program,Support Groups
ATTACH;FMTTYPE=image/jpeg:https://lgbtqcolorado.org/wp-content/uploads/2022/04/TransFemme-Online-16x9-1.jpg
END:VEVENT
BEGIN:VEVENT
DTSTART;TZID=America/Denver:20260912T123000
DTEND;TZID=America/Denver:20260912T140000
DTSTAMP:20260422T222400
CREATED:20231201T175605Z
LAST-MODIFIED:20250804T152940Z
UID:10013101-1789216200-1789221600@lgbtqcolorado.org
SUMMARY:In Person Transgender and Significant Others Support Group
DESCRIPTION:MUST BE 18 YEARS OLD \nThis in person peer lead and confidential support group provides peer support and resources to adults who identify transgender or gender diverse\, as well as significant others of transgender people. This is a safe\, drop-in space providing peer-run social support\, engaging conversation\, and relevant resources to attendees. Support groups at The Center on Colfax are always free to attend. No signup necessary. Walk-ins are welcome. \nDates: Second Saturdays from 12:30 - 2:00 PM \nFor any questions\, please contact Joy Iwancio\, Director of Transgender Services\, at JIwancio@lgbtqcolorado.org
URL:https://lgbtqcolorado.org/event/trans-significant-others-support-group/2026-09-12/
LOCATION:The Center on Colfax\, 1301 E. Colfax Ave.\, Denver\, CO\, 80218\, United States
CATEGORIES:The Center Calendar,Transgender Program,Support Groups,Transgender
ATTACH;FMTTYPE=image/jpeg:https://lgbtqcolorado.org/wp-content/uploads/2023/12/InPerson-Trans-SignificantOthers-16x9-2.jpg
GEO:39.7402674;-104.970419
X-APPLE-STRUCTURED-LOCATION;VALUE=URI;X-ADDRESS=The Center on Colfax 1301 E. Colfax Ave. Denver CO 80218 United States;X-APPLE-RADIUS=500;X-TITLE=1301 E. Colfax Ave.:geo:-104.970419,39.7402674
END:VEVENT
BEGIN:VEVENT
DTSTART;TZID=America/Denver:20260912T130000
DTEND;TZID=America/Denver:20260912T140000
DTSTAMP:20260422T222400
CREATED:20240816T180731Z
LAST-MODIFIED:20250212T203132Z
UID:10018317-1789218000-1789221600@lgbtqcolorado.org
SUMMARY:Narcotics Anonymous
DESCRIPTION:Please join us for a weekly meeting for Narcotics Anonymous. \nDates: Every Tuesday\, 7:00 - 8:00 PM and Every Saturday\, 1:00 - 2:00 PM \nWhere: The Phoenix Annex Building - 2221 Champa Street\, Denver\, CO 80205
URL:https://lgbtqcolorado.org/event/narcotics-anonymous-2/2026-09-12/
LOCATION:The Phoenix – Annex Building\, 2221 Champa Street\, Denver\, CO\, 80205\, United States
CATEGORIES:Community Events,Resources,Support Groups
ATTACH;FMTTYPE=image/jpeg:https://lgbtqcolorado.org/wp-content/uploads/2022/04/NA_group_logo_Jimmy_K.jpg
ORGANIZER;CN="The Phoenix":MAILTO:richard@thephoenix.org
END:VEVENT
END:VCALENDAR