BEGIN:VCALENDAR
VERSION:2.0
PRODID:-//The Center on Colfax - LGBTQ Colorado - ECPv6.15.20//NONSGML v1.0//EN
CALSCALE:GREGORIAN
METHOD:PUBLISH
X-ORIGINAL-URL:https://lgbtqcolorado.org
X-WR-CALDESC:Events for The Center on Colfax - LGBTQ Colorado
REFRESH-INTERVAL;VALUE=DURATION:PT1H
X-Robots-Tag:noindex
X-PUBLISHED-TTL:PT1H
BEGIN:VTIMEZONE
TZID:America/Denver
BEGIN:DAYLIGHT
TZOFFSETFROM:-0700
TZOFFSETTO:-0600
TZNAME:MDT
DTSTART:20250309T090000
END:DAYLIGHT
BEGIN:STANDARD
TZOFFSETFROM:-0600
TZOFFSETTO:-0700
TZNAME:MST
DTSTART:20251102T080000
END:STANDARD
BEGIN:DAYLIGHT
TZOFFSETFROM:-0700
TZOFFSETTO:-0600
TZNAME:MDT
DTSTART:20260308T090000
END:DAYLIGHT
BEGIN:STANDARD
TZOFFSETFROM:-0600
TZOFFSETTO:-0700
TZNAME:MST
DTSTART:20261101T080000
END:STANDARD
BEGIN:DAYLIGHT
TZOFFSETFROM:-0700
TZOFFSETTO:-0600
TZNAME:MDT
DTSTART:20270314T090000
END:DAYLIGHT
BEGIN:STANDARD
TZOFFSETFROM:-0600
TZOFFSETTO:-0700
TZNAME:MST
DTSTART:20271107T080000
END:STANDARD
END:VTIMEZONE
BEGIN:VEVENT
DTSTART;TZID=America/Denver:20260525T150000
DTEND;TZID=America/Denver:20260525T160000
DTSTAMP:20260423T082348
CREATED:20260121T000240Z
LAST-MODIFIED:20260121T000241Z
UID:10030752-1779721200-1779724800@lgbtqcolorado.org
SUMMARY:Servicios de la Raza Drop In
DESCRIPTION:Servicios de la Raza estará ofreciendo asistencia para personas de la comunidad que estén buscando asesoría como: administración de servicios y abogacía para víctimas de violencia intrafamiliar y otros crímenes en general. Adicionalmente\, podremos referir dependiendo de sus necesidades a otros servicios dentro de Servicios de la Raza u otras agencias que ofrecen servicios esenciales de emergencia. \nServicios de la Raza will be hosting drop-ins in which community members can seek the following services: case management and legal victim advocacy for victims of domestic violence and general crime. In addition\, we will be able to refer clients within and outside of the agency and emergency essential items. \nFecha/Date: Los últimos 2 lunes de cada mes / Last two Mondays of each month \nHora/Time: 1:00 - 3:00 PM \nSitio/Location: Visibility Room at The Center on Colfax - 1301 East Colfax Avenue\, Denver\, CO 80218 \n\n\n\n2025 Temas / 2025 Topics\n\nApril 21 and 28: Regular Outreach\nMay 19: Beaded Jewelry\nJune 16 and 23: Square Stitch Key Chains\nJuly 21: Regular Outreach\nJuly 28: AcuDetox\nAugust 18 and 25: Regular Outreach\nSeptember 22 and 29: Regular Outreach\nOctober 20 and 27: Mask Making and Pumpkin Decorating\nNovember 17 and 24: Thanksgiving Crafts\nNovember 26 (4:00 - 5:00 PM): AcuDetox\nDecember 15 and 22: Christmas Crafts
URL:https://lgbtqcolorado.org/event/servicios-de-la-raza-christmas-crafts-2-2/2026-05-25/
LOCATION:Visibility Room\, 1301 E. Colfax Ave.\, Denver\, Colorado\, 80218
CATEGORIES:Community Events,Resources,The Center Calendar
ATTACH;FMTTYPE=image/png:https://lgbtqcolorado.org/wp-content/uploads/2024/04/ServiciosDeLaRaza-Spanish-16x9-1.png
END:VEVENT
BEGIN:VEVENT
DTSTART;TZID=America/Denver:20260527T080000
DTEND;TZID=America/Denver:20260527T170000
DTSTAMP:20260423T082348
CREATED:20250206T214306Z
LAST-MODIFIED:20250212T203208Z
UID:10021229-1779868800-1779901200@lgbtqcolorado.org
SUMMARY:Queer Meditation Group
DESCRIPTION:Join us the fourth Wednesday of the month from 6:30-8pm for a Queer meditation practice in the Thich Nhat Hanh Plum Village mindfulness lineage. This is sponsored by the Denver Eyes of Compassion Sangha and Wake Up Denver Young Adult Sangha and welcomes all members of the LGBTQIA+ community. No prior meditation experience is needed. This practice is offered freely\, and for those able\, we appreciate a suggested donation of $5 to help cover space rental. \nOur general format for the monthly practice is: \n6:30pm - Welcome and introductions \n15 - 20 minute Guided Meditation \n10 Minute Optional Walking Meditation \n10 Minute Dharma Reading \n25 Minute Deep Listening & Loving Speech \n8:30pm Dedication of Merit and Closing \nOptional Tea Time!
URL:https://lgbtqcolorado.org/event/queer-meditation-group/2026-05-27/
LOCATION:University Park Methodist Church\, 2180 S. University Blvd\, Denver\, 80211
CATEGORIES:Community Events,Resources
ATTACH;FMTTYPE=image/jpeg:https://lgbtqcolorado.org/wp-content/uploads/2025/02/Flyer_QueerMeditationGroup_Rainbow.jpg
ORGANIZER;CN="Linds West Roberts":MAILTO:linds@gatherthewild.love
END:VEVENT
BEGIN:VEVENT
DTSTART;TZID=America/Denver:20260527T100000
DTEND;TZID=America/Denver:20260527T170000
DTSTAMP:20260423T082348
CREATED:20260319T215327Z
LAST-MODIFIED:20260319T215327Z
UID:10035233-1779876000-1779901200@lgbtqcolorado.org
SUMMARY:Gender Affirming Care Letter Lab
DESCRIPTION:
URL:https://lgbtqcolorado.org/event/gender-affirming-care-letter-lab-3/2026-05-27/
LOCATION:The Center on Colfax\, 1301 E. Colfax Ave.\, Denver\, CO\, 80218\, United States
CATEGORIES:Glass Lawler Mental Health,Resources,Gender Affirming Care Letter Lab,The Center Calendar
ATTACH;FMTTYPE=image/jpeg:https://lgbtqcolorado.org/wp-content/uploads/2025/08/2025-WPATHLetterLab-16x9-V3.jpg
GEO:39.7402674;-104.970419
X-APPLE-STRUCTURED-LOCATION;VALUE=URI;X-ADDRESS=The Center on Colfax 1301 E. Colfax Ave. Denver CO 80218 United States;X-APPLE-RADIUS=500;X-TITLE=1301 E. Colfax Ave.:geo:-104.970419,39.7402674
END:VEVENT
BEGIN:VEVENT
DTSTART;TZID=America/Denver:20260527T143000
DTEND;TZID=America/Denver:20260527T160000
DTSTAMP:20260423T082348
CREATED:20230118T032014Z
LAST-MODIFIED:20250604T162958Z
UID:10014075-1779892200-1779897600@lgbtqcolorado.org
SUMMARY:Colorado Fingerprinting
DESCRIPTION:The Center on Colfax is happy to bring in Colorado Fingerprinting to provide fingerprinting services at The Center on Colfax\, every Wednesday from 2:30 - 4:30 PM. \nPlease schedule an appointment with Colorado Fingerprinting via their website. \nColorado Fingerprinting provides services for Colorado Name Change Project\, Kinship Adoptions\, 24/48 Hour FBI Background Checks\, FBI Background Checks\, CBI Checks\, Finger Print Cards\, Florida Livescan\, and FINRA.
URL:https://lgbtqcolorado.org/event/fingerprinting/2026-05-27/
LOCATION:The Center on Colfax\, 1301 E. Colfax Ave.\, Denver\, CO\, 80218\, United States
CATEGORIES:Community Events,Resources,The Center Calendar
ATTACH;FMTTYPE=image/jpeg:https://lgbtqcolorado.org/wp-content/uploads/2023/01/fingerprining.jpg
GEO:39.7402674;-104.970419
X-APPLE-STRUCTURED-LOCATION;VALUE=URI;X-ADDRESS=The Center on Colfax 1301 E. Colfax Ave. Denver CO 80218 United States;X-APPLE-RADIUS=500;X-TITLE=1301 E. Colfax Ave.:geo:-104.970419,39.7402674
END:VEVENT
BEGIN:VEVENT
DTSTART;TZID=America/Denver:20260530T130000
DTEND;TZID=America/Denver:20260530T140000
DTSTAMP:20260423T082348
CREATED:20240816T180731Z
LAST-MODIFIED:20250212T203132Z
UID:10018302-1780146000-1780149600@lgbtqcolorado.org
SUMMARY:Narcotics Anonymous
DESCRIPTION:Please join us for a weekly meeting for Narcotics Anonymous. \nDates: Every Tuesday\, 7:00 - 8:00 PM and Every Saturday\, 1:00 - 2:00 PM \nWhere: The Phoenix Annex Building - 2221 Champa Street\, Denver\, CO 80205
URL:https://lgbtqcolorado.org/event/narcotics-anonymous-2/2026-05-30/
LOCATION:The Phoenix – Annex Building\, 2221 Champa Street\, Denver\, CO\, 80205\, United States
CATEGORIES:Community Events,Resources,Support Groups
ATTACH;FMTTYPE=image/jpeg:https://lgbtqcolorado.org/wp-content/uploads/2022/04/NA_group_logo_Jimmy_K.jpg
ORGANIZER;CN="The Phoenix":MAILTO:richard@thephoenix.org
END:VEVENT
END:VCALENDAR