BEGIN:VCALENDAR
VERSION:2.0
PRODID:-//The Center on Colfax - LGBTQ Colorado - ECPv6.15.20//NONSGML v1.0//EN
CALSCALE:GREGORIAN
METHOD:PUBLISH
X-ORIGINAL-URL:https://lgbtqcolorado.org
X-WR-CALDESC:Events for The Center on Colfax - LGBTQ Colorado
REFRESH-INTERVAL;VALUE=DURATION:PT1H
X-Robots-Tag:noindex
X-PUBLISHED-TTL:PT1H
BEGIN:VTIMEZONE
TZID:America/Denver
BEGIN:DAYLIGHT
TZOFFSETFROM:-0700
TZOFFSETTO:-0600
TZNAME:MDT
DTSTART:20250309T090000
END:DAYLIGHT
BEGIN:STANDARD
TZOFFSETFROM:-0600
TZOFFSETTO:-0700
TZNAME:MST
DTSTART:20251102T080000
END:STANDARD
BEGIN:DAYLIGHT
TZOFFSETFROM:-0700
TZOFFSETTO:-0600
TZNAME:MDT
DTSTART:20260308T090000
END:DAYLIGHT
BEGIN:STANDARD
TZOFFSETFROM:-0600
TZOFFSETTO:-0700
TZNAME:MST
DTSTART:20261101T080000
END:STANDARD
BEGIN:DAYLIGHT
TZOFFSETFROM:-0700
TZOFFSETTO:-0600
TZNAME:MDT
DTSTART:20270314T090000
END:DAYLIGHT
BEGIN:STANDARD
TZOFFSETFROM:-0600
TZOFFSETTO:-0700
TZNAME:MST
DTSTART:20271107T080000
END:STANDARD
END:VTIMEZONE
BEGIN:VEVENT
DTSTART;TZID=America/Denver:20260215T140000
DTEND;TZID=America/Denver:20260215T153000
DTSTAMP:20260420T222355
CREATED:20250109T182645Z
LAST-MODIFIED:20250212T203142Z
UID:10020282-1771164000-1771169400@lgbtqcolorado.org
SUMMARY:PFLAG Significant Other Support (SOS) Support Group
DESCRIPTION:This in-person group is a welcoming and affirming space designed for individuals navigating life alongside a partner\, spouse\, significant other\, or co-parent who identifies as trans\, nonbinary\, gender nonconforming\, or recently out as part of the LGBTQIA+ community. \n\n\nWe recognize the unique journey of supporting a loved one while honoring your own emotions and experiences. Whether you're celebrating their authenticity\, navigating changes in your relationship\, or seeking to better understand their identity\, this group provides a compassionate community where you can share\, learn\, and grow. \nTogether\, we will explore topics such as communication\, relationship dynamics\, self-care\, and allyship\, all while centering the diverse lived experiences of our participants. Facilitated by trained leaders\, this group offers a space to ask questions\, process feelings\, and connect with others who understand the joys and challenges of walking this path. \nCome as you are\, and join us in fostering understanding\, resilience\, and meaningful connections. \n\n\n\n\n\n\nMonthly registration is strongly encouraged to help us maintain up-to-date utilization records and reach you if there is a last-minute change for the support group.\nYou can register HERE.
URL:https://lgbtqcolorado.org/event/pflag-significant-other-support-sos-support-group/2026-02-15/
LOCATION:The Alliance Center\, 1536 Wynkoop St. STE 100\, Denver\, 80202
CATEGORIES:Community Events,Resources
ATTACH;FMTTYPE=image/jpeg:https://lgbtqcolorado.org/wp-content/uploads/2025/01/SUPPORT-Program-Instagram-10-1.jpg
ORGANIZER;CN="PFLAG Denver":MAILTO:support@pflagdenver.org
END:VEVENT
BEGIN:VEVENT
DTSTART;TZID=America/Denver:20260218T143000
DTEND;TZID=America/Denver:20260218T160000
DTSTAMP:20260420T222355
CREATED:20230118T032014Z
LAST-MODIFIED:20250604T162958Z
UID:10014061-1771425000-1771430400@lgbtqcolorado.org
SUMMARY:Colorado Fingerprinting
DESCRIPTION:The Center on Colfax is happy to bring in Colorado Fingerprinting to provide fingerprinting services at The Center on Colfax\, every Wednesday from 2:30 - 4:30 PM. \nPlease schedule an appointment with Colorado Fingerprinting via their website. \nColorado Fingerprinting provides services for Colorado Name Change Project\, Kinship Adoptions\, 24/48 Hour FBI Background Checks\, FBI Background Checks\, CBI Checks\, Finger Print Cards\, Florida Livescan\, and FINRA.
URL:https://lgbtqcolorado.org/event/fingerprinting/2026-02-18/
LOCATION:The Center on Colfax\, 1301 E. Colfax Ave.\, Denver\, CO\, 80218\, United States
CATEGORIES:Community Events,Resources,The Center Calendar
ATTACH;FMTTYPE=image/jpeg:https://lgbtqcolorado.org/wp-content/uploads/2023/01/fingerprining.jpg
GEO:39.7402674;-104.970419
X-APPLE-STRUCTURED-LOCATION;VALUE=URI;X-ADDRESS=The Center on Colfax 1301 E. Colfax Ave. Denver CO 80218 United States;X-APPLE-RADIUS=500;X-TITLE=1301 E. Colfax Ave.:geo:-104.970419,39.7402674
END:VEVENT
BEGIN:VEVENT
DTSTART;TZID=America/Denver:20260221T130000
DTEND;TZID=America/Denver:20260221T140000
DTSTAMP:20260420T222355
CREATED:20240816T180731Z
LAST-MODIFIED:20250212T203132Z
UID:10018288-1771678800-1771682400@lgbtqcolorado.org
SUMMARY:Narcotics Anonymous
DESCRIPTION:Please join us for a weekly meeting for Narcotics Anonymous. \nDates: Every Tuesday\, 7:00 - 8:00 PM and Every Saturday\, 1:00 - 2:00 PM \nWhere: The Phoenix Annex Building - 2221 Champa Street\, Denver\, CO 80205
URL:https://lgbtqcolorado.org/event/narcotics-anonymous-2/2026-02-21/
LOCATION:The Phoenix – Annex Building\, 2221 Champa Street\, Denver\, CO\, 80205\, United States
CATEGORIES:Community Events,Resources,Support Groups
ATTACH;FMTTYPE=image/jpeg:https://lgbtqcolorado.org/wp-content/uploads/2022/04/NA_group_logo_Jimmy_K.jpg
ORGANIZER;CN="The Phoenix":MAILTO:richard@thephoenix.org
END:VEVENT
END:VCALENDAR