BEGIN:VCALENDAR
VERSION:2.0
PRODID:-//The Center on Colfax - LGBTQ Colorado - ECPv6.15.20//NONSGML v1.0//EN
CALSCALE:GREGORIAN
METHOD:PUBLISH
X-ORIGINAL-URL:https://lgbtqcolorado.org
X-WR-CALDESC:Events for The Center on Colfax - LGBTQ Colorado
REFRESH-INTERVAL;VALUE=DURATION:PT1H
X-Robots-Tag:noindex
X-PUBLISHED-TTL:PT1H
BEGIN:VTIMEZONE
TZID:America/Denver
BEGIN:DAYLIGHT
TZOFFSETFROM:-0700
TZOFFSETTO:-0600
TZNAME:MDT
DTSTART:20250309T090000
END:DAYLIGHT
BEGIN:STANDARD
TZOFFSETFROM:-0600
TZOFFSETTO:-0700
TZNAME:MST
DTSTART:20251102T080000
END:STANDARD
BEGIN:DAYLIGHT
TZOFFSETFROM:-0700
TZOFFSETTO:-0600
TZNAME:MDT
DTSTART:20260308T090000
END:DAYLIGHT
BEGIN:STANDARD
TZOFFSETFROM:-0600
TZOFFSETTO:-0700
TZNAME:MST
DTSTART:20261101T080000
END:STANDARD
BEGIN:DAYLIGHT
TZOFFSETFROM:-0700
TZOFFSETTO:-0600
TZNAME:MDT
DTSTART:20270314T090000
END:DAYLIGHT
BEGIN:STANDARD
TZOFFSETFROM:-0600
TZOFFSETTO:-0700
TZNAME:MST
DTSTART:20271107T080000
END:STANDARD
END:VTIMEZONE
BEGIN:VEVENT
DTSTART;TZID=America/Denver:20260409T183000
DTEND;TZID=America/Denver:20260409T193000
DTSTAMP:20260421T060626
CREATED:20250109T182739Z
LAST-MODIFIED:20250212T203128Z
UID:10020260-1775759400-1775763000@lgbtqcolorado.org
SUMMARY:PFLAG SOFFA Online Support Group
DESCRIPTION:It's often said that when a loved one transitions\, everyone around them transitions too. PFLAG Denver's SOFFA group acknowledges that sometimes those closest to a transgender\, nonbinary\, or gender nonconforming person may need assistance to better provide support. Regardless of where you are on your allyship journey\, our peer-led groups provide brave space for you to adapt and develop expanded capacities of empathy and understanding. Through each other's stories\, we gain perspective\, we hold accountability\, and we celebrate joys. We learn coping strategies that can foster personal growth and resilience so that we may better support our loved ones. The collective insights and shared strength found in SOFFA can help individuals navigate their difficulties with increased emotional support and a sense of community\, ultimately contributing to their overall well-being and healing journey. \nRegistration is REQUIRED for SOFFA Online!! \nYou can do so HERE!
URL:https://lgbtqcolorado.org/event/pflag-soffa-online-support-group/2026-04-09/
LOCATION:zoom Link\, Zoom Link\, Denver\, 80209
CATEGORIES:Community Events,Resources
ATTACH;FMTTYPE=image/jpeg:https://lgbtqcolorado.org/wp-content/uploads/2025/01/SUPPORT-Program-Instagram-8.jpg
ORGANIZER;CN="PFLAG Denver":MAILTO:support@pflagdenver.org
END:VEVENT
END:VCALENDAR