BEGIN:VCALENDAR
VERSION:2.0
PRODID:-//The Center on Colfax - LGBTQ Colorado - ECPv6.15.20//NONSGML v1.0//EN
CALSCALE:GREGORIAN
METHOD:PUBLISH
X-ORIGINAL-URL:https://lgbtqcolorado.org
X-WR-CALDESC:Events for The Center on Colfax - LGBTQ Colorado
REFRESH-INTERVAL;VALUE=DURATION:PT1H
X-Robots-Tag:noindex
X-PUBLISHED-TTL:PT1H
BEGIN:VTIMEZONE
TZID:America/Denver
BEGIN:DAYLIGHT
TZOFFSETFROM:-0700
TZOFFSETTO:-0600
TZNAME:MDT
DTSTART:20240310T090000
END:DAYLIGHT
BEGIN:STANDARD
TZOFFSETFROM:-0600
TZOFFSETTO:-0700
TZNAME:MST
DTSTART:20241103T080000
END:STANDARD
BEGIN:DAYLIGHT
TZOFFSETFROM:-0700
TZOFFSETTO:-0600
TZNAME:MDT
DTSTART:20250309T090000
END:DAYLIGHT
BEGIN:STANDARD
TZOFFSETFROM:-0600
TZOFFSETTO:-0700
TZNAME:MST
DTSTART:20251102T080000
END:STANDARD
BEGIN:DAYLIGHT
TZOFFSETFROM:-0700
TZOFFSETTO:-0600
TZNAME:MDT
DTSTART:20260308T090000
END:DAYLIGHT
BEGIN:STANDARD
TZOFFSETFROM:-0600
TZOFFSETTO:-0700
TZNAME:MST
DTSTART:20261101T080000
END:STANDARD
END:VTIMEZONE
BEGIN:VEVENT
DTSTART;VALUE=DATE:20250830
DTEND;VALUE=DATE:20250901
DTSTAMP:20260423T214815
CREATED:20250820T180636Z
LAST-MODIFIED:20250820T180636Z
UID:10025837-1756522800-1756609199@lgbtqcolorado.org
SUMMARY:Closure - August 30\, 2025
DESCRIPTION:The Center on Colfax will be closed Saturday\, August 30\, 2025 in observance of Labor Day weekend.\nWe apologize for any inconvenience this closure may cause and we look forward to resuming our normal business hours on Tuesday\, September 2\, 2025 at 10:00 AM. If this an emergency\, please call the Colorado Crisis Line at 1-844-493-8255.
URL:https://lgbtqcolorado.org/event/closure-august-30-2025/
LOCATION:The Center on Colfax\, 1301 E. Colfax Ave.\, Denver\, CO\, 80218\, United States
CATEGORIES:Young Adults and Adults Program,Glass Lawler Mental Health,Disability Program,Colorado LGBTQ History Project,The Center Calendar,Rainbow Alley,West of 50,Transgender Program,Older Adults,Transgender,Youth & Young Adult
GEO:39.7402674;-104.970419
X-APPLE-STRUCTURED-LOCATION;VALUE=URI;X-ADDRESS=The Center on Colfax 1301 E. Colfax Ave. Denver CO 80218 United States;X-APPLE-RADIUS=500;X-TITLE=1301 E. Colfax Ave.:geo:-104.970419,39.7402674
END:VEVENT
BEGIN:VEVENT
DTSTART;VALUE=DATE:20250901
DTEND;VALUE=DATE:20250903
DTSTAMP:20260423T214815
CREATED:20250717T160148Z
LAST-MODIFIED:20250717T160148Z
UID:10025178-1756695600-1756781999@lgbtqcolorado.org
SUMMARY:Closure - September 1\, 2025
DESCRIPTION:The Center on Colfax will be closed Monday\, September 1\, 2025 in observance of Labor Day.\nWe apologize for any inconvenience this closure may cause and we look forward to resuming our normal business hours on Tuesday\, September 2\, 2025 at 10:00 AM. If this an emergency\, please call the Colorado Crisis Line at 1-844-493-8255.
URL:https://lgbtqcolorado.org/event/closure-september-1-2025/
LOCATION:The Center on Colfax\, 1301 E. Colfax Ave.\, Denver\, CO\, 80218\, United States
CATEGORIES:Young Adults and Adults Program,Glass Lawler Mental Health,Disability Program,Colorado LGBTQ History Project,The Center Calendar,Rainbow Alley,West of 50,Transgender Program,Older Adults,Transgender,Youth & Young Adult
GEO:39.7402674;-104.970419
X-APPLE-STRUCTURED-LOCATION;VALUE=URI;X-ADDRESS=The Center on Colfax 1301 E. Colfax Ave. Denver CO 80218 United States;X-APPLE-RADIUS=500;X-TITLE=1301 E. Colfax Ave.:geo:-104.970419,39.7402674
END:VEVENT
BEGIN:VEVENT
DTSTART;TZID=America/Denver:20250901T181500
DTEND;TZID=America/Denver:20250901T194500
DTSTAMP:20260423T214815
CREATED:20221208T174353Z
LAST-MODIFIED:20260121T235413Z
UID:10029509-1756750500-1756755900@lgbtqcolorado.org
SUMMARY:Stitch & Bitch
DESCRIPTION:Do you have a sewing or crafting project you’ve been meaning to get done but don’t have the motivation or time? Do you enjoy creating in a group? Do you want to have a Kiki? If our answer is yes to any of these questions\, then join us for Stitch & Bitch! \nStitch & Bitch provides space for sewing\, crafting and conversation. The Center will have sewing needles\, thread\, basic crafting supplies\, and sewing machines available for use during these sessions. \nDates: Every Monday \nTime: 6:15 - 7:45 PM \nFor more information\, please contact Bryant at bmehay@lgbtqcolorado.org
URL:https://lgbtqcolorado.org/event/stitch-bitch-2/2025-09-01/
LOCATION:Activity/Multipurpose Room\, 1301 E Colfax Ave\, Denver\, CO\, 80218
CATEGORIES:The Center Calendar,West of 50,Arts & Entertainment,Older Adults,Social & Nightlife
ATTACH;FMTTYPE=image/jpeg:https://lgbtqcolorado.org/wp-content/uploads/2022/12/StitchBitch-Graphics-02.jpg
ORGANIZER;CN="Bryant Mehay%2C Coordinator of Elder and Disability Services":MAILTO:bmehay@lgbtqcolorado.org
END:VEVENT
BEGIN:VEVENT
DTSTART;TZID=America/Denver:20250902T100000
DTEND;TZID=America/Denver:20250902T120000
DTSTAMP:20260423T214815
CREATED:20200403T153634Z
LAST-MODIFIED:20251112T205607Z
UID:10005398-1756807200-1756814400@lgbtqcolorado.org
SUMMARY:Men's Coffee Group
DESCRIPTION:Virtual/In-Person Hybrid Men's Coffee Group \nA weekly group for men focusing on conversation and friendship. \nGroup details: A weekly drop-in group for individuals 50+. Tuesdays\, 10:00 a.m—12:00 p.m \nFor Registration and/or Questions\nIf interested in these activities\, please contact Westof50@lgbtqcolorado.org
URL:https://lgbtqcolorado.org/event/mens-coffee/2025-09-02/
LOCATION:The Center on Colfax\, 1301 E. Colfax Ave.\, Denver\, CO\, 80218\, United States
CATEGORIES:The Center Calendar,West of 50,Older Adults
ATTACH;FMTTYPE=image/png:https://lgbtqcolorado.org/wp-content/uploads/2020/04/OnlineMensCoffeeGroup_website.png
GEO:39.7402674;-104.970419
X-APPLE-STRUCTURED-LOCATION;VALUE=URI;X-ADDRESS=The Center on Colfax 1301 E. Colfax Ave. Denver CO 80218 United States;X-APPLE-RADIUS=500;X-TITLE=1301 E. Colfax Ave.:geo:-104.970419,39.7402674
END:VEVENT
BEGIN:VEVENT
DTSTART;TZID=America/Denver:20250903T103000
DTEND;TZID=America/Denver:20250903T113000
DTSTAMP:20260423T214815
CREATED:20200403T154033Z
LAST-MODIFIED:20251029T185417Z
UID:10005646-1756895400-1756899000@lgbtqcolorado.org
SUMMARY:Hybrid In-Person/Virtual Silver Sneakers Chair Yoga
DESCRIPTION:A certified Silver Sneakers® instructor will lead participants through a complete series of chair assisted yoga poses designed to increase flexibility\, balance and range of movement. Silver Sneakers® membership is not required. \nDates: Every Wednesday \nTime: 10:30 - 11:30 AM \nLocation: Virtual or In-Person at The Center on Colfax - 1301 E. Colfax Ave\, Denver\, CO\, 80218 \nFor Registration and/or Questions: Please contact Bryant Mehay at bmehay@LGBTQColorado.org
URL:https://lgbtqcolorado.org/event/silver-sneakers-chair-yoga/2025-09-03/
LOCATION:The Center on Colfax\, 1301 E. Colfax Ave.\, Denver\, CO\, 80218\, United States
CATEGORIES:The Center Calendar,West of 50
ATTACH;FMTTYPE=image/jpeg:https://lgbtqcolorado.org/wp-content/uploads/2020/04/OnlineSilverSneakersChairYoga_Web.jpg
GEO:39.7402674;-104.970419
X-APPLE-STRUCTURED-LOCATION;VALUE=URI;X-ADDRESS=The Center on Colfax 1301 E. Colfax Ave. Denver CO 80218 United States;X-APPLE-RADIUS=500;X-TITLE=1301 E. Colfax Ave.:geo:-104.970419,39.7402674
END:VEVENT
BEGIN:VEVENT
DTSTART;TZID=America/Denver:20250903T130000
DTEND;TZID=America/Denver:20250903T143000
DTSTAMP:20260423T214815
CREATED:20241017T212902Z
LAST-MODIFIED:20250806T212122Z
UID:10025546-1756904400-1756909800@lgbtqcolorado.org
SUMMARY:Club50
DESCRIPTION:We are excited to introduce you to our new Community Group! Club50 drives West of 50 programs\, creates volunteer opportunities\, and makes meaningful change whenever possible. The club meets the first Wednesday of every month. \nDates: First Wednesday of each month \nTime: 1:30 - 2:30 PM \nLocation: The Center on Colfax - 1301 E. Colfax Ave.\, Denver\, CO 80218
URL:https://lgbtqcolorado.org/event/club50/2025-09-03/
LOCATION:The Center on Colfax\, 1301 E. Colfax Ave.\, Denver\, CO\, 80218\, United States
CATEGORIES:The Center Calendar,West of 50,Older Adults
ATTACH;FMTTYPE=image/jpeg:https://lgbtqcolorado.org/wp-content/uploads/2024/10/Club50-16x9-1.jpg
GEO:39.7402674;-104.970419
X-APPLE-STRUCTURED-LOCATION;VALUE=URI;X-ADDRESS=The Center on Colfax 1301 E. Colfax Ave. Denver CO 80218 United States;X-APPLE-RADIUS=500;X-TITLE=1301 E. Colfax Ave.:geo:-104.970419,39.7402674
END:VEVENT
BEGIN:VEVENT
DTSTART;TZID=America/Denver:20250904T100000
DTEND;TZID=America/Denver:20250904T120000
DTSTAMP:20260423T214815
CREATED:20221020T151445Z
LAST-MODIFIED:20260211T224504Z
UID:10012748-1756980000-1756987200@lgbtqcolorado.org
SUMMARY:West of 50 - Open Art Studio Thursdays!
DESCRIPTION:Please join us every Thursday for a drop-in Art Group put on by our West of 50 program. This program is free to attend - the only thing you need to bring is yourself and a creative mind. For more information\, please contact westof50@lgbtqcolorado.org \nWhen: Every Thursday\, 10:00 AM - 12:00 PM \nWhere: The Center on Colfax - 1301 E. Colfax\, Denver\, Colorado 80218
URL:https://lgbtqcolorado.org/event/wof-art-studio/2025-09-04/
LOCATION:The Center on Colfax\, 1301 E. Colfax Ave.\, Denver\, CO\, 80218\, United States
CATEGORIES:The Center Calendar,West of 50,Arts & Entertainment,Older Adults
ATTACH;FMTTYPE=image/jpeg:https://lgbtqcolorado.org/wp-content/uploads/2021/07/OpenArtStudio.jpg
GEO:39.7402674;-104.970419
X-APPLE-STRUCTURED-LOCATION;VALUE=URI;X-ADDRESS=The Center on Colfax 1301 E. Colfax Ave. Denver CO 80218 United States;X-APPLE-RADIUS=500;X-TITLE=1301 E. Colfax Ave.:geo:-104.970419,39.7402674
END:VEVENT
BEGIN:VEVENT
DTSTART;TZID=America/Denver:20250904T123000
DTEND;TZID=America/Denver:20250904T160000
DTSTAMP:20260423T214815
CREATED:20250825T170557Z
LAST-MODIFIED:20250825T170557Z
UID:10025857-1756989000-1757001600@lgbtqcolorado.org
SUMMARY:Lunch Bunch: Denver Central Market
DESCRIPTION:
URL:https://lgbtqcolorado.org/event/lunch-bunch-denver-central-market/
LOCATION:Denver Central Market\, 2669 Larimer Street\, Denver\, CO\, 80205\, United States
CATEGORIES:The Center Calendar,West of 50,Older Adults
ATTACH;FMTTYPE=image/jpeg:https://lgbtqcolorado.org/wp-content/uploads/2025/08/2025-09-LunchBunch-DenverCentralMarket-16x9-1.jpg
END:VEVENT
BEGIN:VEVENT
DTSTART;TZID=America/Denver:20250905T114500
DTEND;TZID=America/Denver:20250905T124500
DTSTAMP:20260423T214815
CREATED:20241107T215639Z
LAST-MODIFIED:20250922T210452Z
UID:10023242-1757072700-1757076300@lgbtqcolorado.org
SUMMARY:Creative Meditation with Quána Madison
DESCRIPTION:Creative Meditation Workshop with Quána Madison\nJoin artist & inner peace gardener\, Quána Madison\, for a monthly 60-minute creative meditation workshop. This workshop will use a variety of mindfulness exercises and expressive arts-based activities to promote relaxation\, self-compassion\, emotional self-awareness and mental well-being. \nIn this workshop you will: \n\nCultivate kindness and compassion for yourself\nExplore mindfulness practices to promote well-being\nExpress your inner experiences and feelings through art-making\n\n*This workshop is sponsored by Colorado Artists in Recovery (CAiR). CAiR promotes an inclusive and creative recovery community for folks affected by substance use and mental health. Learn more about CAiR's free in-person and virtual workshops by visiting www.coloradoartistsinrecovery.org. \n\nAbout Quána Madison: Quána Madison is an artist\, inner peace gardener\, healing arts workshop facilitator and coach. Expressive arts revived her soul after enduring cancer previvor treatments and developing disruptive life-changing chronic illnesses. Quána believes art nourishes well-being. She combines inner wellness practices with expressive arts to promote creativity\, connectedness and holistic well-being. A graduate of New York University and Colorado College\, Quána holds a MA in Education and a BA in Philosophy. More information is available at www.quanamadison.com and www.linktr.ee/quanamadison.
URL:https://lgbtqcolorado.org/event/meditation-quana-madison-2025/2025-09-05/
LOCATION:SAGE Art Space\, 1301 E. Colfax Ave\, Denver\, CO\, 80203\, United States
CATEGORIES:The Center Calendar,West of 50,Arts & Entertainment,Health & Fitness,Older Adults
END:VEVENT
END:VCALENDAR