BEGIN:VCALENDAR
VERSION:2.0
PRODID:-//The Center on Colfax - LGBTQ Colorado - ECPv6.15.20//NONSGML v1.0//EN
CALSCALE:GREGORIAN
METHOD:PUBLISH
X-WR-CALNAME:The Center on Colfax - LGBTQ Colorado
X-ORIGINAL-URL:https://lgbtqcolorado.org
X-WR-CALDESC:Events for The Center on Colfax - LGBTQ Colorado
REFRESH-INTERVAL;VALUE=DURATION:PT1H
X-Robots-Tag:noindex
X-PUBLISHED-TTL:PT1H
BEGIN:VTIMEZONE
TZID:America/Denver
BEGIN:DAYLIGHT
TZOFFSETFROM:-0700
TZOFFSETTO:-0600
TZNAME:MDT
DTSTART:20240310T090000
END:DAYLIGHT
BEGIN:STANDARD
TZOFFSETFROM:-0600
TZOFFSETTO:-0700
TZNAME:MST
DTSTART:20241103T080000
END:STANDARD
BEGIN:DAYLIGHT
TZOFFSETFROM:-0700
TZOFFSETTO:-0600
TZNAME:MDT
DTSTART:20250309T090000
END:DAYLIGHT
BEGIN:STANDARD
TZOFFSETFROM:-0600
TZOFFSETTO:-0700
TZNAME:MST
DTSTART:20251102T080000
END:STANDARD
BEGIN:DAYLIGHT
TZOFFSETFROM:-0700
TZOFFSETTO:-0600
TZNAME:MDT
DTSTART:20260308T090000
END:DAYLIGHT
BEGIN:STANDARD
TZOFFSETFROM:-0600
TZOFFSETTO:-0700
TZNAME:MST
DTSTART:20261101T080000
END:STANDARD
END:VTIMEZONE
BEGIN:VEVENT
DTSTART;TZID=America/Denver:20251210T103000
DTEND;TZID=America/Denver:20251210T113000
DTSTAMP:20260420T134948
CREATED:20200403T154033Z
LAST-MODIFIED:20251029T185417Z
UID:10005660-1765362600-1765366200@lgbtqcolorado.org
SUMMARY:Hybrid In-Person/Virtual Silver Sneakers Chair Yoga
DESCRIPTION:A certified Silver Sneakers® instructor will lead participants through a complete series of chair assisted yoga poses designed to increase flexibility\, balance and range of movement. Silver Sneakers® membership is not required. \nDates: Every Wednesday \nTime: 10:30 - 11:30 AM \nLocation: Virtual or In-Person at The Center on Colfax - 1301 E. Colfax Ave\, Denver\, CO\, 80218 \nFor Registration and/or Questions: Please contact Bryant Mehay at bmehay@LGBTQColorado.org
URL:https://lgbtqcolorado.org/event/silver-sneakers-chair-yoga/2025-12-10/
LOCATION:The Center on Colfax\, 1301 E. Colfax Ave.\, Denver\, CO\, 80218\, United States
CATEGORIES:The Center Calendar,West of 50
ATTACH;FMTTYPE=image/jpeg:https://lgbtqcolorado.org/wp-content/uploads/2020/04/OnlineSilverSneakersChairYoga_Web.jpg
GEO:39.7402674;-104.970419
X-APPLE-STRUCTURED-LOCATION;VALUE=URI;X-ADDRESS=The Center on Colfax 1301 E. Colfax Ave. Denver CO 80218 United States;X-APPLE-RADIUS=500;X-TITLE=1301 E. Colfax Ave.:geo:-104.970419,39.7402674
END:VEVENT
BEGIN:VEVENT
DTSTART;TZID=America/Denver:20251210T130000
DTEND;TZID=America/Denver:20251210T140000
DTSTAMP:20260420T134948
CREATED:20251205T223649Z
LAST-MODIFIED:20251205T223650Z
UID:10018881-1765371600-1765375200@lgbtqcolorado.org
SUMMARY:Push'n Pansies
DESCRIPTION:Push'n Pansies\nDeath is not a topic that many like to discuss. But the end of the rainbow is inevitable. Push'n Pansies is a brave space for individuals to come together and discuss the end of life\, learn about resources\, and discover the strength to normalize aging and death. \nKaren Keeran from Golden Heart Transition will provide some guideposts and insights for our journey. She’ll share on: \n\nThe real truth about what grief and grieving are … and what they are not\nThe price we pay for love and the factors that cause our grief to feel so very\, very painful\nThe many faces of grief and how they impact our ability to metabolize and integrate them\nThe best approaches to take to help us digest grief’s bitter pill and who can help\n\nDates: Second Wednesday of Each Month \nTime: 1:00 - 2:00 PM \nLocation: The Center on Colfax - 1301 East Colfax Ave\, Denver\, CO 80218
URL:https://lgbtqcolorado.org/event/pushn-pansies-2/
LOCATION:The Center on Colfax\, 1301 E. Colfax Ave.\, Denver\, CO\, 80218\, United States
CATEGORIES:The Center Calendar,West of 50,Older Adults
ATTACH;FMTTYPE=image/jpeg:https://lgbtqcolorado.org/wp-content/uploads/2024/09/2024-PushnPansies-Graphics-16x9-1.jpg
GEO:39.7402674;-104.970419
X-APPLE-STRUCTURED-LOCATION;VALUE=URI;X-ADDRESS=The Center on Colfax 1301 E. Colfax Ave. Denver CO 80218 United States;X-APPLE-RADIUS=500;X-TITLE=1301 E. Colfax Ave.:geo:-104.970419,39.7402674
END:VEVENT
END:VCALENDAR