BEGIN:VCALENDAR
VERSION:2.0
PRODID:-//The Center on Colfax - LGBTQ Colorado - ECPv6.15.20//NONSGML v1.0//EN
CALSCALE:GREGORIAN
METHOD:PUBLISH
X-ORIGINAL-URL:https://lgbtqcolorado.org
X-WR-CALDESC:Events for The Center on Colfax - LGBTQ Colorado
REFRESH-INTERVAL;VALUE=DURATION:PT1H
X-Robots-Tag:noindex
X-PUBLISHED-TTL:PT1H
BEGIN:VTIMEZONE
TZID:America/Denver
BEGIN:DAYLIGHT
TZOFFSETFROM:-0700
TZOFFSETTO:-0600
TZNAME:MDT
DTSTART:20240310T090000
END:DAYLIGHT
BEGIN:STANDARD
TZOFFSETFROM:-0600
TZOFFSETTO:-0700
TZNAME:MST
DTSTART:20241103T080000
END:STANDARD
BEGIN:DAYLIGHT
TZOFFSETFROM:-0700
TZOFFSETTO:-0600
TZNAME:MDT
DTSTART:20250309T090000
END:DAYLIGHT
BEGIN:STANDARD
TZOFFSETFROM:-0600
TZOFFSETTO:-0700
TZNAME:MST
DTSTART:20251102T080000
END:STANDARD
BEGIN:DAYLIGHT
TZOFFSETFROM:-0700
TZOFFSETTO:-0600
TZNAME:MDT
DTSTART:20260308T090000
END:DAYLIGHT
BEGIN:STANDARD
TZOFFSETFROM:-0600
TZOFFSETTO:-0700
TZNAME:MST
DTSTART:20261101T080000
END:STANDARD
END:VTIMEZONE
BEGIN:VEVENT
DTSTART;VALUE=DATE:20250830
DTEND;VALUE=DATE:20250901
DTSTAMP:20260419T141009
CREATED:20250820T180636Z
LAST-MODIFIED:20250820T180636Z
UID:10025837-1756522800-1756609199@lgbtqcolorado.org
SUMMARY:Closure - August 30\, 2025
DESCRIPTION:The Center on Colfax will be closed Saturday\, August 30\, 2025 in observance of Labor Day weekend.\nWe apologize for any inconvenience this closure may cause and we look forward to resuming our normal business hours on Tuesday\, September 2\, 2025 at 10:00 AM. If this an emergency\, please call the Colorado Crisis Line at 1-844-493-8255.
URL:https://lgbtqcolorado.org/event/closure-august-30-2025/
LOCATION:The Center on Colfax\, 1301 E. Colfax Ave.\, Denver\, CO\, 80218\, United States
CATEGORIES:Young Adults and Adults Program,Glass Lawler Mental Health,Disability Program,Colorado LGBTQ History Project,The Center Calendar,Rainbow Alley,West of 50,Transgender Program,Older Adults,Transgender,Youth & Young Adult
GEO:39.7402674;-104.970419
X-APPLE-STRUCTURED-LOCATION;VALUE=URI;X-ADDRESS=The Center on Colfax 1301 E. Colfax Ave. Denver CO 80218 United States;X-APPLE-RADIUS=500;X-TITLE=1301 E. Colfax Ave.:geo:-104.970419,39.7402674
END:VEVENT
BEGIN:VEVENT
DTSTART;VALUE=DATE:20250901
DTEND;VALUE=DATE:20250903
DTSTAMP:20260419T141009
CREATED:20250717T160148Z
LAST-MODIFIED:20250717T160148Z
UID:10025178-1756695600-1756781999@lgbtqcolorado.org
SUMMARY:Closure - September 1\, 2025
DESCRIPTION:The Center on Colfax will be closed Monday\, September 1\, 2025 in observance of Labor Day.\nWe apologize for any inconvenience this closure may cause and we look forward to resuming our normal business hours on Tuesday\, September 2\, 2025 at 10:00 AM. If this an emergency\, please call the Colorado Crisis Line at 1-844-493-8255.
URL:https://lgbtqcolorado.org/event/closure-september-1-2025/
LOCATION:The Center on Colfax\, 1301 E. Colfax Ave.\, Denver\, CO\, 80218\, United States
CATEGORIES:Young Adults and Adults Program,Glass Lawler Mental Health,Disability Program,Colorado LGBTQ History Project,The Center Calendar,Rainbow Alley,West of 50,Transgender Program,Older Adults,Transgender,Youth & Young Adult
GEO:39.7402674;-104.970419
X-APPLE-STRUCTURED-LOCATION;VALUE=URI;X-ADDRESS=The Center on Colfax 1301 E. Colfax Ave. Denver CO 80218 United States;X-APPLE-RADIUS=500;X-TITLE=1301 E. Colfax Ave.:geo:-104.970419,39.7402674
END:VEVENT
BEGIN:VEVENT
DTSTART;TZID=America/Denver:20250902T180000
DTEND;TZID=America/Denver:20250902T193000
DTSTAMP:20260419T141009
CREATED:20250303T182545Z
LAST-MODIFIED:20260318T215826Z
UID:10032612-1756836000-1756841400@lgbtqcolorado.org
SUMMARY:Bisexual Peer Support Group
DESCRIPTION:Join Glass Lawler Mental Health for our Bisexual Peer Support Group! This peer group aims to help individuals with a bisexual identity to come together and build community and connection with one another. \nDates: First and Fourth Tuesday of each month \nTime: 6:00 - 7:30 PM \nIn-Person Attendance: Visibility Room at The Center on Colfax - 1301 East Colfax Avenue\, Denver\, CO\, 80218 \nVirtual Attendance: Via Zoom - Click here for the meeting link \n\nMeeting ID: 840 9105 8102\nPasscode: 835112\n\nAny questions? Please contact Jaylin Goodloe at jgoodloe@lgbtqcolorado.org.
URL:https://lgbtqcolorado.org/event/bisexual-support/2025-09-02/
LOCATION:Visibility Room\, 1301 E. Colfax Ave.\, Denver\, Colorado\, 80218
CATEGORIES:Glass Lawler Mental Health,The Center Calendar,Support Groups
ATTACH;FMTTYPE=image/jpeg:https://lgbtqcolorado.org/wp-content/uploads/2025/03/2026-BisexualPeerSupport-16x9-1.jpg
END:VEVENT
BEGIN:VEVENT
DTSTART;TZID=America/Denver:20250904T180000
DTEND;TZID=America/Denver:20250904T193000
DTSTAMP:20260419T141009
CREATED:20250303T183347Z
LAST-MODIFIED:20260304T231857Z
UID:10034835-1757008800-1757014200@lgbtqcolorado.org
SUMMARY:Soul Enlightenment Circle - Religious Trauma Peer Support
DESCRIPTION:The Soul Enlightenment Circle will discuss the trauma that has been associated with religion and the LGBTQ+ community. Members can expect to learn more about their own relationship with religion alongside others who have had similar experiences. \nAges: 18+ years old \nDates: First and Third Thursdays of each month \nTime: 6:00 - 7:30 PM \nIn Person Attendance: Visibility Room at The Center on Colfax - 1301 East Colfax Avenue\, Denver\, CO\, 80218 \nVirtual Attendance: Via Zoom - Click here for the meeting link \n\nMeeting ID: 881 4741 1716\nPasscode: 635093\n\nAny questions? Please contact Jaylin Goodloe at jgoodloe@lgbtqcolorado.org.
URL:https://lgbtqcolorado.org/event/religious-trauma-support/2025-09-04/
LOCATION:Virtual – Zoom
CATEGORIES:Glass Lawler Mental Health,The Center Calendar,Support Groups
ATTACH;FMTTYPE=image/jpeg:https://lgbtqcolorado.org/wp-content/uploads/2025/03/2026-SoulEnlightenment-16x9-1.jpg
END:VEVENT
END:VCALENDAR