BEGIN:VCALENDAR
VERSION:2.0
PRODID:-//The Center on Colfax - LGBTQ Colorado - ECPv6.15.20//NONSGML v1.0//EN
CALSCALE:GREGORIAN
METHOD:PUBLISH
X-WR-CALNAME:The Center on Colfax - LGBTQ Colorado
X-ORIGINAL-URL:https://lgbtqcolorado.org
X-WR-CALDESC:Events for The Center on Colfax - LGBTQ Colorado
REFRESH-INTERVAL;VALUE=DURATION:PT1H
X-Robots-Tag:noindex
X-PUBLISHED-TTL:PT1H
BEGIN:VTIMEZONE
TZID:America/Denver
BEGIN:DAYLIGHT
TZOFFSETFROM:-0700
TZOFFSETTO:-0600
TZNAME:MDT
DTSTART:20250309T090000
END:DAYLIGHT
BEGIN:STANDARD
TZOFFSETFROM:-0600
TZOFFSETTO:-0700
TZNAME:MST
DTSTART:20251102T080000
END:STANDARD
BEGIN:DAYLIGHT
TZOFFSETFROM:-0700
TZOFFSETTO:-0600
TZNAME:MDT
DTSTART:20260308T090000
END:DAYLIGHT
BEGIN:STANDARD
TZOFFSETFROM:-0600
TZOFFSETTO:-0700
TZNAME:MST
DTSTART:20261101T080000
END:STANDARD
BEGIN:DAYLIGHT
TZOFFSETFROM:-0700
TZOFFSETTO:-0600
TZNAME:MDT
DTSTART:20270314T090000
END:DAYLIGHT
BEGIN:STANDARD
TZOFFSETFROM:-0600
TZOFFSETTO:-0700
TZNAME:MST
DTSTART:20271107T080000
END:STANDARD
END:VTIMEZONE
BEGIN:VEVENT
DTSTART;TZID=America/Denver:20260604T100000
DTEND;TZID=America/Denver:20260604T120000
DTSTAMP:20260421T190045
CREATED:20221020T151445Z
LAST-MODIFIED:20260211T224504Z
UID:10028827-1780567200-1780574400@lgbtqcolorado.org
SUMMARY:West of 50 - Open Art Studio Thursdays!
DESCRIPTION:Please join us every Thursday for a drop-in Art Group put on by our West of 50 program. This program is free to attend - the only thing you need to bring is yourself and a creative mind. For more information\, please contact westof50@lgbtqcolorado.org \nWhen: Every Thursday\, 10:00 AM - 12:00 PM \nWhere: The Center on Colfax - 1301 E. Colfax\, Denver\, Colorado 80218
URL:https://lgbtqcolorado.org/event/wof-art-studio/2026-06-04/
LOCATION:The Center on Colfax\, 1301 E. Colfax Ave.\, Denver\, CO\, 80218\, United States
CATEGORIES:The Center Calendar,West of 50,Arts & Entertainment,Older Adults
ATTACH;FMTTYPE=image/jpeg:https://lgbtqcolorado.org/wp-content/uploads/2021/07/OpenArtStudio.jpg
GEO:39.7402674;-104.970419
X-APPLE-STRUCTURED-LOCATION;VALUE=URI;X-ADDRESS=The Center on Colfax 1301 E. Colfax Ave. Denver CO 80218 United States;X-APPLE-RADIUS=500;X-TITLE=1301 E. Colfax Ave.:geo:-104.970419,39.7402674
END:VEVENT
BEGIN:VEVENT
DTSTART;TZID=America/Denver:20260604T180000
DTEND;TZID=America/Denver:20260604T193000
DTSTAMP:20260421T190045
CREATED:20250303T183347Z
LAST-MODIFIED:20260304T231857Z
UID:10034843-1780596000-1780601400@lgbtqcolorado.org
SUMMARY:Soul Enlightenment Circle - Religious Trauma Peer Support
DESCRIPTION:The Soul Enlightenment Circle will discuss the trauma that has been associated with religion and the LGBTQ+ community. Members can expect to learn more about their own relationship with religion alongside others who have had similar experiences. \nAges: 18+ years old \nDates: First and Third Thursdays of each month \nTime: 6:00 - 7:30 PM \nIn Person Attendance: Visibility Room at The Center on Colfax - 1301 East Colfax Avenue\, Denver\, CO\, 80218 \nVirtual Attendance: Via Zoom - Click here for the meeting link \n\nMeeting ID: 881 4741 1716\nPasscode: 635093\n\nAny questions? Please contact Jaylin Goodloe at jgoodloe@lgbtqcolorado.org.
URL:https://lgbtqcolorado.org/event/religious-trauma-support/2026-06-04/
LOCATION:Virtual – Zoom
CATEGORIES:Glass Lawler Mental Health,The Center Calendar,Support Groups
ATTACH;FMTTYPE=image/jpeg:https://lgbtqcolorado.org/wp-content/uploads/2025/03/2026-SoulEnlightenment-16x9-1.jpg
END:VEVENT
BEGIN:VEVENT
DTSTART;TZID=America/Denver:20260604T180000
DTEND;TZID=America/Denver:20260604T200000
DTSTAMP:20260421T190045
CREATED:20220414T013020Z
LAST-MODIFIED:20250805T161945Z
UID:10008287-1780596000-1780603200@lgbtqcolorado.org
SUMMARY:In-Person Trans Femme Support Group
DESCRIPTION:This in-person peer lead and confidential support group is for individuals who were assigned male at birth and identify as trans women\, trans feminine\, and/or male-to-female (MtF). This is a safe\, drop-in space providing peer-run social support\, engaging conversation\, and relevant resources to attendees. Support groups at The Center on Colfax are always free to attend. No signup necessary. Walk-ins are welcome. \nHow to Get Involved: For any questions\, please contact Joy Iwancio\, Director of Transgender Services\, at JIwancio@lgbtqcolorado.org.\n\nDates: Join us weekly on Thursdays from 6:00 - 8:00 PM
URL:https://lgbtqcolorado.org/event/in-person-trans-femme-support/2026-06-04/
LOCATION:Stonewall Meeting Room\, 1301 E. Colfax Ave.\, Denver\, Colorado\, 80218
CATEGORIES:The Center Calendar,Transgender Program,Support Groups
ATTACH;FMTTYPE=image/jpeg:https://lgbtqcolorado.org/wp-content/uploads/2022/04/TransFemme-InPerson-16x9-2.jpg
END:VEVENT
BEGIN:VEVENT
DTSTART;TZID=America/Denver:20260604T183000
DTEND;TZID=America/Denver:20260604T200000
DTSTAMP:20260421T190045
CREATED:20220414T012626Z
LAST-MODIFIED:20251006T154239Z
UID:10014497-1780597800-1780603200@lgbtqcolorado.org
SUMMARY:Online Trans Femme Support Group
DESCRIPTION:MUST BE 18 YEARS OLD \nThis online peer lead and confidential support group is for individuals who were assigned male at birth and identify as trans women\, trans feminine\, and/or male-to-female (MtF). This is a safe space providing peer-run social support\, engaging conversation\, and relevant resources to attendees. Support groups at The Center on Colfax are always free to attend. \nDates: Every Thursday from 6:30 - 8:00 PM.  \nFor Registration and/or Questions: Please contact Terwanda McMoore\, Support Group Coordinator\, at tmcmoore@lgbtqcolorado.org
URL:https://lgbtqcolorado.org/event/online-trans-femme-support/2026-06-04/
LOCATION:Online
CATEGORIES:The Center Calendar,Transgender Program,Support Groups
ATTACH;FMTTYPE=image/jpeg:https://lgbtqcolorado.org/wp-content/uploads/2022/04/TransFemme-Online-16x9-1.jpg
END:VEVENT
BEGIN:VEVENT
DTSTART;TZID=America/Denver:20260604T183000
DTEND;TZID=America/Denver:20260604T200000
DTSTAMP:20260421T190045
CREATED:20260326T164813Z
LAST-MODIFIED:20260407T221002Z
UID:10035320-1780597800-1780603200@lgbtqcolorado.org
SUMMARY:LGBTQ+ Writers' Group
DESCRIPTION:LGBTQ+ Writers Group \nEach week will have a suggested topic to assist people that find such structure helpful\, but writers can feel free to share on any topic of interest. This group is open to those 18+. \nBring something you've written or a piece of writing that inspires you that you'd like to share. \nDates: Every Thursday\, 6:30 - 8:00 PM \n\nEvery second Thursday of the month\, this group will be held off site\, as the group will take a field trip to The Pearl's Open Mic. The group will meet there at 6:30 PM\, and the event starts at 7:00 PM. The Pearl is located at 2199 California St.\, Denver\, CO 80205 (Formerly The Mercury Cafe)\n\nThemes for April:\n\n4/2: Nest\n4/9: Open Mic Night Field Trip to the Pearl\n4/16: Butterflies\n4/23: Awakening\n4/30: Wildflower
URL:https://lgbtqcolorado.org/event/112202/2026-06-04/
LOCATION:The Center on Colfax\, 1301 E. Colfax Ave.\, Denver\, CO\, 80218\, United States
CATEGORIES:The Center Calendar,Writing & Literature
ATTACH;FMTTYPE=image/jpeg:https://lgbtqcolorado.org/wp-content/uploads/2026/03/LGBTQ-Writers-1-16x9-1-900x506-1.jpg
GEO:39.7402674;-104.970419
X-APPLE-STRUCTURED-LOCATION;VALUE=URI;X-ADDRESS=The Center on Colfax 1301 E. Colfax Ave. Denver CO 80218 United States;X-APPLE-RADIUS=500;X-TITLE=1301 E. Colfax Ave.:geo:-104.970419,39.7402674
END:VEVENT
END:VCALENDAR