BEGIN:VCALENDAR
VERSION:2.0
PRODID:-//The Center on Colfax - LGBTQ Colorado - ECPv6.15.20//NONSGML v1.0//EN
CALSCALE:GREGORIAN
METHOD:PUBLISH
X-WR-CALNAME:The Center on Colfax - LGBTQ Colorado
X-ORIGINAL-URL:https://lgbtqcolorado.org
X-WR-CALDESC:Events for The Center on Colfax - LGBTQ Colorado
REFRESH-INTERVAL;VALUE=DURATION:PT1H
X-Robots-Tag:noindex
X-PUBLISHED-TTL:PT1H
BEGIN:VTIMEZONE
TZID:America/Denver
BEGIN:DAYLIGHT
TZOFFSETFROM:-0700
TZOFFSETTO:-0600
TZNAME:MDT
DTSTART:20250309T090000
END:DAYLIGHT
BEGIN:STANDARD
TZOFFSETFROM:-0600
TZOFFSETTO:-0700
TZNAME:MST
DTSTART:20251102T080000
END:STANDARD
BEGIN:DAYLIGHT
TZOFFSETFROM:-0700
TZOFFSETTO:-0600
TZNAME:MDT
DTSTART:20260308T090000
END:DAYLIGHT
BEGIN:STANDARD
TZOFFSETFROM:-0600
TZOFFSETTO:-0700
TZNAME:MST
DTSTART:20261101T080000
END:STANDARD
BEGIN:DAYLIGHT
TZOFFSETFROM:-0700
TZOFFSETTO:-0600
TZNAME:MDT
DTSTART:20270314T090000
END:DAYLIGHT
BEGIN:STANDARD
TZOFFSETFROM:-0600
TZOFFSETTO:-0700
TZNAME:MST
DTSTART:20271107T080000
END:STANDARD
END:VTIMEZONE
BEGIN:VEVENT
DTSTART;TZID=America/Denver:20260221T100000
DTEND;TZID=America/Denver:20260221T120000
DTSTAMP:20260422T073533
CREATED:20240927T214718Z
LAST-MODIFIED:20250820T194818Z
UID:10020006-1771668000-1771675200@lgbtqcolorado.org
SUMMARY:Divorce Support Group
DESCRIPTION:MUST BE 18 YEARS OLD \nDo you identify as transgender or queer? Are you going through a divorce or are recently divorced? Join our peer-led support group to address the challenges of divorce for queer people. \nDates: Third Saturdays of each month \nTime: 10:00 AM - 12:00 PM \nLocation: The Center on Colfax - 1301 East Colfax Ave\, Denver\, CO 80218 \nFor any questions\, please contact Joy Iwancio\, Director of Transgender Services\, at JIwancio@lgbtqcolorado.org
URL:https://lgbtqcolorado.org/event/divorce-support-group/2026-02-21/
LOCATION:The Center on Colfax\, 1301 E. Colfax Ave.\, Denver\, CO\, 80218\, United States
CATEGORIES:The Center Calendar,Transgender Program,Support Groups,Transgender
ATTACH;FMTTYPE=image/png:https://lgbtqcolorado.org/wp-content/uploads/2024/09/DivorceSupport-InPerson-16x9-2.png
GEO:39.7402674;-104.970419
X-APPLE-STRUCTURED-LOCATION;VALUE=URI;X-ADDRESS=The Center on Colfax 1301 E. Colfax Ave. Denver CO 80218 United States;X-APPLE-RADIUS=500;X-TITLE=1301 E. Colfax Ave.:geo:-104.970419,39.7402674
END:VEVENT
BEGIN:VEVENT
DTSTART;TZID=America/Denver:20260221T120000
DTEND;TZID=America/Denver:20260221T140000
DTSTAMP:20260422T073533
CREATED:20250203T173236Z
LAST-MODIFIED:20251009T160802Z
UID:10033896-1771675200-1771682400@lgbtqcolorado.org
SUMMARY:History & Education Saturdays
DESCRIPTION:Join the Colorado LGBTQ+ History Project for Education Saturdays. Each month\, we will offer a free public lecture on LGBTQ+ history in Colorado\, or on a broader subject following our heritage month calendar. The lecture will be followed by an educator workshop. The workshop offers a gathering place for LGBTQ+ educations provides lesson plans and other resources for teachers. Resources provided and discussed in this meeting are relevant to the general public as well as teachers. They include bibliographies\, lecture slides\, books\, notes\, and primary sources when available. \nThe lecture will run 12:00 - 1:00 PM and the education workshop will run 1:00 - 2:00 PM. Meetings will be held in-person at The Center on Colfax unless otherwise stated. \nDates: Third Saturday of each month \nTime: 12:00 - 2:00 PM \nLocation: The Center on Colfax - 1301 E. Colfax Ave.\, Denver\, CO 80218 \n2025 Meeting Topics\n\nNovember 15: LGBTQ+ history from Indigenous North American Heritage from 1500 - 2000\nDecember 20: LGBTQ+ Health History - Trans Youth\, HIV\, and Psychology
URL:https://lgbtqcolorado.org/event/history-education-saturdays/2026-02-21/
LOCATION:The Center on Colfax\, 1301 E. Colfax Ave.\, Denver\, CO\, 80218\, United States
CATEGORIES:Community Events,Colorado LGBTQ History Project,The Center Calendar,Classes & Trainings,History,Lectures
ATTACH;FMTTYPE=image/jpeg:https://lgbtqcolorado.org/wp-content/uploads/2025/01/468962693_10169592100775183_557159684455015113_n.jpg
GEO:39.7402674;-104.970419
X-APPLE-STRUCTURED-LOCATION;VALUE=URI;X-ADDRESS=The Center on Colfax 1301 E. Colfax Ave. Denver CO 80218 United States;X-APPLE-RADIUS=500;X-TITLE=1301 E. Colfax Ave.:geo:-104.970419,39.7402674
END:VEVENT
BEGIN:VEVENT
DTSTART;TZID=America/Denver:20260221T121500
DTEND;TZID=America/Denver:20260221T133000
DTSTAMP:20260422T073533
CREATED:20260205T192209Z
LAST-MODIFIED:20260217T223831Z
UID:10031847-1771676100-1771680600@lgbtqcolorado.org
SUMMARY:Colorado LGBTQ History Project Black History Month
DESCRIPTION:Black History Month - Please join us for a talk about Black LGBTQ+ History in Colorado and the US - This talk will focus on the history of Black LGBTQ People from the African Diaspora to Colorado from 1500 CE to 2000 CE.  We’ll also explore opportunities for engagement via the Wendell Sayers History Committee for activism around Black LGBTQ History in Colorado.
URL:https://lgbtqcolorado.org/event/colorado-lgbtq-history-project-black-heritage-month/
LOCATION:The Center on Colfax\, 1301 E. Colfax Ave.\, Denver\, CO\, 80218\, United States
CATEGORIES:Community Events,The Center Calendar
ATTACH;FMTTYPE=image/jpeg:https://lgbtqcolorado.org/wp-content/uploads/2026/02/black-history.jpg
GEO:39.7402674;-104.970419
X-APPLE-STRUCTURED-LOCATION;VALUE=URI;X-ADDRESS=The Center on Colfax 1301 E. Colfax Ave. Denver CO 80218 United States;X-APPLE-RADIUS=500;X-TITLE=1301 E. Colfax Ave.:geo:-104.970419,39.7402674
END:VEVENT
BEGIN:VEVENT
DTSTART;TZID=America/Denver:20260221T123000
DTEND;TZID=America/Denver:20260221T140000
DTSTAMP:20260422T073533
CREATED:20231201T175605Z
LAST-MODIFIED:20250804T153214Z
UID:10013415-1771677000-1771682400@lgbtqcolorado.org
SUMMARY:In Person Transgender Support Group
DESCRIPTION:MUST BE 18 YEARS OLD \nThis in person peer lead and confidential support group provides peer support and resources to adults who identify transgender or gender diverse. This is a safe\, drop-in space providing peer-run social support\, engaging conversation\, and relevant resources to attendees. Support groups at The Center on Colfax are always free to attend. No signup necessary. Walk-ins are welcome. \nDates: Third and Fourth Saturdays from 12:30 - 2:00 PM \nFor any questions\, please contact Joy Iwancio\, Director of Transgender Services\, at JIwancio@lgbtqcolorado.org
URL:https://lgbtqcolorado.org/event/in-person-trans-support-group-3/2026-02-21/
LOCATION:The Center on Colfax\, 1301 E. Colfax Ave.\, Denver\, CO\, 80218\, United States
CATEGORIES:The Center Calendar,Transgender Program,Support Groups,Transgender
ATTACH;FMTTYPE=image/jpeg:https://lgbtqcolorado.org/wp-content/uploads/2023/12/InPersonTrans-16x9-V2.jpg
GEO:39.7402674;-104.970419
X-APPLE-STRUCTURED-LOCATION;VALUE=URI;X-ADDRESS=The Center on Colfax 1301 E. Colfax Ave. Denver CO 80218 United States;X-APPLE-RADIUS=500;X-TITLE=1301 E. Colfax Ave.:geo:-104.970419,39.7402674
END:VEVENT
END:VCALENDAR