BEGIN:VCALENDAR
VERSION:2.0
PRODID:-//The Center on Colfax - LGBTQ Colorado - ECPv6.15.20//NONSGML v1.0//EN
CALSCALE:GREGORIAN
METHOD:PUBLISH
X-ORIGINAL-URL:https://lgbtqcolorado.org
X-WR-CALDESC:Events for The Center on Colfax - LGBTQ Colorado
REFRESH-INTERVAL;VALUE=DURATION:PT1H
X-Robots-Tag:noindex
X-PUBLISHED-TTL:PT1H
BEGIN:VTIMEZONE
TZID:America/Denver
BEGIN:DAYLIGHT
TZOFFSETFROM:-0700
TZOFFSETTO:-0600
TZNAME:MDT
DTSTART:20240310T090000
END:DAYLIGHT
BEGIN:STANDARD
TZOFFSETFROM:-0600
TZOFFSETTO:-0700
TZNAME:MST
DTSTART:20241103T080000
END:STANDARD
BEGIN:DAYLIGHT
TZOFFSETFROM:-0700
TZOFFSETTO:-0600
TZNAME:MDT
DTSTART:20250309T090000
END:DAYLIGHT
BEGIN:STANDARD
TZOFFSETFROM:-0600
TZOFFSETTO:-0700
TZNAME:MST
DTSTART:20251102T080000
END:STANDARD
BEGIN:DAYLIGHT
TZOFFSETFROM:-0700
TZOFFSETTO:-0600
TZNAME:MDT
DTSTART:20260308T090000
END:DAYLIGHT
BEGIN:STANDARD
TZOFFSETFROM:-0600
TZOFFSETTO:-0700
TZNAME:MST
DTSTART:20261101T080000
END:STANDARD
END:VTIMEZONE
BEGIN:VEVENT
DTSTART;TZID=America/Denver:20250603T180000
DTEND;TZID=America/Denver:20250603T193000
DTSTAMP:20260423T005025
CREATED:20250303T182545Z
LAST-MODIFIED:20260318T215826Z
UID:10032609-1748973600-1748979000@lgbtqcolorado.org
SUMMARY:Bisexual Peer Support Group
DESCRIPTION:Join Glass Lawler Mental Health for our Bisexual Peer Support Group! This peer group aims to help individuals with a bisexual identity to come together and build community and connection with one another. \nDates: First and Fourth Tuesday of each month \nTime: 6:00 - 7:30 PM \nIn-Person Attendance: Visibility Room at The Center on Colfax - 1301 East Colfax Avenue\, Denver\, CO\, 80218 \nVirtual Attendance: Via Zoom - Click here for the meeting link \n\nMeeting ID: 840 9105 8102\nPasscode: 835112\n\nAny questions? Please contact Jaylin Goodloe at jgoodloe@lgbtqcolorado.org.
URL:https://lgbtqcolorado.org/event/bisexual-support/2025-06-03/
LOCATION:Visibility Room\, 1301 E. Colfax Ave.\, Denver\, Colorado\, 80218
CATEGORIES:Glass Lawler Mental Health,The Center Calendar,Support Groups
ATTACH;FMTTYPE=image/jpeg:https://lgbtqcolorado.org/wp-content/uploads/2025/03/2026-BisexualPeerSupport-16x9-1.jpg
END:VEVENT
BEGIN:VEVENT
DTSTART;TZID=America/Denver:20250605T180000
DTEND;TZID=America/Denver:20250605T193000
DTSTAMP:20260423T005025
CREATED:20250303T183347Z
LAST-MODIFIED:20260304T231857Z
UID:10034833-1749146400-1749151800@lgbtqcolorado.org
SUMMARY:Soul Enlightenment Circle - Religious Trauma Peer Support
DESCRIPTION:The Soul Enlightenment Circle will discuss the trauma that has been associated with religion and the LGBTQ+ community. Members can expect to learn more about their own relationship with religion alongside others who have had similar experiences. \nAges: 18+ years old \nDates: First and Third Thursdays of each month \nTime: 6:00 - 7:30 PM \nIn Person Attendance: Visibility Room at The Center on Colfax - 1301 East Colfax Avenue\, Denver\, CO\, 80218 \nVirtual Attendance: Via Zoom - Click here for the meeting link \n\nMeeting ID: 881 4741 1716\nPasscode: 635093\n\nAny questions? Please contact Jaylin Goodloe at jgoodloe@lgbtqcolorado.org.
URL:https://lgbtqcolorado.org/event/religious-trauma-support/2025-06-05/
LOCATION:Virtual – Zoom
CATEGORIES:Glass Lawler Mental Health,The Center Calendar,Support Groups
ATTACH;FMTTYPE=image/jpeg:https://lgbtqcolorado.org/wp-content/uploads/2025/03/2026-SoulEnlightenment-16x9-1.jpg
END:VEVENT
BEGIN:VEVENT
DTSTART;TZID=America/Denver:20250610T180000
DTEND;TZID=America/Denver:20250610T193000
DTSTAMP:20260423T005025
CREATED:20250303T184453Z
LAST-MODIFIED:20260304T220903Z
UID:10032530-1749578400-1749583800@lgbtqcolorado.org
SUMMARY:BIPOC Peer Support Group
DESCRIPTION:Join our hybrid BIPOC peer support group! This group is here to support those in the LGBTQ+ community who have an intersecting BIPOC identity. Participants can expect to meet others in the community who closely identity with them\, learn about themselves and about the many other factors that could contribute to their overall well-being. \nAges: 18+ years old \nDates: Second Tuesday of each month \nTime: 6:00 - 7:30 PM \nIn-Person Attendance: The Center on Colfax - 1301 East Colfax Avenue\, Denver\, CO\, 80218 \nVirtual Attendance: Via Zoom - Click here for the meeting link \n\nMeeting ID: 886 8738 5939\nPasscode: 754647\n\nAny questions? Please contact Jaylin Goodloe at jgoodloe@lgbtqcolorado.org.
URL:https://lgbtqcolorado.org/event/bipoc-support/2025-06-10/
LOCATION:Virtual – Zoom
CATEGORIES:Glass Lawler Mental Health,The Center Calendar,Support Groups
ATTACH;FMTTYPE=image/jpeg:https://lgbtqcolorado.org/wp-content/uploads/2023/06/2025-BIPOCPeerSupportGroup-16x9-1.jpg
END:VEVENT
BEGIN:VEVENT
DTSTART;VALUE=DATE:20250619
DTEND;VALUE=DATE:20250621
DTSTAMP:20260423T005025
CREATED:20250527T134243Z
LAST-MODIFIED:20250527T134243Z
UID:10024205-1750302000-1750388399@lgbtqcolorado.org
SUMMARY:The Center on Colfax Closed - June 19\, 2025
DESCRIPTION:The Center on Colfax will be closed Thursday\, June 19\, 2025\, in observance of Juneteenth.\nWe apologize for any inconvenience this closure may cause and we look forward to resuming our normal business hours on Friday\, June 20\, 2025 at 10:00 AM. If this an emergency\, please call the Colorado Crisis Line at 1-844-493-8255.
URL:https://lgbtqcolorado.org/event/center-closed-june-19-2025/
LOCATION:The Center on Colfax\, 1301 E. Colfax Ave.\, Denver\, CO\, 80218\, United States
CATEGORIES:Young Adults and Adults Program,Glass Lawler Mental Health,Disability Program,Colorado LGBTQ History Project,The Center Calendar,Rainbow Alley,West of 50,Transgender Program,Older Adults,Transgender,Youth & Young Adult
GEO:39.7402674;-104.970419
X-APPLE-STRUCTURED-LOCATION;VALUE=URI;X-ADDRESS=The Center on Colfax 1301 E. Colfax Ave. Denver CO 80218 United States;X-APPLE-RADIUS=500;X-TITLE=1301 E. Colfax Ave.:geo:-104.970419,39.7402674
END:VEVENT
BEGIN:VEVENT
DTSTART;TZID=America/Denver:20250624T180000
DTEND;TZID=America/Denver:20250624T193000
DTSTAMP:20260423T005025
CREATED:20250303T182745Z
LAST-MODIFIED:20260318T215730Z
UID:10034755-1750788000-1750793400@lgbtqcolorado.org
SUMMARY:Bisexual Peer Support Group
DESCRIPTION:Join Glass Lawler Mental Health for our new Bisexual Peer Support Group! This peer group aims to help individuals with a bisexual identity to come together and build community and connection with one another. \nDates: First and Fourth Tuesdays of each month \nTime: 6:00 - 7:30 PM \nIn-Person Attendance: Visibility Room at The Center on Colfax - 1301 East Colfax Avenue\, Denver\, CO\, 80218 \nVirtual Attendance: Via Zoom - Click here for the meeting link \n\nMeeting ID: 840 9105 8102\nPasscode: 835112\n\nAny questions? Please contact Jaylin Goodloe at jgoodloe@lgbtqcolorado.org.
URL:https://lgbtqcolorado.org/event/bisexual-support-2/2025-06-24/
LOCATION:Visibility Room\, 1301 E. Colfax Ave.\, Denver\, Colorado\, 80218
CATEGORIES:Glass Lawler Mental Health,The Center Calendar,Support Groups
ATTACH;FMTTYPE=image/jpeg:https://lgbtqcolorado.org/wp-content/uploads/2025/03/2026-BisexualPeerSupport-16x9-1.jpg
END:VEVENT
BEGIN:VEVENT
DTSTART;VALUE=DATE:20250628
DTEND;VALUE=DATE:20250701
DTSTAMP:20260423T005025
CREATED:20250529T024333Z
LAST-MODIFIED:20250617T141144Z
UID:10024235-1751079600-1751252399@lgbtqcolorado.org
SUMMARY:The Center on Colfax Closed for Denver Pride 2025
DESCRIPTION:The Center on Colfax will be closed on Saturday\, June 28 and Sunday\, June 29\, 2025\, for Denver Pride🌈\nJoin us at Civic Center Park from 11:00 AM - 7:00 PM on Saturday\, June 28 and 10:00 AM - 6:00 PM on Sunday\, June 29 for Denver PrideFest! Find our full slate of program activations and activity schedules here. Plus\, kick off your weekend with the Pride 5K on Saturday\, June 28 and join 100\,000 of your closest friends in cheering on the Vizzy Denver Pride Parade on Sunday\, June 29! Learn more about Denver Pride at denverpride.org \nThe Center will resume its usual operating hours on Monday\, June 30\, 2025 at 10:00 AM. Happy Pride!
URL:https://lgbtqcolorado.org/event/center-closed-denver-pride-2025/
LOCATION:The Center on Colfax\, 1301 E. Colfax Ave.\, Denver\, CO\, 80218\, United States
CATEGORIES:Young Adults and Adults Program,Glass Lawler Mental Health,Disability Program,Colorado LGBTQ History Project,The Center Calendar,Rainbow Alley,West of 50,Transgender Program,Older Adults,Transgender,Youth & Young Adult
GEO:39.7402674;-104.970419
X-APPLE-STRUCTURED-LOCATION;VALUE=URI;X-ADDRESS=The Center on Colfax 1301 E. Colfax Ave. Denver CO 80218 United States;X-APPLE-RADIUS=500;X-TITLE=1301 E. Colfax Ave.:geo:-104.970419,39.7402674
END:VEVENT
BEGIN:VEVENT
DTSTART;TZID=America/Denver:20250628T110000
DTEND;TZID=America/Denver:20250628T190000
DTSTAMP:20260423T005025
CREATED:20250617T134713Z
LAST-MODIFIED:20250617T134713Z
UID:10024607-1751108400-1751137200@lgbtqcolorado.org
SUMMARY:Health and Wellness Lounge
DESCRIPTION:Cool off and find a moment of relaxation at the Health and Wellness Lounge\, hosted by Glass Lawler Mental Health of The Center on Colfax! Take a break from the heat of Denver PrideFest and connect with resources and positive affirmations. \nDates: Saturday\, June 28\, 2025 | 11:00 AM – 7:00 PM and Sunday\, June 29\, 2025 | 10:00 AM – 6:00 PM \nActivities: \n\nCool Down Zone\nGive What You Can\, Take What You Need - Interactive Installation\nGames and Prizes - Support The Center through a donation-based game and win fun prizes!\nResources
URL:https://lgbtqcolorado.org/event/health-and-wellness-lounge/2025-06-28/
LOCATION:Civic Center Park\, W Colfax Ave & Bannock St\, Denver\, CO\, Denver\, 80202
CATEGORIES:Glass Lawler Mental Health,Community Events,The Center Calendar,Pride
ATTACH;FMTTYPE=image/jpeg:https://lgbtqcolorado.org/wp-content/uploads/2025/06/2025-CenterPrideActivations-16x9-1.jpg
GEO:39.7381691;-104.988847
X-APPLE-STRUCTURED-LOCATION;VALUE=URI;X-ADDRESS=Civic Center Park W Colfax Ave & Bannock St Denver CO Denver 80202;X-APPLE-RADIUS=500;X-TITLE=W Colfax Ave & Bannock St\, Denver\, CO:geo:-104.988847,39.7381691
END:VEVENT
BEGIN:VEVENT
DTSTART;TZID=America/Denver:20250629T100000
DTEND;TZID=America/Denver:20250629T180000
DTSTAMP:20260423T005025
CREATED:20250617T134713Z
LAST-MODIFIED:20250617T134713Z
UID:10024608-1751191200-1751220000@lgbtqcolorado.org
SUMMARY:Health and Wellness Lounge
DESCRIPTION:Cool off and find a moment of relaxation at the Health and Wellness Lounge\, hosted by Glass Lawler Mental Health of The Center on Colfax! Take a break from the heat of Denver PrideFest and connect with resources and positive affirmations. \nDates: Saturday\, June 28\, 2025 | 11:00 AM – 7:00 PM and Sunday\, June 29\, 2025 | 10:00 AM – 6:00 PM \nActivities: \n\nCool Down Zone\nGive What You Can\, Take What You Need - Interactive Installation\nGames and Prizes - Support The Center through a donation-based game and win fun prizes!\nResources
URL:https://lgbtqcolorado.org/event/health-and-wellness-lounge/2025-06-29/
LOCATION:Civic Center Park\, W Colfax Ave & Bannock St\, Denver\, CO\, Denver\, 80202
CATEGORIES:Glass Lawler Mental Health,Community Events,The Center Calendar,Pride
ATTACH;FMTTYPE=image/jpeg:https://lgbtqcolorado.org/wp-content/uploads/2025/06/2025-CenterPrideActivations-16x9-1.jpg
GEO:39.7381691;-104.988847
X-APPLE-STRUCTURED-LOCATION;VALUE=URI;X-ADDRESS=Civic Center Park W Colfax Ave & Bannock St Denver CO Denver 80202;X-APPLE-RADIUS=500;X-TITLE=W Colfax Ave & Bannock St\, Denver\, CO:geo:-104.988847,39.7381691
END:VEVENT
END:VCALENDAR