BEGIN:VCALENDAR
VERSION:2.0
PRODID:-//The Center on Colfax - LGBTQ Colorado - ECPv6.15.20//NONSGML v1.0//EN
CALSCALE:GREGORIAN
METHOD:PUBLISH
X-WR-CALNAME:The Center on Colfax - LGBTQ Colorado
X-ORIGINAL-URL:https://lgbtqcolorado.org
X-WR-CALDESC:Events for The Center on Colfax - LGBTQ Colorado
REFRESH-INTERVAL;VALUE=DURATION:PT1H
X-Robots-Tag:noindex
X-PUBLISHED-TTL:PT1H
BEGIN:VTIMEZONE
TZID:America/Denver
BEGIN:DAYLIGHT
TZOFFSETFROM:-0700
TZOFFSETTO:-0600
TZNAME:MDT
DTSTART:20260308T090000
END:DAYLIGHT
BEGIN:STANDARD
TZOFFSETFROM:-0600
TZOFFSETTO:-0700
TZNAME:MST
DTSTART:20261101T080000
END:STANDARD
BEGIN:DAYLIGHT
TZOFFSETFROM:-0700
TZOFFSETTO:-0600
TZNAME:MDT
DTSTART:20270314T090000
END:DAYLIGHT
BEGIN:STANDARD
TZOFFSETFROM:-0600
TZOFFSETTO:-0700
TZNAME:MST
DTSTART:20271107T080000
END:STANDARD
BEGIN:DAYLIGHT
TZOFFSETFROM:-0700
TZOFFSETTO:-0600
TZNAME:MDT
DTSTART:20280312T090000
END:DAYLIGHT
BEGIN:STANDARD
TZOFFSETFROM:-0600
TZOFFSETTO:-0700
TZNAME:MST
DTSTART:20281105T080000
END:STANDARD
END:VTIMEZONE
BEGIN:VEVENT
DTSTART;TZID=America/Denver:20270330T100000
DTEND;TZID=America/Denver:20270330T120000
DTSTAMP:20260420T054308
CREATED:20200403T153634Z
LAST-MODIFIED:20251112T205607Z
UID:10005480-1806400800-1806408000@lgbtqcolorado.org
SUMMARY:Men's Coffee Group
DESCRIPTION:Virtual/In-Person Hybrid Men's Coffee Group \nA weekly group for men focusing on conversation and friendship. \nGroup details: A weekly drop-in group for individuals 50+. Tuesdays\, 10:00 a.m—12:00 p.m \nFor Registration and/or Questions\nIf interested in these activities\, please contact Westof50@lgbtqcolorado.org
URL:https://lgbtqcolorado.org/event/mens-coffee/2027-03-30/
LOCATION:The Center on Colfax\, 1301 E. Colfax Ave.\, Denver\, CO\, 80218\, United States
CATEGORIES:The Center Calendar,West of 50,Older Adults
ATTACH;FMTTYPE=image/png:https://lgbtqcolorado.org/wp-content/uploads/2020/04/OnlineMensCoffeeGroup_website.png
GEO:39.7402674;-104.970419
X-APPLE-STRUCTURED-LOCATION;VALUE=URI;X-ADDRESS=The Center on Colfax 1301 E. Colfax Ave. Denver CO 80218 United States;X-APPLE-RADIUS=500;X-TITLE=1301 E. Colfax Ave.:geo:-104.970419,39.7402674
END:VEVENT
BEGIN:VEVENT
DTSTART;TZID=America/Denver:20270330T140000
DTEND;TZID=America/Denver:20270330T153000
DTSTAMP:20260420T054308
CREATED:20251015T224822Z
LAST-MODIFIED:20251015T224823Z
UID:10026905-1806415200-1806420600@lgbtqcolorado.org
SUMMARY:Older\, Wiser\, Sexually Smarter - Rediscovering Intimacy Later in Life
DESCRIPTION:Older\, Wiser\, Sexually Smarter - Rediscovering Intimacy Later in Life\nThis weekly discussion group is facilitated by a West of 50 staff member and focuses on dismantling sexual misconceptions and introducing evidence-based topics to help older adults engage in their best sex-positive-selves. The group operates based on important and fundamental concepts about sexuality and ages. Older adults can examine and possibly change the “sexual scripts” they have learned from childhood about to think and behave as sexual people. Many of these scripts are not relevant for older adults. Additionally\, sex is more than intercourse. Especially in the later years\, individuals can to explore the possibilities of non-penetrative sex\, or “outercourse”. \nWe cover topics such as \n\nSexual decisions later in life\nGood Sex: What Makes it So\nLooking for Love Later in Life\nSafer Sex Activities for Older Adults\nFrom Problems to Possibilities: Sexuality\, Aging\, Disability\, & Chronic Illness\nBottoming\nNipple play\nBondage & Discipline\nDominance & Submission\nSex History\nOral Sex\nAnd so much more!\n\nWhen: Every Other Tuesday\, 2:00 - 3:30 PM \nWhere: Stonewall Meeting Room at The Center on Colfax - 1301 East Colfax Ave\, Denver\, CO 80218 \nContact Information: Please contact Bryant Mehay at bmehay@lgbtqcolorado.org
URL:https://lgbtqcolorado.org/event/older-wiser-sexually-smarter-rediscovering-intimacy-later-in-life-2/2027-03-30/
LOCATION:Stonewall Meeting Room\, 1301 E. Colfax Ave.\, Denver\, Colorado\, 80218
CATEGORIES:The Center Calendar,West of 50,Classes & Trainings
ATTACH;FMTTYPE=image/jpeg:https://lgbtqcolorado.org/wp-content/uploads/2022/08/2024-OlderWiser-Graphic-16x9-1.jpg
ORGANIZER;CN="Jason Eaton-Lynch%2C Director of Elder Services":MAILTO:jeatonlynch@lgbtqcolorado.org
END:VEVENT
BEGIN:VEVENT
DTSTART;TZID=America/Denver:20270330T160000
DTEND;TZID=America/Denver:20270330T190000
DTSTAMP:20260420T054308
CREATED:20230123T230901Z
LAST-MODIFIED:20250722T161741Z
UID:10009879-1806422400-1806433200@lgbtqcolorado.org
SUMMARY:Young Adult Drop In Hours
DESCRIPTION:Our Young Adult Drop In Hours are a casual space for LGBTQ+ young adults to come build community\, socialize\, engage with educational workshops\, and participate in community events. Young Adult Drop In Hours include activities such as cooking classes\, guest speakers\, occasional field trips\, resources\, and more. \nDates: Every Tuesday \nTime: 4:00 - 7:00 PM \nLocation: The Center on Colfax - 1301 E. Colfax Ave\, Denver\, CO\, 80218 \nAges: 18-24 years old \nAny questions? Please contact Nick at nmassey@lgbtqcolorado.org
URL:https://lgbtqcolorado.org/event/young-adult-drop-in/2027-03-30/
LOCATION:The Center on Colfax\, 1301 E. Colfax Ave.\, Denver\, CO\, 80218\, United States
CATEGORIES:Young Adults and Adults Program,The Center Calendar,Youth & Young Adult
ATTACH;FMTTYPE=image/jpeg:https://lgbtqcolorado.org/wp-content/uploads/2023/01/2025-YoungAdultDropIn-16x9-V2.jpg
GEO:39.7402674;-104.970419
X-APPLE-STRUCTURED-LOCATION;VALUE=URI;X-ADDRESS=The Center on Colfax 1301 E. Colfax Ave. Denver CO 80218 United States;X-APPLE-RADIUS=500;X-TITLE=1301 E. Colfax Ave.:geo:-104.970419,39.7402674
END:VEVENT
BEGIN:VEVENT
DTSTART;TZID=America/Denver:20270330T190000
DTEND;TZID=America/Denver:20270330T200000
DTSTAMP:20260420T054308
CREATED:20240816T180453Z
LAST-MODIFIED:20240816T180741Z
UID:10017824-1806433200-1806436800@lgbtqcolorado.org
SUMMARY:Narcotics Anonymous
DESCRIPTION:Please join us for a weekly meeting for Narcotics Anonymous. \nDates: Every Tuesday\, 7:00 - 8:00 PM and Every Saturday\, 1:00 - 2:00 PM \nWhere: The Phoenix Annex Building - 2221 Champa Street\, Denver\, CO 80205
URL:https://lgbtqcolorado.org/event/narcotics-anonymous/2027-03-30/
LOCATION:The Phoenix – Annex Building\, 2221 Champa Street\, Denver\, CO\, 80205\, United States
CATEGORIES:Community Events,Support Groups
ATTACH;FMTTYPE=image/jpeg:https://lgbtqcolorado.org/wp-content/uploads/2022/04/NA_group_logo_Jimmy_K.jpg
ORGANIZER;CN="The Phoenix":MAILTO:richard@thephoenix.org
END:VEVENT
END:VCALENDAR