BEGIN:VCALENDAR
VERSION:2.0
PRODID:-//The Center on Colfax - LGBTQ Colorado - ECPv6.15.20//NONSGML v1.0//EN
CALSCALE:GREGORIAN
METHOD:PUBLISH
X-ORIGINAL-URL:https://lgbtqcolorado.org
X-WR-CALDESC:Events for The Center on Colfax - LGBTQ Colorado
REFRESH-INTERVAL;VALUE=DURATION:PT1H
X-Robots-Tag:noindex
X-PUBLISHED-TTL:PT1H
BEGIN:VTIMEZONE
TZID:America/Denver
BEGIN:DAYLIGHT
TZOFFSETFROM:-0700
TZOFFSETTO:-0600
TZNAME:MDT
DTSTART:20250309T090000
END:DAYLIGHT
BEGIN:STANDARD
TZOFFSETFROM:-0600
TZOFFSETTO:-0700
TZNAME:MST
DTSTART:20251102T080000
END:STANDARD
BEGIN:DAYLIGHT
TZOFFSETFROM:-0700
TZOFFSETTO:-0600
TZNAME:MDT
DTSTART:20260308T090000
END:DAYLIGHT
BEGIN:STANDARD
TZOFFSETFROM:-0600
TZOFFSETTO:-0700
TZNAME:MST
DTSTART:20261101T080000
END:STANDARD
BEGIN:DAYLIGHT
TZOFFSETFROM:-0700
TZOFFSETTO:-0600
TZNAME:MDT
DTSTART:20270314T090000
END:DAYLIGHT
BEGIN:STANDARD
TZOFFSETFROM:-0600
TZOFFSETTO:-0700
TZNAME:MST
DTSTART:20271107T080000
END:STANDARD
END:VTIMEZONE
BEGIN:VEVENT
DTSTART;TZID=America/Denver:20260915T080000
DTEND;TZID=America/Denver:20260924T170000
DTSTAMP:20260422T060908
CREATED:20260421T231515Z
LAST-MODIFIED:20260421T231515Z
UID:10035865-1789459200-1790269200@lgbtqcolorado.org
SUMMARY:The Midwest Men's Festival
DESCRIPTION:For over forty years\, this ongoing experiment has been fostering interpersonal interactions and community building\, while respecting boundaries and encouraging supportive\, non-competitive self-expression. Most participants are gay\, bisexual\, and/or transgender; however\, all men are welcome.
URL:https://lgbtqcolorado.org/event/the-midwest-mens-festival/
LOCATION:Gaea Retreat Center\, 25110 235th S\, McLouth\, 66054
CATEGORIES:Community Events
ATTACH;FMTTYPE=image/jpeg:https://lgbtqcolorado.org/wp-content/uploads/2026/04/MMF-Square-Logo.jpg
END:VEVENT
END:VCALENDAR