BEGIN:VCALENDAR
VERSION:2.0
PRODID:-//The Center on Colfax - LGBTQ Colorado - ECPv6.15.20//NONSGML v1.0//EN
CALSCALE:GREGORIAN
METHOD:PUBLISH
X-ORIGINAL-URL:https://lgbtqcolorado.org
X-WR-CALDESC:Events for The Center on Colfax - LGBTQ Colorado
REFRESH-INTERVAL;VALUE=DURATION:PT1H
X-Robots-Tag:noindex
X-PUBLISHED-TTL:PT1H
BEGIN:VTIMEZONE
TZID:America/Denver
BEGIN:DAYLIGHT
TZOFFSETFROM:-0700
TZOFFSETTO:-0600
TZNAME:MDT
DTSTART:20250309T090000
END:DAYLIGHT
BEGIN:STANDARD
TZOFFSETFROM:-0600
TZOFFSETTO:-0700
TZNAME:MST
DTSTART:20251102T080000
END:STANDARD
BEGIN:DAYLIGHT
TZOFFSETFROM:-0700
TZOFFSETTO:-0600
TZNAME:MDT
DTSTART:20260308T090000
END:DAYLIGHT
BEGIN:STANDARD
TZOFFSETFROM:-0600
TZOFFSETTO:-0700
TZNAME:MST
DTSTART:20261101T080000
END:STANDARD
BEGIN:DAYLIGHT
TZOFFSETFROM:-0700
TZOFFSETTO:-0600
TZNAME:MDT
DTSTART:20270314T090000
END:DAYLIGHT
BEGIN:STANDARD
TZOFFSETFROM:-0600
TZOFFSETTO:-0700
TZNAME:MST
DTSTART:20271107T080000
END:STANDARD
END:VTIMEZONE
BEGIN:VEVENT
DTSTART;TZID=America/Denver:20260703T160000
DTEND;TZID=America/Denver:20260705T110000
DTSTAMP:20260424T001159
CREATED:20260421T231638Z
LAST-MODIFIED:20260421T231638Z
UID:10035864-1783094400-1783249200@lgbtqcolorado.org
SUMMARY:Rocky Mountain ManREACH Gathering
DESCRIPTION:The mission of Rocky Mountain ManREACH is to build heart-centered connections and community among men who seek intimacy with other men. This Fourth-of-July Weekend\, we invite our gay and bi brothers to join us for a magical summer gathering at the yurt village at La Foret Conference and Retreat Center.
URL:https://lgbtqcolorado.org/event/rocky-mountain-manreach-gathering/
LOCATION:La Foret Conference and Retreat Center\, 6145 Shoup Rd.\, COLORADO SPRINGS\, CO\, 80908\, United States
CATEGORIES:Community Events
ATTACH;FMTTYPE=image/jpeg:https://lgbtqcolorado.org/wp-content/uploads/2026/04/RMMR-Grindr-Ad.jpg
ORGANIZER;CN="Rocky Mountain ManREACH":MAILTO:jaugust2000@yahoo.com
END:VEVENT
END:VCALENDAR