BEGIN:VCALENDAR
VERSION:2.0
PRODID:-//The Center on Colfax - LGBTQ Colorado - ECPv6.15.20//NONSGML v1.0//EN
CALSCALE:GREGORIAN
METHOD:PUBLISH
X-WR-CALNAME:The Center on Colfax - LGBTQ Colorado
X-ORIGINAL-URL:https://lgbtqcolorado.org
X-WR-CALDESC:Events for The Center on Colfax - LGBTQ Colorado
REFRESH-INTERVAL;VALUE=DURATION:PT1H
X-Robots-Tag:noindex
X-PUBLISHED-TTL:PT1H
BEGIN:VTIMEZONE
TZID:America/Denver
BEGIN:DAYLIGHT
TZOFFSETFROM:-0700
TZOFFSETTO:-0600
TZNAME:MDT
DTSTART:20250309T090000
END:DAYLIGHT
BEGIN:STANDARD
TZOFFSETFROM:-0600
TZOFFSETTO:-0700
TZNAME:MST
DTSTART:20251102T080000
END:STANDARD
BEGIN:DAYLIGHT
TZOFFSETFROM:-0700
TZOFFSETTO:-0600
TZNAME:MDT
DTSTART:20260308T090000
END:DAYLIGHT
BEGIN:STANDARD
TZOFFSETFROM:-0600
TZOFFSETTO:-0700
TZNAME:MST
DTSTART:20261101T080000
END:STANDARD
BEGIN:DAYLIGHT
TZOFFSETFROM:-0700
TZOFFSETTO:-0600
TZNAME:MDT
DTSTART:20270314T090000
END:DAYLIGHT
BEGIN:STANDARD
TZOFFSETFROM:-0600
TZOFFSETTO:-0700
TZNAME:MST
DTSTART:20271107T080000
END:STANDARD
END:VTIMEZONE
BEGIN:VEVENT
DTSTART;TZID=America/Denver:20260418T090000
DTEND;TZID=America/Denver:20260418T170000
DTSTAMP:20260422T114343
CREATED:20260310T160814Z
LAST-MODIFIED:20260310T160814Z
UID:10034989-1776502800-1776531600@lgbtqcolorado.org
SUMMARY:Celebrating Indigenous Wisdom to Face Modern Challenges
DESCRIPTION:6pm\, Fri\, Apr 17 the weekend opens with Rhythm of Legacy\, a local band with global sound.  \n9am\, Sat\, Apr 18 is a day short films\, cultural presentations\, talk backs & panels.  \nTickets and more information available on our website.  \nWe look forward to seeing you there! \n(Can't join us\, sponsor a community member ticket for someone unnable to purchase their own.) \nA little more about Her Many Voices' and the Prelude \nThis is not a traditional film festival. It is an intentional cinematic gathering designed to center ethical storytelling\, lived experience\, and solutions rooted in balance with the Earth. \nSince Her Many Voices hosted its first annual Earth Day Celebration of Indigenous Wisdom to Face Modern Challenges in 2021\, they have platformed more than 100 Indigenous leaders\, artists\, and wisdom-keepers from five continents. \nWhat began as a global Artivism platform including live talks\, visual art\, ceremony\, and storytelling has become a trusted space for dialogue\, learning\, and collective reflection. \nIn 2026\, Her Many Voices is evolving this legacy into a curated Earth Day film experience. This gathering invites audiences to engage with powerful cinematic storytelling that honors Indigenous knowledge systems\, land-based wisdom\, and regenerative pathways forward through films that move beyond awareness and into relationship\, reciprocity\, and hope.
URL:https://lgbtqcolorado.org/event/celebrating-indigenous-wisdom-to-face-modern-challenges/2026-04-18/
LOCATION:Cleo Parker Robinson\, 119 Park Ave W\, Denver\, CO\, 80205\, United States
CATEGORIES:Community Events
ATTACH;FMTTYPE=image/jpeg:https://lgbtqcolorado.org/wp-content/uploads/2026/03/April-17-18.jpg
ORGANIZER;CN="Her Many Voices":MAILTO:earthday@hermanyvoices.org
END:VEVENT
BEGIN:VEVENT
DTSTART;TZID=America/Denver:20260418T100000
DTEND;TZID=America/Denver:20260418T120000
DTSTAMP:20260422T114343
CREATED:20240927T214718Z
LAST-MODIFIED:20250820T194818Z
UID:10020008-1776506400-1776513600@lgbtqcolorado.org
SUMMARY:Divorce Support Group
DESCRIPTION:MUST BE 18 YEARS OLD \nDo you identify as transgender or queer? Are you going through a divorce or are recently divorced? Join our peer-led support group to address the challenges of divorce for queer people. \nDates: Third Saturdays of each month \nTime: 10:00 AM - 12:00 PM \nLocation: The Center on Colfax - 1301 East Colfax Ave\, Denver\, CO 80218 \nFor any questions\, please contact Joy Iwancio\, Director of Transgender Services\, at JIwancio@lgbtqcolorado.org
URL:https://lgbtqcolorado.org/event/divorce-support-group/2026-04-18/
LOCATION:The Center on Colfax\, 1301 E. Colfax Ave.\, Denver\, CO\, 80218\, United States
CATEGORIES:The Center Calendar,Transgender Program,Support Groups,Transgender
ATTACH;FMTTYPE=image/png:https://lgbtqcolorado.org/wp-content/uploads/2024/09/DivorceSupport-InPerson-16x9-2.png
GEO:39.7402674;-104.970419
X-APPLE-STRUCTURED-LOCATION;VALUE=URI;X-ADDRESS=The Center on Colfax 1301 E. Colfax Ave. Denver CO 80218 United States;X-APPLE-RADIUS=500;X-TITLE=1301 E. Colfax Ave.:geo:-104.970419,39.7402674
END:VEVENT
BEGIN:VEVENT
DTSTART;TZID=America/Denver:20260418T120000
DTEND;TZID=America/Denver:20260418T140000
DTSTAMP:20260422T114343
CREATED:20260406T154638Z
LAST-MODIFIED:20260406T220705Z
UID:10035611-1776513600-1776520800@lgbtqcolorado.org
SUMMARY:Lecture about LGBTQ History in Muslim Cultures 
DESCRIPTION:Colorado LGBTQ History Project: Lecture about LGBTQ History in Muslim Cultures \nJoin the Colorado LGBTQ History project for a lecture on “LGBTQ People in the Islamic Golden Age” which will focus on the heritage of LGBTQ people in the Islamic Golden Age to the early contemporary period (c. 650 CE - 1500 CE) for Arab American  Heritage Month.
URL:https://lgbtqcolorado.org/event/112400/
LOCATION:The Center on Colfax\, 1301 E. Colfax Ave.\, Denver\, CO\, 80218\, United States
CATEGORIES:Colorado LGBTQ History Project,The Center Calendar
ATTACH;FMTTYPE=image/jpeg:https://lgbtqcolorado.org/wp-content/uploads/2026/04/lgbtq-golden-age.jpg
GEO:39.7402674;-104.970419
X-APPLE-STRUCTURED-LOCATION;VALUE=URI;X-ADDRESS=The Center on Colfax 1301 E. Colfax Ave. Denver CO 80218 United States;X-APPLE-RADIUS=500;X-TITLE=1301 E. Colfax Ave.:geo:-104.970419,39.7402674
END:VEVENT
BEGIN:VEVENT
DTSTART;TZID=America/Denver:20260418T123000
DTEND;TZID=America/Denver:20260418T140000
DTSTAMP:20260422T114343
CREATED:20231201T175605Z
LAST-MODIFIED:20250804T153214Z
UID:10013417-1776515400-1776520800@lgbtqcolorado.org
SUMMARY:In Person Transgender Support Group
DESCRIPTION:MUST BE 18 YEARS OLD \nThis in person peer lead and confidential support group provides peer support and resources to adults who identify transgender or gender diverse. This is a safe\, drop-in space providing peer-run social support\, engaging conversation\, and relevant resources to attendees. Support groups at The Center on Colfax are always free to attend. No signup necessary. Walk-ins are welcome. \nDates: Third and Fourth Saturdays from 12:30 - 2:00 PM \nFor any questions\, please contact Joy Iwancio\, Director of Transgender Services\, at JIwancio@lgbtqcolorado.org
URL:https://lgbtqcolorado.org/event/in-person-trans-support-group-3/2026-04-18/
LOCATION:The Center on Colfax\, 1301 E. Colfax Ave.\, Denver\, CO\, 80218\, United States
CATEGORIES:The Center Calendar,Transgender Program,Support Groups,Transgender
ATTACH;FMTTYPE=image/jpeg:https://lgbtqcolorado.org/wp-content/uploads/2023/12/InPersonTrans-16x9-V2.jpg
GEO:39.7402674;-104.970419
X-APPLE-STRUCTURED-LOCATION;VALUE=URI;X-ADDRESS=The Center on Colfax 1301 E. Colfax Ave. Denver CO 80218 United States;X-APPLE-RADIUS=500;X-TITLE=1301 E. Colfax Ave.:geo:-104.970419,39.7402674
END:VEVENT
BEGIN:VEVENT
DTSTART;TZID=America/Denver:20260418T130000
DTEND;TZID=America/Denver:20260418T140000
DTSTAMP:20260422T114343
CREATED:20240816T180731Z
LAST-MODIFIED:20250212T203132Z
UID:10018296-1776517200-1776520800@lgbtqcolorado.org
SUMMARY:Narcotics Anonymous
DESCRIPTION:Please join us for a weekly meeting for Narcotics Anonymous. \nDates: Every Tuesday\, 7:00 - 8:00 PM and Every Saturday\, 1:00 - 2:00 PM \nWhere: The Phoenix Annex Building - 2221 Champa Street\, Denver\, CO 80205
URL:https://lgbtqcolorado.org/event/narcotics-anonymous-2/2026-04-18/
LOCATION:The Phoenix – Annex Building\, 2221 Champa Street\, Denver\, CO\, 80205\, United States
CATEGORIES:Community Events,Resources,Support Groups
ATTACH;FMTTYPE=image/jpeg:https://lgbtqcolorado.org/wp-content/uploads/2022/04/NA_group_logo_Jimmy_K.jpg
ORGANIZER;CN="The Phoenix":MAILTO:richard@thephoenix.org
END:VEVENT
END:VCALENDAR