BEGIN:VCALENDAR
VERSION:2.0
PRODID:-//The Center on Colfax - LGBTQ Colorado - ECPv6.15.20//NONSGML v1.0//EN
CALSCALE:GREGORIAN
METHOD:PUBLISH
X-WR-CALNAME:The Center on Colfax - LGBTQ Colorado
X-ORIGINAL-URL:https://lgbtqcolorado.org
X-WR-CALDESC:Events for The Center on Colfax - LGBTQ Colorado
REFRESH-INTERVAL;VALUE=DURATION:PT1H
X-Robots-Tag:noindex
X-PUBLISHED-TTL:PT1H
BEGIN:VTIMEZONE
TZID:America/Denver
BEGIN:DAYLIGHT
TZOFFSETFROM:-0700
TZOFFSETTO:-0600
TZNAME:MDT
DTSTART:20250309T090000
END:DAYLIGHT
BEGIN:STANDARD
TZOFFSETFROM:-0600
TZOFFSETTO:-0700
TZNAME:MST
DTSTART:20251102T080000
END:STANDARD
BEGIN:DAYLIGHT
TZOFFSETFROM:-0700
TZOFFSETTO:-0600
TZNAME:MDT
DTSTART:20260308T090000
END:DAYLIGHT
BEGIN:STANDARD
TZOFFSETFROM:-0600
TZOFFSETTO:-0700
TZNAME:MST
DTSTART:20261101T080000
END:STANDARD
BEGIN:DAYLIGHT
TZOFFSETFROM:-0700
TZOFFSETTO:-0600
TZNAME:MDT
DTSTART:20270314T090000
END:DAYLIGHT
BEGIN:STANDARD
TZOFFSETFROM:-0600
TZOFFSETTO:-0700
TZNAME:MST
DTSTART:20271107T080000
END:STANDARD
END:VTIMEZONE
BEGIN:VEVENT
DTSTART;TZID=America/Denver:20260122T100000
DTEND;TZID=America/Denver:20260122T120000
DTSTAMP:20260421T125443
CREATED:20221020T151445Z
LAST-MODIFIED:20260211T224504Z
UID:10028808-1769076000-1769083200@lgbtqcolorado.org
SUMMARY:West of 50 - Open Art Studio Thursdays!
DESCRIPTION:Please join us every Thursday for a drop-in Art Group put on by our West of 50 program. This program is free to attend - the only thing you need to bring is yourself and a creative mind. For more information\, please contact westof50@lgbtqcolorado.org \nWhen: Every Thursday\, 10:00 AM - 12:00 PM \nWhere: The Center on Colfax - 1301 E. Colfax\, Denver\, Colorado 80218
URL:https://lgbtqcolorado.org/event/wof-art-studio/2026-01-22/
LOCATION:The Center on Colfax\, 1301 E. Colfax Ave.\, Denver\, CO\, 80218\, United States
CATEGORIES:The Center Calendar,West of 50,Arts & Entertainment,Older Adults
ATTACH;FMTTYPE=image/jpeg:https://lgbtqcolorado.org/wp-content/uploads/2021/07/OpenArtStudio.jpg
GEO:39.7402674;-104.970419
X-APPLE-STRUCTURED-LOCATION;VALUE=URI;X-ADDRESS=The Center on Colfax 1301 E. Colfax Ave. Denver CO 80218 United States;X-APPLE-RADIUS=500;X-TITLE=1301 E. Colfax Ave.:geo:-104.970419,39.7402674
END:VEVENT
BEGIN:VEVENT
DTSTART;TZID=America/Denver:20260122T173000
DTEND;TZID=America/Denver:20260122T190000
DTSTAMP:20260421T125443
CREATED:20251117T171157Z
LAST-MODIFIED:20251117T171157Z
UID:10028004-1769103000-1769108400@lgbtqcolorado.org
SUMMARY:Virtual Queer Conversation
DESCRIPTION:Looking for support in a queer collective care environment? Join us every Thursday night for “Queer Conversation\,” our beloved\, longest-running group at Queer Asterisk — now available online. \nWe meet 5:30-7pm MT/7:30-9pm Eastern. Open to the public\, including folks outside CO!  Donations graciously accepted but not required.  Contact mckenna@queerasterisk.com for details & the link!
URL:https://lgbtqcolorado.org/event/virtual-queer-conversation/2026-01-22/
LOCATION:Virtual
CATEGORIES:Community Events
ATTACH;FMTTYPE=image/jpeg:https://lgbtqcolorado.org/wp-content/uploads/2025/11/Virtual-QC-Fall-2025-Flyer-virtual.jpg
ORGANIZER;CN="Queer Asterisk":MAILTO:info@queerasterisk.com
END:VEVENT
BEGIN:VEVENT
DTSTART;TZID=America/Denver:20260122T180000
DTEND;TZID=America/Denver:20260122T200000
DTSTAMP:20260421T125443
CREATED:20220414T013020Z
LAST-MODIFIED:20250805T161945Z
UID:10008268-1769104800-1769112000@lgbtqcolorado.org
SUMMARY:In-Person Trans Femme Support Group
DESCRIPTION:This in-person peer lead and confidential support group is for individuals who were assigned male at birth and identify as trans women\, trans feminine\, and/or male-to-female (MtF). This is a safe\, drop-in space providing peer-run social support\, engaging conversation\, and relevant resources to attendees. Support groups at The Center on Colfax are always free to attend. No signup necessary. Walk-ins are welcome. \nHow to Get Involved: For any questions\, please contact Joy Iwancio\, Director of Transgender Services\, at JIwancio@lgbtqcolorado.org.\n\nDates: Join us weekly on Thursdays from 6:00 - 8:00 PM
URL:https://lgbtqcolorado.org/event/in-person-trans-femme-support/2026-01-22/
LOCATION:Stonewall Meeting Room\, 1301 E. Colfax Ave.\, Denver\, Colorado\, 80218
CATEGORIES:The Center Calendar,Transgender Program,Support Groups
ATTACH;FMTTYPE=image/jpeg:https://lgbtqcolorado.org/wp-content/uploads/2022/04/TransFemme-InPerson-16x9-2.jpg
END:VEVENT
BEGIN:VEVENT
DTSTART;TZID=America/Denver:20260122T183000
DTEND;TZID=America/Denver:20260122T200000
DTSTAMP:20260421T125443
CREATED:20220414T012626Z
LAST-MODIFIED:20251006T154239Z
UID:10014478-1769106600-1769112000@lgbtqcolorado.org
SUMMARY:Online Trans Femme Support Group
DESCRIPTION:MUST BE 18 YEARS OLD \nThis online peer lead and confidential support group is for individuals who were assigned male at birth and identify as trans women\, trans feminine\, and/or male-to-female (MtF). This is a safe space providing peer-run social support\, engaging conversation\, and relevant resources to attendees. Support groups at The Center on Colfax are always free to attend. \nDates: Every Thursday from 6:30 - 8:00 PM.  \nFor Registration and/or Questions: Please contact Terwanda McMoore\, Support Group Coordinator\, at tmcmoore@lgbtqcolorado.org
URL:https://lgbtqcolorado.org/event/online-trans-femme-support/2026-01-22/
LOCATION:Online
CATEGORIES:The Center Calendar,Transgender Program,Support Groups
ATTACH;FMTTYPE=image/jpeg:https://lgbtqcolorado.org/wp-content/uploads/2022/04/TransFemme-Online-16x9-1.jpg
END:VEVENT
BEGIN:VEVENT
DTSTART;TZID=America/Denver:20260122T183000
DTEND;TZID=America/Denver:20260122T200000
DTSTAMP:20260421T125443
CREATED:20251030T214726Z
LAST-MODIFIED:20251030T214726Z
UID:10027450-1769106600-1769112000@lgbtqcolorado.org
SUMMARY:Denver Queer Conversation
DESCRIPTION:Drop in & join us for Queer Conversation! A weekly in person group where we cultivate a sacred space of mutual support & solidarity for ourselves as folks in the LGBTQIA+ community. All of you is welcome here! Explore your identities\, emotions\, thoughts & ideas in a therapeutic community space that includes elements of mindfulness and presence. \nOur facilitators (counseling interns and therapists) are here to support a safe enough space where we can hold each other with care & have real conversations about queer experiences. Every week is dynamic & emergent with different topics to open the sharing. For adults 18+. Donations appreciated\, not required. Bring a friend & check it out! \nSuggested donation: $5-15 at queerasterisk.com/donate. Donations keep the program running and accessible - any amount contributed is helpful! No one turned away for lack of funds. \nIf interested in joining or for questions\, email h@queerasterisk.com.
URL:https://lgbtqcolorado.org/event/denver-queer-conversation/2026-01-22/
LOCATION:Queer Asterisk – Denver Office\, 1575 Franklin St.\, Denver\, 80218
CATEGORIES:Community Events
ATTACH;FMTTYPE=image/jpeg:https://lgbtqcolorado.org/wp-content/uploads/2025/10/Denver-QC-Flyer-Fall-2025-1.jpg
ORGANIZER;CN="Queer Asterisk":MAILTO:info@queerasterisk.com
END:VEVENT
END:VCALENDAR