BEGIN:VCALENDAR
VERSION:2.0
PRODID:-//The Center on Colfax - LGBTQ Colorado - ECPv6.15.20//NONSGML v1.0//EN
CALSCALE:GREGORIAN
METHOD:PUBLISH
X-ORIGINAL-URL:https://lgbtqcolorado.org
X-WR-CALDESC:Events for The Center on Colfax - LGBTQ Colorado
REFRESH-INTERVAL;VALUE=DURATION:PT1H
X-Robots-Tag:noindex
X-PUBLISHED-TTL:PT1H
BEGIN:VTIMEZONE
TZID:America/Denver
BEGIN:DAYLIGHT
TZOFFSETFROM:-0700
TZOFFSETTO:-0600
TZNAME:MDT
DTSTART:20250309T090000
END:DAYLIGHT
BEGIN:STANDARD
TZOFFSETFROM:-0600
TZOFFSETTO:-0700
TZNAME:MST
DTSTART:20251102T080000
END:STANDARD
BEGIN:DAYLIGHT
TZOFFSETFROM:-0700
TZOFFSETTO:-0600
TZNAME:MDT
DTSTART:20260308T090000
END:DAYLIGHT
BEGIN:STANDARD
TZOFFSETFROM:-0600
TZOFFSETTO:-0700
TZNAME:MST
DTSTART:20261101T080000
END:STANDARD
BEGIN:DAYLIGHT
TZOFFSETFROM:-0700
TZOFFSETTO:-0600
TZNAME:MDT
DTSTART:20270314T090000
END:DAYLIGHT
BEGIN:STANDARD
TZOFFSETFROM:-0600
TZOFFSETTO:-0700
TZNAME:MST
DTSTART:20271107T080000
END:STANDARD
END:VTIMEZONE
BEGIN:VEVENT
DTSTART;TZID=America/Denver:20260115T100000
DTEND;TZID=America/Denver:20260115T120000
DTSTAMP:20260419T122425
CREATED:20221020T151445Z
LAST-MODIFIED:20260211T224504Z
UID:10028807-1768471200-1768478400@lgbtqcolorado.org
SUMMARY:West of 50 - Open Art Studio Thursdays!
DESCRIPTION:Please join us every Thursday for a drop-in Art Group put on by our West of 50 program. This program is free to attend - the only thing you need to bring is yourself and a creative mind. For more information\, please contact westof50@lgbtqcolorado.org \nWhen: Every Thursday\, 10:00 AM - 12:00 PM \nWhere: The Center on Colfax - 1301 E. Colfax\, Denver\, Colorado 80218
URL:https://lgbtqcolorado.org/event/wof-art-studio/2026-01-15/
LOCATION:The Center on Colfax\, 1301 E. Colfax Ave.\, Denver\, CO\, 80218\, United States
CATEGORIES:The Center Calendar,West of 50,Arts & Entertainment,Older Adults
ATTACH;FMTTYPE=image/jpeg:https://lgbtqcolorado.org/wp-content/uploads/2021/07/OpenArtStudio.jpg
GEO:39.7402674;-104.970419
X-APPLE-STRUCTURED-LOCATION;VALUE=URI;X-ADDRESS=The Center on Colfax 1301 E. Colfax Ave. Denver CO 80218 United States;X-APPLE-RADIUS=500;X-TITLE=1301 E. Colfax Ave.:geo:-104.970419,39.7402674
END:VEVENT
BEGIN:VEVENT
DTSTART;TZID=America/Denver:20260115T103000
DTEND;TZID=America/Denver:20260115T113000
DTSTAMP:20260419T122425
CREATED:20251204T210033Z
LAST-MODIFIED:20251204T210552Z
UID:10029067-1768473000-1768476600@lgbtqcolorado.org
SUMMARY:Hybrid In-Person/Virtual Silver Sneakers Chair Yoga
DESCRIPTION:A certified Silver Sneakers® instructor will lead participants through a complete series of chair assisted yoga poses designed to increase flexibility\, balance and range of movement. Silver Sneakers® membership is not required. \nDates: Every Wednesday \nTime: 10:30 - 11:30 AM \nLocation: Virtual or In-Person at The Center on Colfax - 1301 E. Colfax Ave\, Denver\, CO\, 80218 \nFor Registration and/or Questions: Please contact Bryant Mehay at bmehay@LGBTQColorado.org
URL:https://lgbtqcolorado.org/event/silver-sneakers-chair-yoga-2/2026-01-15/
LOCATION:The Center on Colfax\, 1301 E. Colfax Ave.\, Denver\, CO\, 80218\, United States
CATEGORIES:The Center Calendar,West of 50
ATTACH;FMTTYPE=image/jpeg:https://lgbtqcolorado.org/wp-content/uploads/2020/04/OnlineSilverSneakersChairYoga_Web.jpg
GEO:39.7402674;-104.970419
X-APPLE-STRUCTURED-LOCATION;VALUE=URI;X-ADDRESS=The Center on Colfax 1301 E. Colfax Ave. Denver CO 80218 United States;X-APPLE-RADIUS=500;X-TITLE=1301 E. Colfax Ave.:geo:-104.970419,39.7402674
END:VEVENT
BEGIN:VEVENT
DTSTART;TZID=America/Denver:20260115T173000
DTEND;TZID=America/Denver:20260115T190000
DTSTAMP:20260419T122425
CREATED:20251117T171157Z
LAST-MODIFIED:20251117T171157Z
UID:10028003-1768498200-1768503600@lgbtqcolorado.org
SUMMARY:Virtual Queer Conversation
DESCRIPTION:Looking for support in a queer collective care environment? Join us every Thursday night for “Queer Conversation\,” our beloved\, longest-running group at Queer Asterisk — now available online. \nWe meet 5:30-7pm MT/7:30-9pm Eastern. Open to the public\, including folks outside CO!  Donations graciously accepted but not required.  Contact mckenna@queerasterisk.com for details & the link!
URL:https://lgbtqcolorado.org/event/virtual-queer-conversation/2026-01-15/
LOCATION:Virtual
CATEGORIES:Community Events
ATTACH;FMTTYPE=image/jpeg:https://lgbtqcolorado.org/wp-content/uploads/2025/11/Virtual-QC-Fall-2025-Flyer-virtual.jpg
ORGANIZER;CN="Queer Asterisk":MAILTO:info@queerasterisk.com
END:VEVENT
BEGIN:VEVENT
DTSTART;TZID=America/Denver:20260115T180000
DTEND;TZID=America/Denver:20260115T193000
DTSTAMP:20260419T122425
CREATED:20250303T183433Z
LAST-MODIFIED:20260318T162445Z
UID:10032684-1768500000-1768505400@lgbtqcolorado.org
SUMMARY:Soul Enlightenment Circle - Religious Trauma Peer Support
DESCRIPTION:The Soul Enlightenment Circle will discuss the trauma that has been associated with religion and the LGBTQ+ community. Members can expect to learn more about their own relationship with religion alongside others who have had similar experiences. \nAges: 18+ years old \nDates: First and Third Thursdays of each month \nTime: 4:00 - 5:30 PM \nIn Person Attendance: Visibility Room at The Center on Colfax - 1301 East Colfax Avenue\, Denver\, CO\, 80218 \nVirtual Attendance: Via Zoom - Click here for the meeting link \n\nMeeting ID: 881 4741 1716\nPasscode: 635093\n\nAny questions? Please contact Jaylin Goodloe at jgoodloe@lgbtqcolorado.org.
URL:https://lgbtqcolorado.org/event/religious-trauma-support-2/2026-01-15/
LOCATION:The Center on Colfax\, 1301 E. Colfax Ave.\, Denver\, CO\, 80218\, United States
CATEGORIES:Glass Lawler Mental Health,The Center Calendar,Support Groups
ATTACH;FMTTYPE=image/jpeg:https://lgbtqcolorado.org/wp-content/uploads/2025/03/2026-SoulEnlightenment-16x9-1.jpg
GEO:39.7402674;-104.970419
X-APPLE-STRUCTURED-LOCATION;VALUE=URI;X-ADDRESS=The Center on Colfax 1301 E. Colfax Ave. Denver CO 80218 United States;X-APPLE-RADIUS=500;X-TITLE=1301 E. Colfax Ave.:geo:-104.970419,39.7402674
END:VEVENT
BEGIN:VEVENT
DTSTART;TZID=America/Denver:20260115T180000
DTEND;TZID=America/Denver:20260115T200000
DTSTAMP:20260419T122425
CREATED:20220414T013020Z
LAST-MODIFIED:20250805T161945Z
UID:10008267-1768500000-1768507200@lgbtqcolorado.org
SUMMARY:In-Person Trans Femme Support Group
DESCRIPTION:This in-person peer lead and confidential support group is for individuals who were assigned male at birth and identify as trans women\, trans feminine\, and/or male-to-female (MtF). This is a safe\, drop-in space providing peer-run social support\, engaging conversation\, and relevant resources to attendees. Support groups at The Center on Colfax are always free to attend. No signup necessary. Walk-ins are welcome. \nHow to Get Involved: For any questions\, please contact Joy Iwancio\, Director of Transgender Services\, at JIwancio@lgbtqcolorado.org.\n\nDates: Join us weekly on Thursdays from 6:00 - 8:00 PM
URL:https://lgbtqcolorado.org/event/in-person-trans-femme-support/2026-01-15/
LOCATION:Stonewall Meeting Room\, 1301 E. Colfax Ave.\, Denver\, Colorado\, 80218
CATEGORIES:The Center Calendar,Transgender Program,Support Groups
ATTACH;FMTTYPE=image/jpeg:https://lgbtqcolorado.org/wp-content/uploads/2022/04/TransFemme-InPerson-16x9-2.jpg
END:VEVENT
BEGIN:VEVENT
DTSTART;TZID=America/Denver:20260115T180000
DTEND;TZID=America/Denver:20260115T200000
DTSTAMP:20260419T122425
CREATED:20250930T153151Z
LAST-MODIFIED:20250930T153151Z
UID:10026501-1768500000-1768507200@lgbtqcolorado.org
SUMMARY:🎨 Mandala Painting + Tea & Scones
DESCRIPTION:🎨 Mandala Painting + Tea & Scones \n(and yes\, you’ll sip + snack while you create!)\n🎟️ PURCHASE TICKETS HERE \nBi-Weekly (aka fortnightly) on Thursday’s @ 6PM. Starting Thursday\, October 9th\, 2025. \nLooking for a relaxing and creative evening? Join us for a cozy mandala painting workshop at Maggie’s Place. You’ll learn simple techniques to design and paint your own geometric masterpiece while enjoying tea and fresh-baked scones. \n👩‍🏫 About the Instructor\nYour guide for the day has been an artist her whole life\, exploring many mediums and styles. With a deep love of creativity and homesteading\, she brings warmth\, patience\, and inspiration to every class. \nBy the end of the day\, you’ll walk away with: \n\nYour own hand-painted mandala on heavy duty art paper (other substrates available at additional cost)\nA peaceful evening of tea\, treats\, and creativity\nA deeper appreciation for mindfulness through art\n\n🛠️ Details\nCost: $30\nLocation: Maggie’s Place (address provided after sign-up) \n🎨 What to Bring & Wear \n\nClothes you don’t mind getting a little paint on\nAn open\, creative spirit
URL:https://lgbtqcolorado.org/event/%f0%9f%8e%a8-mandala-painting-tea-scones/2026-01-15/
LOCATION:Maggie’s Place\, RSVP for more info\, Lakewood
CATEGORIES:Community Events
ATTACH;FMTTYPE=image/png:https://lgbtqcolorado.org/wp-content/uploads/2025/09/7.png
ORGANIZER;CN="Bconnected Colorado":MAILTO:bconnectedcolorado@gmail.com
END:VEVENT
BEGIN:VEVENT
DTSTART;TZID=America/Denver:20260115T183000
DTEND;TZID=America/Denver:20260115T200000
DTSTAMP:20260419T122425
CREATED:20220414T012626Z
LAST-MODIFIED:20251006T154239Z
UID:10014477-1768501800-1768507200@lgbtqcolorado.org
SUMMARY:Online Trans Femme Support Group
DESCRIPTION:MUST BE 18 YEARS OLD \nThis online peer lead and confidential support group is for individuals who were assigned male at birth and identify as trans women\, trans feminine\, and/or male-to-female (MtF). This is a safe space providing peer-run social support\, engaging conversation\, and relevant resources to attendees. Support groups at The Center on Colfax are always free to attend. \nDates: Every Thursday from 6:30 - 8:00 PM.  \nFor Registration and/or Questions: Please contact Terwanda McMoore\, Support Group Coordinator\, at tmcmoore@lgbtqcolorado.org
URL:https://lgbtqcolorado.org/event/online-trans-femme-support/2026-01-15/
LOCATION:Online
CATEGORIES:The Center Calendar,Transgender Program,Support Groups
ATTACH;FMTTYPE=image/jpeg:https://lgbtqcolorado.org/wp-content/uploads/2022/04/TransFemme-Online-16x9-1.jpg
END:VEVENT
BEGIN:VEVENT
DTSTART;TZID=America/Denver:20260115T183000
DTEND;TZID=America/Denver:20260115T200000
DTSTAMP:20260419T122425
CREATED:20251030T214726Z
LAST-MODIFIED:20251030T214726Z
UID:10027449-1768501800-1768507200@lgbtqcolorado.org
SUMMARY:Denver Queer Conversation
DESCRIPTION:Drop in & join us for Queer Conversation! A weekly in person group where we cultivate a sacred space of mutual support & solidarity for ourselves as folks in the LGBTQIA+ community. All of you is welcome here! Explore your identities\, emotions\, thoughts & ideas in a therapeutic community space that includes elements of mindfulness and presence. \nOur facilitators (counseling interns and therapists) are here to support a safe enough space where we can hold each other with care & have real conversations about queer experiences. Every week is dynamic & emergent with different topics to open the sharing. For adults 18+. Donations appreciated\, not required. Bring a friend & check it out! \nSuggested donation: $5-15 at queerasterisk.com/donate. Donations keep the program running and accessible - any amount contributed is helpful! No one turned away for lack of funds. \nIf interested in joining or for questions\, email h@queerasterisk.com.
URL:https://lgbtqcolorado.org/event/denver-queer-conversation/2026-01-15/
LOCATION:Queer Asterisk – Denver Office\, 1575 Franklin St.\, Denver\, 80218
CATEGORIES:Community Events
ATTACH;FMTTYPE=image/jpeg:https://lgbtqcolorado.org/wp-content/uploads/2025/10/Denver-QC-Flyer-Fall-2025-1.jpg
ORGANIZER;CN="Queer Asterisk":MAILTO:info@queerasterisk.com
END:VEVENT
END:VCALENDAR