BEGIN:VCALENDAR
VERSION:2.0
PRODID:-//The Center on Colfax - LGBTQ Colorado - ECPv6.15.20//NONSGML v1.0//EN
CALSCALE:GREGORIAN
METHOD:PUBLISH
X-ORIGINAL-URL:https://lgbtqcolorado.org
X-WR-CALDESC:Events for The Center on Colfax - LGBTQ Colorado
REFRESH-INTERVAL;VALUE=DURATION:PT1H
X-Robots-Tag:noindex
X-PUBLISHED-TTL:PT1H
BEGIN:VTIMEZONE
TZID:America/Denver
BEGIN:DAYLIGHT
TZOFFSETFROM:-0700
TZOFFSETTO:-0600
TZNAME:MDT
DTSTART:20250309T090000
END:DAYLIGHT
BEGIN:STANDARD
TZOFFSETFROM:-0600
TZOFFSETTO:-0700
TZNAME:MST
DTSTART:20251102T080000
END:STANDARD
BEGIN:DAYLIGHT
TZOFFSETFROM:-0700
TZOFFSETTO:-0600
TZNAME:MDT
DTSTART:20260308T090000
END:DAYLIGHT
BEGIN:STANDARD
TZOFFSETFROM:-0600
TZOFFSETTO:-0700
TZNAME:MST
DTSTART:20261101T080000
END:STANDARD
BEGIN:DAYLIGHT
TZOFFSETFROM:-0700
TZOFFSETTO:-0600
TZNAME:MDT
DTSTART:20270314T090000
END:DAYLIGHT
BEGIN:STANDARD
TZOFFSETFROM:-0600
TZOFFSETTO:-0700
TZNAME:MST
DTSTART:20271107T080000
END:STANDARD
END:VTIMEZONE
BEGIN:VEVENT
DTSTART;TZID=America/Denver:20260106T190000
DTEND;TZID=America/Denver:20260106T200000
DTSTAMP:20260420T152249
CREATED:20240816T180453Z
LAST-MODIFIED:20240816T180741Z
UID:10017760-1767726000-1767729600@lgbtqcolorado.org
SUMMARY:Narcotics Anonymous
DESCRIPTION:Please join us for a weekly meeting for Narcotics Anonymous. \nDates: Every Tuesday\, 7:00 - 8:00 PM and Every Saturday\, 1:00 - 2:00 PM \nWhere: The Phoenix Annex Building - 2221 Champa Street\, Denver\, CO 80205
URL:https://lgbtqcolorado.org/event/narcotics-anonymous/2026-01-06/
LOCATION:The Phoenix – Annex Building\, 2221 Champa Street\, Denver\, CO\, 80205\, United States
CATEGORIES:Community Events,Support Groups
ATTACH;FMTTYPE=image/jpeg:https://lgbtqcolorado.org/wp-content/uploads/2022/04/NA_group_logo_Jimmy_K.jpg
ORGANIZER;CN="The Phoenix":MAILTO:richard@thephoenix.org
END:VEVENT
BEGIN:VEVENT
DTSTART;TZID=America/Denver:20260106T193000
DTEND;TZID=America/Denver:20260106T210000
DTSTAMP:20260420T152249
CREATED:20250912T182959Z
LAST-MODIFIED:20250912T182959Z
UID:10026205-1767727800-1767733200@lgbtqcolorado.org
SUMMARY:The Real Housewives of Salt Lake City Watch Party
DESCRIPTION:Hosted by the fabulous Ivy Powers every Tuesday at 7:30PM\n\nThe snowflakes are BACK\, baby ❄️💎 and Salt Lake is already hotter than a 17C meltdown.\nBody counts are high 💋\, Alibaba receipts are flowing 📦\, and these ladies will go the distance for drama (or at least for a sprinter van ride 🚌).\nOh—and did we mention the 6 lawyers on call? ⚖️👀 Yeah… buckle up\, because this season isn’t just ski slopes\, it’s a black diamond of CHAOS ⛷️🔥.\nSalt Lake\, say your prayers!
URL:https://lgbtqcolorado.org/event/the-real-housewives-of-salt-lake-city-watch-party/2026-01-06/
LOCATION:Tapville Social – Denver\, 1010 Park Avenue West\, Denver\, CO\, 80205\, United States
CATEGORIES:Community Events
ATTACH;FMTTYPE=image/jpeg:https://lgbtqcolorado.org/wp-content/uploads/2025/09/SLC-Watch-Party-Insta-Post.jpg
ORGANIZER;CN="The Velvet Agenda":MAILTO:colton@velvetagenda.com
END:VEVENT
END:VCALENDAR