BEGIN:VCALENDAR
VERSION:2.0
PRODID:-//The Center on Colfax - LGBTQ Colorado - ECPv6.15.20//NONSGML v1.0//EN
CALSCALE:GREGORIAN
METHOD:PUBLISH
X-ORIGINAL-URL:https://lgbtqcolorado.org
X-WR-CALDESC:Events for The Center on Colfax - LGBTQ Colorado
REFRESH-INTERVAL;VALUE=DURATION:PT1H
X-Robots-Tag:noindex
X-PUBLISHED-TTL:PT1H
BEGIN:VTIMEZONE
TZID:America/Denver
BEGIN:DAYLIGHT
TZOFFSETFROM:-0700
TZOFFSETTO:-0600
TZNAME:MDT
DTSTART:20240310T090000
END:DAYLIGHT
BEGIN:STANDARD
TZOFFSETFROM:-0600
TZOFFSETTO:-0700
TZNAME:MST
DTSTART:20241103T080000
END:STANDARD
BEGIN:DAYLIGHT
TZOFFSETFROM:-0700
TZOFFSETTO:-0600
TZNAME:MDT
DTSTART:20250309T090000
END:DAYLIGHT
BEGIN:STANDARD
TZOFFSETFROM:-0600
TZOFFSETTO:-0700
TZNAME:MST
DTSTART:20251102T080000
END:STANDARD
BEGIN:DAYLIGHT
TZOFFSETFROM:-0700
TZOFFSETTO:-0600
TZNAME:MDT
DTSTART:20260308T090000
END:DAYLIGHT
BEGIN:STANDARD
TZOFFSETFROM:-0600
TZOFFSETTO:-0700
TZNAME:MST
DTSTART:20261101T080000
END:STANDARD
END:VTIMEZONE
BEGIN:VEVENT
DTSTART;TZID=America/Denver:20251205T170000
DTEND;TZID=America/Denver:20251205T210000
DTSTAMP:20260420T195344
CREATED:20251108T000523Z
LAST-MODIFIED:20251205T192327Z
UID:10027973-1764954000-1764968400@lgbtqcolorado.org
SUMMARY:2025 Holiday Party & Art Show
DESCRIPTION:The Holiday Party and Art Show rings in the winter holiday season. This celebratory community gathering features art created by West of 50 participants as well community artists in a gallery-style exhibition. The party features live music\, food and drink\, giveaways\, mixing and mingling. All community members and allies ages 18+ are welcome to attend. \nThe best part? The party doesn’t stop there! We’d love if you joined us at Hamburger Mary’s (21+) for our after party featuring a night full of fun\, campy\, winter themed drag. \nAges: 18+ \nLocation: The Center on Colfax | After Party at Hamburger Mary's \nDate: Friday\, December 5\, 2025 \nTimes: \n5:00 – 9:00 PM Party @ The Center  \n8:00 PM – close @ Hamburger Mary’s (Tickets required to attend) \nHoliday Party & Art ShowRSVP HereHamburger Mary's After PartyRSVP Here
URL:https://lgbtqcolorado.org/event/2025-holiday-party-art-show/
LOCATION:The Center on Colfax\, 1301 E. Colfax Ave.\, Denver\, CO\, 80218\, United States
CATEGORIES:The Center Calendar,West of 50,Arts & Entertainment
ATTACH;FMTTYPE=image/jpeg:https://lgbtqcolorado.org/wp-content/uploads/2025/11/2025-12-05-HolidayParty-16x9-1.jpg
GEO:39.7402674;-104.970419
X-APPLE-STRUCTURED-LOCATION;VALUE=URI;X-ADDRESS=The Center on Colfax 1301 E. Colfax Ave. Denver CO 80218 United States;X-APPLE-RADIUS=500;X-TITLE=1301 E. Colfax Ave.:geo:-104.970419,39.7402674
END:VEVENT
END:VCALENDAR