BEGIN:VCALENDAR
VERSION:2.0
PRODID:-//The Center on Colfax - LGBTQ Colorado - ECPv6.15.20//NONSGML v1.0//EN
CALSCALE:GREGORIAN
METHOD:PUBLISH
X-WR-CALNAME:The Center on Colfax - LGBTQ Colorado
X-ORIGINAL-URL:https://lgbtqcolorado.org
X-WR-CALDESC:Events for The Center on Colfax - LGBTQ Colorado
REFRESH-INTERVAL;VALUE=DURATION:PT1H
X-Robots-Tag:noindex
X-PUBLISHED-TTL:PT1H
BEGIN:VTIMEZONE
TZID:America/Denver
BEGIN:DAYLIGHT
TZOFFSETFROM:-0700
TZOFFSETTO:-0600
TZNAME:MDT
DTSTART:20240310T090000
END:DAYLIGHT
BEGIN:STANDARD
TZOFFSETFROM:-0600
TZOFFSETTO:-0700
TZNAME:MST
DTSTART:20241103T080000
END:STANDARD
BEGIN:DAYLIGHT
TZOFFSETFROM:-0700
TZOFFSETTO:-0600
TZNAME:MDT
DTSTART:20250309T090000
END:DAYLIGHT
BEGIN:STANDARD
TZOFFSETFROM:-0600
TZOFFSETTO:-0700
TZNAME:MST
DTSTART:20251102T080000
END:STANDARD
BEGIN:DAYLIGHT
TZOFFSETFROM:-0700
TZOFFSETTO:-0600
TZNAME:MDT
DTSTART:20260308T090000
END:DAYLIGHT
BEGIN:STANDARD
TZOFFSETFROM:-0600
TZOFFSETTO:-0700
TZNAME:MST
DTSTART:20261101T080000
END:STANDARD
END:VTIMEZONE
BEGIN:VEVENT
DTSTART;TZID=America/Denver:20251116T113000
DTEND;TZID=America/Denver:20251116T130000
DTSTAMP:20260425T110929
CREATED:20250818T153508Z
LAST-MODIFIED:20250818T155138Z
UID:10025705-1763292600-1763298000@lgbtqcolorado.org
SUMMARY:Rainbow Family Storytime at the Denver Public Library
DESCRIPTION:Fun and engaging activities to build community and celebrate LGBTQ+ families \nAt the Central Library in Gates Meeting Room (5th Floor - east side of building) \nFor children 0-8 years and their caregivers. \nActivities include: \n\n30-Minute Storytime\nPlaytime\nSnacks and Socializing\n\nParking is free at meters on Sundays!
URL:https://lgbtqcolorado.org/event/rainbow-family-storytime-denver-public-library/2025-11-16/
LOCATION:Denver Public Library: Central Library\, 10 W 14th Ave\, Denver\, CO\, 80204\, United States
CATEGORIES:Community Events
ATTACH;FMTTYPE=image/jpeg:https://lgbtqcolorado.org/wp-content/uploads/2025/08/Rainbow-Family-Storytime-Flyer-1.jpg
ORGANIZER;CN="Denver Public Library":MAILTO:info@denverlibrary.org
END:VEVENT
BEGIN:VEVENT
DTSTART;TZID=America/Denver:20251116T130000
DTEND;TZID=America/Denver:20251116T150000
DTSTAMP:20260425T110929
CREATED:20251117T171230Z
LAST-MODIFIED:20251117T171230Z
UID:10028255-1763298000-1763305200@lgbtqcolorado.org
SUMMARY:Resilience\, Ecology & Queerness - Mindful Nature Walk & Yoga
DESCRIPTION:Connect with nature’s resilience alongside other queer folks! Learn about queer ecology exploring a local trail and join for a mindful yoga practice. Bring a mat! Email binkleyb@bouldercolorado.gov with questions or accessibility concerns/requests! Meet us at the gravel parking lot across the street: 5229-5261 Eldorado Springs Drive\, Boulder CO  80305 Coordinates: 39.95391 degrees N\, 105.23129 degrees W
URL:https://lgbtqcolorado.org/event/resilience-ecology-queerness-mindful-nature-walk-yoga/
LOCATION:Marshall Mesa Trailhead (lot across street)\, 5258 Eldorado Springs Drive\, Boulder\, 80303
CATEGORIES:Community Events
ATTACH;FMTTYPE=image/jpeg:https://lgbtqcolorado.org/wp-content/uploads/2025/11/Mindful-Nature-Walk-Yoga.jpg
ORGANIZER;CN="Queer Asterisk":MAILTO:info@queerasterisk.com
END:VEVENT
BEGIN:VEVENT
DTSTART;TZID=America/Denver:20251116T140000
DTEND;TZID=America/Denver:20251116T153000
DTSTAMP:20260425T110929
CREATED:20250109T182645Z
LAST-MODIFIED:20250212T203142Z
UID:10020279-1763301600-1763307000@lgbtqcolorado.org
SUMMARY:PFLAG Significant Other Support (SOS) Support Group
DESCRIPTION:This in-person group is a welcoming and affirming space designed for individuals navigating life alongside a partner\, spouse\, significant other\, or co-parent who identifies as trans\, nonbinary\, gender nonconforming\, or recently out as part of the LGBTQIA+ community. \n\n\nWe recognize the unique journey of supporting a loved one while honoring your own emotions and experiences. Whether you're celebrating their authenticity\, navigating changes in your relationship\, or seeking to better understand their identity\, this group provides a compassionate community where you can share\, learn\, and grow. \nTogether\, we will explore topics such as communication\, relationship dynamics\, self-care\, and allyship\, all while centering the diverse lived experiences of our participants. Facilitated by trained leaders\, this group offers a space to ask questions\, process feelings\, and connect with others who understand the joys and challenges of walking this path. \nCome as you are\, and join us in fostering understanding\, resilience\, and meaningful connections. \n\n\n\n\n\n\nMonthly registration is strongly encouraged to help us maintain up-to-date utilization records and reach you if there is a last-minute change for the support group.\nYou can register HERE.
URL:https://lgbtqcolorado.org/event/pflag-significant-other-support-sos-support-group/2025-11-16/
LOCATION:The Alliance Center\, 1536 Wynkoop St. STE 100\, Denver\, 80202
CATEGORIES:Community Events,Resources
ATTACH;FMTTYPE=image/jpeg:https://lgbtqcolorado.org/wp-content/uploads/2025/01/SUPPORT-Program-Instagram-10-1.jpg
ORGANIZER;CN="PFLAG Denver":MAILTO:support@pflagdenver.org
END:VEVENT
END:VCALENDAR