BEGIN:VCALENDAR
VERSION:2.0
PRODID:-//The Center on Colfax - LGBTQ Colorado - ECPv6.15.20//NONSGML v1.0//EN
CALSCALE:GREGORIAN
METHOD:PUBLISH
X-ORIGINAL-URL:https://lgbtqcolorado.org
X-WR-CALDESC:Events for The Center on Colfax - LGBTQ Colorado
REFRESH-INTERVAL;VALUE=DURATION:PT1H
X-Robots-Tag:noindex
X-PUBLISHED-TTL:PT1H
BEGIN:VTIMEZONE
TZID:America/Denver
BEGIN:DAYLIGHT
TZOFFSETFROM:-0700
TZOFFSETTO:-0600
TZNAME:MDT
DTSTART:20240310T090000
END:DAYLIGHT
BEGIN:STANDARD
TZOFFSETFROM:-0600
TZOFFSETTO:-0700
TZNAME:MST
DTSTART:20241103T080000
END:STANDARD
BEGIN:DAYLIGHT
TZOFFSETFROM:-0700
TZOFFSETTO:-0600
TZNAME:MDT
DTSTART:20250309T090000
END:DAYLIGHT
BEGIN:STANDARD
TZOFFSETFROM:-0600
TZOFFSETTO:-0700
TZNAME:MST
DTSTART:20251102T080000
END:STANDARD
BEGIN:DAYLIGHT
TZOFFSETFROM:-0700
TZOFFSETTO:-0600
TZNAME:MDT
DTSTART:20260308T090000
END:DAYLIGHT
BEGIN:STANDARD
TZOFFSETFROM:-0600
TZOFFSETTO:-0700
TZNAME:MST
DTSTART:20261101T080000
END:STANDARD
END:VTIMEZONE
BEGIN:VEVENT
DTSTART;TZID=America/Denver:20251105T103000
DTEND;TZID=America/Denver:20251105T113000
DTSTAMP:20260419T061246
CREATED:20200403T154033Z
LAST-MODIFIED:20251029T185417Z
UID:10005655-1762338600-1762342200@lgbtqcolorado.org
SUMMARY:Hybrid In-Person/Virtual Silver Sneakers Chair Yoga
DESCRIPTION:A certified Silver Sneakers® instructor will lead participants through a complete series of chair assisted yoga poses designed to increase flexibility\, balance and range of movement. Silver Sneakers® membership is not required. \nDates: Every Wednesday \nTime: 10:30 - 11:30 AM \nLocation: Virtual or In-Person at The Center on Colfax - 1301 E. Colfax Ave\, Denver\, CO\, 80218 \nFor Registration and/or Questions: Please contact Bryant Mehay at bmehay@LGBTQColorado.org
URL:https://lgbtqcolorado.org/event/silver-sneakers-chair-yoga/2025-11-05/
LOCATION:The Center on Colfax\, 1301 E. Colfax Ave.\, Denver\, CO\, 80218\, United States
CATEGORIES:The Center Calendar,West of 50
ATTACH;FMTTYPE=image/jpeg:https://lgbtqcolorado.org/wp-content/uploads/2020/04/OnlineSilverSneakersChairYoga_Web.jpg
GEO:39.7402674;-104.970419
X-APPLE-STRUCTURED-LOCATION;VALUE=URI;X-ADDRESS=The Center on Colfax 1301 E. Colfax Ave. Denver CO 80218 United States;X-APPLE-RADIUS=500;X-TITLE=1301 E. Colfax Ave.:geo:-104.970419,39.7402674
END:VEVENT
BEGIN:VEVENT
DTSTART;TZID=America/Denver:20251105T130000
DTEND;TZID=America/Denver:20251105T143000
DTSTAMP:20260419T061246
CREATED:20241017T212902Z
LAST-MODIFIED:20250806T212122Z
UID:10025548-1762347600-1762353000@lgbtqcolorado.org
SUMMARY:Club50
DESCRIPTION:We are excited to introduce you to our new Community Group! Club50 drives West of 50 programs\, creates volunteer opportunities\, and makes meaningful change whenever possible. The club meets the first Wednesday of every month. \nDates: First Wednesday of each month \nTime: 1:30 - 2:30 PM \nLocation: The Center on Colfax - 1301 E. Colfax Ave.\, Denver\, CO 80218
URL:https://lgbtqcolorado.org/event/club50/2025-11-05/
LOCATION:The Center on Colfax\, 1301 E. Colfax Ave.\, Denver\, CO\, 80218\, United States
CATEGORIES:The Center Calendar,West of 50,Older Adults
ATTACH;FMTTYPE=image/jpeg:https://lgbtqcolorado.org/wp-content/uploads/2024/10/Club50-16x9-1.jpg
GEO:39.7402674;-104.970419
X-APPLE-STRUCTURED-LOCATION;VALUE=URI;X-ADDRESS=The Center on Colfax 1301 E. Colfax Ave. Denver CO 80218 United States;X-APPLE-RADIUS=500;X-TITLE=1301 E. Colfax Ave.:geo:-104.970419,39.7402674
END:VEVENT
BEGIN:VEVENT
DTSTART;TZID=America/Denver:20251105T143000
DTEND;TZID=America/Denver:20251105T160000
DTSTAMP:20260419T061246
CREATED:20230118T032014Z
LAST-MODIFIED:20250604T162958Z
UID:10014046-1762353000-1762358400@lgbtqcolorado.org
SUMMARY:Colorado Fingerprinting
DESCRIPTION:The Center on Colfax is happy to bring in Colorado Fingerprinting to provide fingerprinting services at The Center on Colfax\, every Wednesday from 2:30 - 4:30 PM. \nPlease schedule an appointment with Colorado Fingerprinting via their website. \nColorado Fingerprinting provides services for Colorado Name Change Project\, Kinship Adoptions\, 24/48 Hour FBI Background Checks\, FBI Background Checks\, CBI Checks\, Finger Print Cards\, Florida Livescan\, and FINRA.
URL:https://lgbtqcolorado.org/event/fingerprinting/2025-11-05/
LOCATION:The Center on Colfax\, 1301 E. Colfax Ave.\, Denver\, CO\, 80218\, United States
CATEGORIES:Community Events,Resources,The Center Calendar
ATTACH;FMTTYPE=image/jpeg:https://lgbtqcolorado.org/wp-content/uploads/2023/01/fingerprining.jpg
GEO:39.7402674;-104.970419
X-APPLE-STRUCTURED-LOCATION;VALUE=URI;X-ADDRESS=The Center on Colfax 1301 E. Colfax Ave. Denver CO 80218 United States;X-APPLE-RADIUS=500;X-TITLE=1301 E. Colfax Ave.:geo:-104.970419,39.7402674
END:VEVENT
BEGIN:VEVENT
DTSTART;TZID=America/Denver:20251105T160000
DTEND;TZID=America/Denver:20251105T180000
DTSTAMP:20260419T061246
CREATED:20241022T045338Z
LAST-MODIFIED:20250805T161925Z
UID:10019240-1762358400-1762365600@lgbtqcolorado.org
SUMMARY:Trans-Inclusive Family Support Group
DESCRIPTION:This group is designed as a positive support community for trans-inclusive families and adults. We will chat\, socialize\, and snack together as we build friendships. This is also a place to let your support needs be known and where support for each other can positively impact our larger community. \nHosted by trans-inclusive families\, this group is for anyone who wants to support the trans community. This group welcomes all families with trans folks in them\, including but not limited to parents of trans youth. \nFamilies with kids 10-17 years old can drop off at at Rainbow Alley Drop In - all allies welcome. \nAges: 18+ \nDates: First Wednesday of each month \nTime: 4:00 - 6:00 PM \nFor any questions\, please contact Joy Iwancio\, Director of Transgender Services\, at JIwancio@lgbtqcolorado.org
URL:https://lgbtqcolorado.org/event/trans-inclusive-family-support-group/2025-11-05/
LOCATION:The Center on Colfax\, 1301 E. Colfax Ave.\, Denver\, CO\, 80218\, United States
CATEGORIES:The Center Calendar,Transgender Program,Family,Support Groups,Transgender
ATTACH;FMTTYPE=image/jpeg:https://lgbtqcolorado.org/wp-content/uploads/2024/10/TransInclusiveFamilySupport-16x9-V2.jpg
GEO:39.7402674;-104.970419
X-APPLE-STRUCTURED-LOCATION;VALUE=URI;X-ADDRESS=The Center on Colfax 1301 E. Colfax Ave. Denver CO 80218 United States;X-APPLE-RADIUS=500;X-TITLE=1301 E. Colfax Ave.:geo:-104.970419,39.7402674
END:VEVENT
BEGIN:VEVENT
DTSTART;TZID=America/Denver:20251105T160000
DTEND;TZID=America/Denver:20251105T190000
DTSTAMP:20260419T061246
CREATED:20250516T171925Z
LAST-MODIFIED:20250516T171925Z
UID:10023789-1762358400-1762369200@lgbtqcolorado.org
SUMMARY:Rainbow Alley Drop-In
DESCRIPTION:Ages 10-17  \nTours available upon request\, outside of drop in hours. Contact Vincent at vwong@lgbtqcolorado.org for more information. \nRainbow Alley Drop-In is a safe\, brave space where LGBTQ youth and their allies find support and acceptance. Drop-in programming consists of activities\, community building\, referrals\, and resources all in a warm and welcoming environment. \nJoin us every Wednesday and Thursday from 4:00 - 7:00 PM! Newcomers – join us during the first drop-in of each month for an introduction meeting and activity.
URL:https://lgbtqcolorado.org/event/rainbow-alley-drop-in-wednesdays/2025-11-05/
LOCATION:The Center on Colfax\, 1301 E. Colfax Ave.\, Denver\, CO\, 80218\, United States
CATEGORIES:The Center Calendar,Rainbow Alley,Youth & Young Adult
ATTACH;FMTTYPE=image/png:https://lgbtqcolorado.org/wp-content/uploads/2021/12/RainbowAlleyDropIn-Graphic-1.png
GEO:39.7402674;-104.970419
X-APPLE-STRUCTURED-LOCATION;VALUE=URI;X-ADDRESS=The Center on Colfax 1301 E. Colfax Ave. Denver CO 80218 United States;X-APPLE-RADIUS=500;X-TITLE=1301 E. Colfax Ave.:geo:-104.970419,39.7402674
END:VEVENT
BEGIN:VEVENT
DTSTART;TZID=America/Denver:20251105T180000
DTEND;TZID=America/Denver:20251105T193000
DTSTAMP:20260419T061246
CREATED:20251031T164906Z
LAST-MODIFIED:20251031T164906Z
UID:10027406-1762365600-1762371000@lgbtqcolorado.org
SUMMARY:Big Gay Veterans Day!
DESCRIPTION:About Face: Veterans Against the War\, a collective of post-9/11 veterans organizing against militarism and imperialism\, invite queer\, trans\, and loving allies from the military community to join them for a BIG GAY VETERANS DAY EXTRAVAGANZA!  Trivia\, a chance to win cool prizes\, and community!
URL:https://lgbtqcolorado.org/event/big-gay-veterans-day/
LOCATION:zoom Link\, Zoom Link\, Denver\, 80209
CATEGORIES:Community Events
ATTACH;FMTTYPE=image/jpeg:https://lgbtqcolorado.org/wp-content/uploads/2025/10/Big-Gay-Veterans-Day.jpg
END:VEVENT
BEGIN:VEVENT
DTSTART;TZID=America/Denver:20251105T180000
DTEND;TZID=America/Denver:20251105T200000
DTSTAMP:20260419T061246
CREATED:20251203T200520Z
LAST-MODIFIED:20251203T200520Z
UID:10028538-1762365600-1762372800@lgbtqcolorado.org
SUMMARY:In-Person Trans Masc Support Group
DESCRIPTION:MUST BE 18 YEARS OLD\n\nThis in-person peer lead and confidential support group is for individuals who were assigned female at birth and identify as trans men\, trans masculine\, and/or female-to-male (FtM). This is a safe\, drop-in space providing peer-run social support\, engaging conversation\, and relevant resources to attendees. Support groups at The Center on Colfax are always free to attend. No signup necessary. Walk-ins are welcome. \n\nFor any questions\, please contact Joy Iwancio\, Support Group Coordinator\, at JIwancio@lgbtqcolorado.org.
URL:https://lgbtqcolorado.org/event/in-person-trans-masc-support-group/2025-11-05/
LOCATION:The Center on Colfax\, 1301 E. Colfax Ave.\, Denver\, CO\, 80218\, United States
CATEGORIES:The Center Calendar,Transgender Program,Support Groups
ATTACH;FMTTYPE=image/png:https://lgbtqcolorado.org/wp-content/uploads/2024/01/InPersonTransMasc-16x9-2.png
GEO:39.7402674;-104.970419
X-APPLE-STRUCTURED-LOCATION;VALUE=URI;X-ADDRESS=The Center on Colfax 1301 E. Colfax Ave. Denver CO 80218 United States;X-APPLE-RADIUS=500;X-TITLE=1301 E. Colfax Ave.:geo:-104.970419,39.7402674
END:VEVENT
END:VCALENDAR