BEGIN:VCALENDAR
VERSION:2.0
PRODID:-//The Center on Colfax - LGBTQ Colorado - ECPv6.15.20//NONSGML v1.0//EN
CALSCALE:GREGORIAN
METHOD:PUBLISH
X-WR-CALNAME:The Center on Colfax - LGBTQ Colorado
X-ORIGINAL-URL:https://lgbtqcolorado.org
X-WR-CALDESC:Events for The Center on Colfax - LGBTQ Colorado
REFRESH-INTERVAL;VALUE=DURATION:PT1H
X-Robots-Tag:noindex
X-PUBLISHED-TTL:PT1H
BEGIN:VTIMEZONE
TZID:America/Denver
BEGIN:DAYLIGHT
TZOFFSETFROM:-0700
TZOFFSETTO:-0600
TZNAME:MDT
DTSTART:20240310T090000
END:DAYLIGHT
BEGIN:STANDARD
TZOFFSETFROM:-0600
TZOFFSETTO:-0700
TZNAME:MST
DTSTART:20241103T080000
END:STANDARD
BEGIN:DAYLIGHT
TZOFFSETFROM:-0700
TZOFFSETTO:-0600
TZNAME:MDT
DTSTART:20250309T090000
END:DAYLIGHT
BEGIN:STANDARD
TZOFFSETFROM:-0600
TZOFFSETTO:-0700
TZNAME:MST
DTSTART:20251102T080000
END:STANDARD
BEGIN:DAYLIGHT
TZOFFSETFROM:-0700
TZOFFSETTO:-0600
TZNAME:MDT
DTSTART:20260308T090000
END:DAYLIGHT
BEGIN:STANDARD
TZOFFSETFROM:-0600
TZOFFSETTO:-0700
TZNAME:MST
DTSTART:20261101T080000
END:STANDARD
END:VTIMEZONE
BEGIN:VEVENT
DTSTART;TZID=America/Denver:20251102T140000
DTEND;TZID=America/Denver:20251102T160000
DTSTAMP:20260421T125513
CREATED:20251008T152124Z
LAST-MODIFIED:20251008T152124Z
UID:10026696-1762092000-1762099200@lgbtqcolorado.org
SUMMARY:Motus Theater Presents: No Contract by Kirsten Wilson
DESCRIPTION:No Contract is a one-woman show exploring a mother’s request not to endure dementia. It asks: “is there a way to have dementia without tragedy\, when ‘to be or not to be’ is always the question?” (work in progress). \nCreated by Kirsten Wilson in honor of her mother and loved ones everywhere\, experiencing or caring for people with dementia.
URL:https://lgbtqcolorado.org/event/motus-theater-presents-no-contract-by-kirsten-wilson/2025-11-02/
LOCATION:Dairy Arts Center\, 2590 Walnut Street\, Boulder\, 80302
CATEGORIES:Community Events
ATTACH;FMTTYPE=image/jpeg:https://lgbtqcolorado.org/wp-content/uploads/2025/10/2025-No-Contract-Performances-@-Dairy-Arts-Center-Kirsten-Wilson-of-Motus-Theater.jpg
ORGANIZER;CN="Motus Theater":MAILTO:info@motustheater.org
END:VEVENT
BEGIN:VEVENT
DTSTART;TZID=America/Denver:20251102T150000
DTEND;TZID=America/Denver:20251102T160000
DTSTAMP:20260421T125513
CREATED:20251014T203332Z
LAST-MODIFIED:20251014T203332Z
UID:10026845-1762095600-1762099200@lgbtqcolorado.org
SUMMARY:Immersive Theatre Performance at the Teen Library (Ages 13-19 only)
DESCRIPTION:Experience a theatrical performance at the library! Ideal for ages 13-19. \nCult of Cthulhu transforms Lovecraft’s work into a campy\, interactive satire — with tentacles. \nThis brand new immersive horror comedy experience draws directly from the unsettling tales of H.P. Lovecraft\, bringing a modern spin to his classic mythos of eldritch horrors and inviting audiences to join one of the Old Ones dark cults. Audacious Immersive has been redefining Halloween theatre in Denver for nearly a decade. With Cult of Cthulhu\, they continue crafting a new Halloween tradition for the city: interactive literary horror in community spaces. Known for blending theatricality\, comedy\, and audience participation into unforgettable shows\, Audacious promises their most biting (and hilarious) Halloween experience yet.  Prepare to laugh nervously\, shiver deeply\, and maybe lose a fragment of your sanity along the way.
URL:https://lgbtqcolorado.org/event/immersive-theatre-performance-at-the-teen-library-ages-13-19-only/
LOCATION:Denver Public Library – Central Library  10 West 14th Avenue\, Denver
CATEGORIES:Community Events
ATTACH;FMTTYPE=image/jpeg:https://lgbtqcolorado.org/wp-content/uploads/2025/10/Audacious-Immersive-Performance-1.jpg
ORGANIZER;CN="Denver Public Library":MAILTO:info@denverlibrary.org
END:VEVENT
END:VCALENDAR