BEGIN:VCALENDAR
VERSION:2.0
PRODID:-//The Center on Colfax - LGBTQ Colorado - ECPv6.15.20//NONSGML v1.0//EN
CALSCALE:GREGORIAN
METHOD:PUBLISH
X-WR-CALNAME:The Center on Colfax - LGBTQ Colorado
X-ORIGINAL-URL:https://lgbtqcolorado.org
X-WR-CALDESC:Events for The Center on Colfax - LGBTQ Colorado
REFRESH-INTERVAL;VALUE=DURATION:PT1H
X-Robots-Tag:noindex
X-PUBLISHED-TTL:PT1H
BEGIN:VTIMEZONE
TZID:America/Denver
BEGIN:DAYLIGHT
TZOFFSETFROM:-0700
TZOFFSETTO:-0600
TZNAME:MDT
DTSTART:20240310T090000
END:DAYLIGHT
BEGIN:STANDARD
TZOFFSETFROM:-0600
TZOFFSETTO:-0700
TZNAME:MST
DTSTART:20241103T080000
END:STANDARD
BEGIN:DAYLIGHT
TZOFFSETFROM:-0700
TZOFFSETTO:-0600
TZNAME:MDT
DTSTART:20250309T090000
END:DAYLIGHT
BEGIN:STANDARD
TZOFFSETFROM:-0600
TZOFFSETTO:-0700
TZNAME:MST
DTSTART:20251102T080000
END:STANDARD
BEGIN:DAYLIGHT
TZOFFSETFROM:-0700
TZOFFSETTO:-0600
TZNAME:MDT
DTSTART:20260308T090000
END:DAYLIGHT
BEGIN:STANDARD
TZOFFSETFROM:-0600
TZOFFSETTO:-0700
TZNAME:MST
DTSTART:20261101T080000
END:STANDARD
END:VTIMEZONE
BEGIN:VEVENT
DTSTART;TZID=America/Denver:20251025T130000
DTEND;TZID=America/Denver:20251025T140000
DTSTAMP:20260422T163234
CREATED:20240816T180731Z
LAST-MODIFIED:20250212T203132Z
UID:10018271-1761397200-1761400800@lgbtqcolorado.org
SUMMARY:Narcotics Anonymous
DESCRIPTION:Please join us for a weekly meeting for Narcotics Anonymous. \nDates: Every Tuesday\, 7:00 - 8:00 PM and Every Saturday\, 1:00 - 2:00 PM \nWhere: The Phoenix Annex Building - 2221 Champa Street\, Denver\, CO 80205
URL:https://lgbtqcolorado.org/event/narcotics-anonymous-2/2025-10-25/
LOCATION:The Phoenix – Annex Building\, 2221 Champa Street\, Denver\, CO\, 80205\, United States
CATEGORIES:Community Events,Resources,Support Groups
ATTACH;FMTTYPE=image/jpeg:https://lgbtqcolorado.org/wp-content/uploads/2022/04/NA_group_logo_Jimmy_K.jpg
ORGANIZER;CN="The Phoenix":MAILTO:richard@thephoenix.org
END:VEVENT
BEGIN:VEVENT
DTSTART;TZID=America/Denver:20251025T160000
DTEND;TZID=America/Denver:20251025T200000
DTSTAMP:20260422T163234
CREATED:20250708T152626Z
LAST-MODIFIED:20250708T152646Z
UID:10024754-1761408000-1761422400@lgbtqcolorado.org
SUMMARY:Tea Dance
DESCRIPTION:Every Saturday this summer (May - Oct) join your friends on the lush Champagne Tiger patio for an evening of socializing\, cocktails\, mocktails\, sunshine and laughs from 4 - 8 PM. Weekly rotating live DJ's including: Buddy Bravo\, DJ Blaque Gurl\, Evelyn Evermoore\, Little Giant and more. Drinks specials include Tea Dance punch\, $10 espresso martinis and $10 burgers. Tea Dance is the perfect first stop to gather your friends before heading out or maybe the perfect last stop if you want to be in bed before 10 PM. \nNO COVER
URL:https://lgbtqcolorado.org/event/champagne-tiger-tea-dance/2025-10-25/
LOCATION:Champagne Tiger\, 621 E Colfax Ave\, Denver\, 80203
CATEGORIES:Community Events
ATTACH;FMTTYPE=image/jpeg:https://lgbtqcolorado.org/wp-content/uploads/2025/07/IMG_8110.jpeg
ORGANIZER;CN="Champagne Tiger":MAILTO:chris@champagnetiger.com
END:VEVENT
BEGIN:VEVENT
DTSTART;TZID=America/Denver:20251025T180000
DTEND;TZID=America/Denver:20251025T200000
DTSTAMP:20260422T163234
CREATED:20251006T221608Z
LAST-MODIFIED:20251006T230230Z
UID:10026689-1761415200-1761422400@lgbtqcolorado.org
SUMMARY:Jonathan Van Ness: Hot & Healed
DESCRIPTION:Jonathan Van Ness is an Emmy-winning television personality\, 3x New York Times best-selling author\, podcaster\, comedian\, celebrity hairstylist\, and founder of JVN Hair. He stars on Netflix’s Emmy Award-winning reboot series “Queer Eye\,” where he shines as the hair guru and self-care advocate; and he hosts the popular podcast\, “Getting Curious with Jonathan Van Ness.” Jonathan also starred on the Emmy-nominated web series “Gay of Thrones\,” a witty social commentary series recapping HBO’s “Game of Thrones.” Launched in 2013\, the series ran for 8 seasons and garnered three Emmy nominations for ‘Outstanding Short Form Variety Series.’ Jonathan is on tour with their new show\, Hot & Healed. Unfiltered comedy\, wildly entertaining and fun\, the show is a celebration of joy and a showcase for all the sides of JVN you have never seen before.
URL:https://lgbtqcolorado.org/event/jonathan-van-ness-hot-healed/
LOCATION:Paramount Theatre\, 1621 Glenarm Pl\, Denver\, CO\, 80202\, United States
CATEGORIES:Community Events
ATTACH;FMTTYPE=image/jpeg:https://lgbtqcolorado.org/wp-content/uploads/2025/10/JV2025_600x400-CWE.jpg
GEO:39.7442397;-104.9901931
X-APPLE-STRUCTURED-LOCATION;VALUE=URI;X-ADDRESS=Paramount Theatre 1621 Glenarm Pl Denver CO 80202 United States;X-APPLE-RADIUS=500;X-TITLE=1621 Glenarm Pl:geo:-104.9901931,39.7442397
END:VEVENT
BEGIN:VEVENT
DTSTART;TZID=America/Denver:20251025T210000
DTEND;TZID=America/Denver:20251025T233000
DTSTAMP:20260422T163234
CREATED:20250904T144304Z
LAST-MODIFIED:20250904T144304Z
UID:10025960-1761426000-1761435000@lgbtqcolorado.org
SUMMARY:Camillaoke Nights - Sing\, Slay & Sashay
DESCRIPTION:🎤 Drag Karaoke Nights at Tapville🎶\nGet ready to sing your heart out and light up the stage at Tapville Social’s Karaoke Nights\, hosted by the one and only Camilla Teaux Krystals! \n✨ Whether you’re a seasoned performer or just want to belt out your favorite song with friends\, our karaoke night is all about fun\, music\, and unforgettable memories. \nEvent Highlights:\n\n\n🎶 Hosted by Camilla Teaux Krystals – bringing high energy\, fabulous vibes\, and a touch of glam to every performance. \n\n\n🎤 Open Mic Karaoke – choose from hundreds of songs and make the night your own. \n\n\n🍹 Craft Drinks & Self-Pour Taps – sip on cocktails\, wine\, and local brews while you cheer on the singers. \n\n\n🎉 Party Atmosphere – neon lights\, good vibes\, and a crowd ready to clap\, dance\, and sing along. \n\n\n📅 Every 2nd & 4th Saturday of the Month🕘 9:00 PM📍 Tapville Social – 1010 W. Park Ave\, Denver \nBring your friends\, warm up those vocal cords\, and let’s turn Saturday night into a stage-worthy celebration!
URL:https://lgbtqcolorado.org/event/camillaoke-nights-sing-slay-sashay/2025-10-25/
LOCATION:Tapville Social – Denver\, 1010 Park Avenue West\, Denver\, CO\, 80205\, United States
CATEGORIES:Community Events
ATTACH;FMTTYPE=image/jpeg:https://lgbtqcolorado.org/wp-content/uploads/2025/09/Tapville-Karaoke.jpg
ORGANIZER;CN="The Velvet Agenda":MAILTO:colton@velvetagenda.com
END:VEVENT
END:VCALENDAR