BEGIN:VCALENDAR
VERSION:2.0
PRODID:-//The Center on Colfax - LGBTQ Colorado - ECPv6.15.20//NONSGML v1.0//EN
CALSCALE:GREGORIAN
METHOD:PUBLISH
X-WR-CALNAME:The Center on Colfax - LGBTQ Colorado
X-ORIGINAL-URL:https://lgbtqcolorado.org
X-WR-CALDESC:Events for The Center on Colfax - LGBTQ Colorado
REFRESH-INTERVAL;VALUE=DURATION:PT1H
X-Robots-Tag:noindex
X-PUBLISHED-TTL:PT1H
BEGIN:VTIMEZONE
TZID:America/Denver
BEGIN:DAYLIGHT
TZOFFSETFROM:-0700
TZOFFSETTO:-0600
TZNAME:MDT
DTSTART:20240310T090000
END:DAYLIGHT
BEGIN:STANDARD
TZOFFSETFROM:-0600
TZOFFSETTO:-0700
TZNAME:MST
DTSTART:20241103T080000
END:STANDARD
BEGIN:DAYLIGHT
TZOFFSETFROM:-0700
TZOFFSETTO:-0600
TZNAME:MDT
DTSTART:20250309T090000
END:DAYLIGHT
BEGIN:STANDARD
TZOFFSETFROM:-0600
TZOFFSETTO:-0700
TZNAME:MST
DTSTART:20251102T080000
END:STANDARD
BEGIN:DAYLIGHT
TZOFFSETFROM:-0700
TZOFFSETTO:-0600
TZNAME:MDT
DTSTART:20260308T090000
END:DAYLIGHT
BEGIN:STANDARD
TZOFFSETFROM:-0600
TZOFFSETTO:-0700
TZNAME:MST
DTSTART:20261101T080000
END:STANDARD
END:VTIMEZONE
BEGIN:VEVENT
DTSTART;TZID=America/Denver:20251022T080000
DTEND;TZID=America/Denver:20251022T170000
DTSTAMP:20260421T184608
CREATED:20250206T214306Z
LAST-MODIFIED:20250212T203208Z
UID:10021222-1761120000-1761152400@lgbtqcolorado.org
SUMMARY:Queer Meditation Group
DESCRIPTION:Join us the fourth Wednesday of the month from 6:30-8pm for a Queer meditation practice in the Thich Nhat Hanh Plum Village mindfulness lineage. This is sponsored by the Denver Eyes of Compassion Sangha and Wake Up Denver Young Adult Sangha and welcomes all members of the LGBTQIA+ community. No prior meditation experience is needed. This practice is offered freely\, and for those able\, we appreciate a suggested donation of $5 to help cover space rental. \nOur general format for the monthly practice is: \n6:30pm - Welcome and introductions \n15 - 20 minute Guided Meditation \n10 Minute Optional Walking Meditation \n10 Minute Dharma Reading \n25 Minute Deep Listening & Loving Speech \n8:30pm Dedication of Merit and Closing \nOptional Tea Time!
URL:https://lgbtqcolorado.org/event/queer-meditation-group/2025-10-22/
LOCATION:University Park Methodist Church\, 2180 S. University Blvd\, Denver\, 80211
CATEGORIES:Community Events,Resources
ATTACH;FMTTYPE=image/jpeg:https://lgbtqcolorado.org/wp-content/uploads/2025/02/Flyer_QueerMeditationGroup_Rainbow.jpg
ORGANIZER;CN="Linds West Roberts":MAILTO:linds@gatherthewild.love
END:VEVENT
BEGIN:VEVENT
DTSTART;TZID=America/Denver:20251022T103000
DTEND;TZID=America/Denver:20251022T113000
DTSTAMP:20260421T184608
CREATED:20200403T154033Z
LAST-MODIFIED:20251029T185417Z
UID:10005653-1761129000-1761132600@lgbtqcolorado.org
SUMMARY:Hybrid In-Person/Virtual Silver Sneakers Chair Yoga
DESCRIPTION:A certified Silver Sneakers® instructor will lead participants through a complete series of chair assisted yoga poses designed to increase flexibility\, balance and range of movement. Silver Sneakers® membership is not required. \nDates: Every Wednesday \nTime: 10:30 - 11:30 AM \nLocation: Virtual or In-Person at The Center on Colfax - 1301 E. Colfax Ave\, Denver\, CO\, 80218 \nFor Registration and/or Questions: Please contact Bryant Mehay at bmehay@LGBTQColorado.org
URL:https://lgbtqcolorado.org/event/silver-sneakers-chair-yoga/2025-10-22/
LOCATION:The Center on Colfax\, 1301 E. Colfax Ave.\, Denver\, CO\, 80218\, United States
CATEGORIES:The Center Calendar,West of 50
ATTACH;FMTTYPE=image/jpeg:https://lgbtqcolorado.org/wp-content/uploads/2020/04/OnlineSilverSneakersChairYoga_Web.jpg
GEO:39.7402674;-104.970419
X-APPLE-STRUCTURED-LOCATION;VALUE=URI;X-ADDRESS=The Center on Colfax 1301 E. Colfax Ave. Denver CO 80218 United States;X-APPLE-RADIUS=500;X-TITLE=1301 E. Colfax Ave.:geo:-104.970419,39.7402674
END:VEVENT
BEGIN:VEVENT
DTSTART;TZID=America/Denver:20251022T103000
DTEND;TZID=America/Denver:20251022T170000
DTSTAMP:20260421T184608
CREATED:20240103T170602Z
LAST-MODIFIED:20251002T160733Z
UID:10026648-1761129000-1761152400@lgbtqcolorado.org
SUMMARY:STI Testing from Denver Health - APPOINTMENT ONLY
DESCRIPTION:STI Appointments at the Center on Colfax are available on an array of dates throughout each month. See below for specific upcoming available dates. \nMost testing dates require an appointment\, unless otherwise noted in the Upcoming Testing Dates list below. To schedule an appointment\, you can call or text the Denver Health Outreach mobile number at 720-415-7075\, Monday through Friday between 8:00 AM and 5:00 PM\, or click here for online scheduling options. Please note that Denver Health will take the last person 30 minutes prior to closing. \nUpcoming Testing Dates \n\nWednesday\, October 1: 10:30 AM - 5:00 PM\nMonday\, October 6: 10:30 AM - 5:00 PM\nTuesday\, October 7: 11:15 AM - 5:15 PM\nWednesday\, October 8: 10:30 AM - 5:00 PM\nMonday\, October 13: 10:30 AM - 5:00 PM\nTuesday\, October 14: 11:15 AM - 5:15 PM\nWednesday\, October 15: 10:30 AM - 5:00 PM\nMonday\, October 20: 10:30 AM - 5:00 PM\nTuesday\, October 21: 11:15 AM - 5:15 PM\nWednesday\, October 22: 10:30 AM - 5:00 PM\nMonday\, October 27: 10:30 AM - 5:00 PM\nTuesday\, October 28: 11:15 AM - 5:15 PM\nWednesday\, October 29: 10:30 AM - 5:00 PM\n\nFAQ's: \nWhat tests are available? HIV\, STI\, etc.? \nPrevention in Outreach offers rapid testing for HIV\, Hepatitis C and Syphilis. Syphilis rapid testing is dependent on not having been diagnosed for syphilis prior. Chlamydia and gonorrhea tests are completed through traditional lab-based testing\, with results taking between 2-3 business days. The Outreach team will discuss options for how results are delivered to clients. \nHow does one make an appointment? What days can one make an appointment? What are the general hours testing is available? \nAppointments are typically offered Wednesdays from 10:00 AM - 2:00 PM and Thursdays from 12:00 - 4:00 PM. There are some exceptions to this general schedule\, so see above for specific upcoming dates. Appointments are held at The Center on Colfax. \nTo schedule an appointment\, you can call or text our Outreach mobile number at 720-415-7075\, Monday through Friday between 8am and 5pm. \nOther important information -  \nThe Public Health Institute at Denver Health’s Outreach team does provide testing services outside of The Center\, on a walk-in basis\, daily\, at multiple locations  throughout the Metro. There are morning and evening walk-in times available\, please call or text 720-415-7075 for locations and hours. \nWe also provide pre-exposure prophylaxis (PrEP) education and navigation services. There are payment assistance options that we can help enroll individuals into and help schedule appointments\, all at no cost.
URL:https://lgbtqcolorado.org/event/sti-testing-denver-health/2025-10-22/
LOCATION:The Center on Colfax\, 1301 E. Colfax Ave.\, Denver\, CO\, 80218\, United States
CATEGORIES:The Center Calendar,Health & Fitness
ATTACH;FMTTYPE=image/jpeg:https://lgbtqcolorado.org/wp-content/uploads/2022/07/STITesting-Updated3.24.23.jpg
GEO:39.7402674;-104.970419
X-APPLE-STRUCTURED-LOCATION;VALUE=URI;X-ADDRESS=The Center on Colfax 1301 E. Colfax Ave. Denver CO 80218 United States;X-APPLE-RADIUS=500;X-TITLE=1301 E. Colfax Ave.:geo:-104.970419,39.7402674
END:VEVENT
BEGIN:VEVENT
DTSTART;TZID=America/Denver:20251022T113000
DTEND;TZID=America/Denver:20251022T123000
DTSTAMP:20260421T184608
CREATED:20251013T185102Z
LAST-MODIFIED:20251013T185102Z
UID:10026714-1761132600-1761136200@lgbtqcolorado.org
SUMMARY:How Therapists Can Provide Queer-Affirming Mental Health!
DESCRIPTION:Denver Family Institute would like to invite youth-serving professionals to our upcoming virtual "Lunch and Learn" on October 22nd or December 3rd to discuss an emerging therapeutic model\, the "Queer Adjusted Systemic Lens!" \nThe model will be presented by its creator\, August Tousignant-Stanton\, LCSW\, LMFT (they/them). August is a member of the American Association of Marriage & Family Therapists (AAMFT's) group of queer therapists\, QTAN (the Queer and Trans Advocacy Network). As part of QTAN\, August composed the chapter on working with queer children for AAMFT's new guidebook\, "GENDER-AFFIRMING CARE: Guidelines for Working Systemically with Transgender\, Nonbinary\, and Gender Expansive Clients." (Available for free here.) August will be presenting their model at AAMFT's Systemic Family Therapy conference in late October 2025. \nAugust's new model\, the "Queer Adjusted Systemic Lens\," is focused on giving professionals who work with queer youth & their families a new approach to their work; one that affirms the identity of clients\, acknowledges the real risks (and the very real benefits) of queer thriving\, and how to maneuver relationships and systems beyond "neutrality." There will be a Q&A following the presentation.\nIf you have any questions\, please contact Miguel Valdez\, DFI Program Manager\, at miguelvaldez@denverfamilyinstitute.org. We look forward to seeing you at the "Lunch and Learn!"
URL:https://lgbtqcolorado.org/event/how-therapists-can-provide-queer-affirming-mental-health/2025-10-22/
LOCATION:Virtual – Zoom
CATEGORIES:Community Events,Resources
ATTACH;FMTTYPE=image/png:https://lgbtqcolorado.org/wp-content/uploads/2025/10/Oct.-2025-QASL-Lunch-Learn-Flyer.png
ORGANIZER;CN="Denver Family Institute":MAILTO:info@denverfamilyinstitute.org
END:VEVENT
BEGIN:VEVENT
DTSTART;TZID=America/Denver:20251022T143000
DTEND;TZID=America/Denver:20251022T160000
DTSTAMP:20260421T184608
CREATED:20230118T032014Z
LAST-MODIFIED:20250604T162958Z
UID:10014044-1761143400-1761148800@lgbtqcolorado.org
SUMMARY:Colorado Fingerprinting
DESCRIPTION:The Center on Colfax is happy to bring in Colorado Fingerprinting to provide fingerprinting services at The Center on Colfax\, every Wednesday from 2:30 - 4:30 PM. \nPlease schedule an appointment with Colorado Fingerprinting via their website. \nColorado Fingerprinting provides services for Colorado Name Change Project\, Kinship Adoptions\, 24/48 Hour FBI Background Checks\, FBI Background Checks\, CBI Checks\, Finger Print Cards\, Florida Livescan\, and FINRA.
URL:https://lgbtqcolorado.org/event/fingerprinting/2025-10-22/
LOCATION:The Center on Colfax\, 1301 E. Colfax Ave.\, Denver\, CO\, 80218\, United States
CATEGORIES:Community Events,Resources,The Center Calendar
ATTACH;FMTTYPE=image/jpeg:https://lgbtqcolorado.org/wp-content/uploads/2023/01/fingerprining.jpg
GEO:39.7402674;-104.970419
X-APPLE-STRUCTURED-LOCATION;VALUE=URI;X-ADDRESS=The Center on Colfax 1301 E. Colfax Ave. Denver CO 80218 United States;X-APPLE-RADIUS=500;X-TITLE=1301 E. Colfax Ave.:geo:-104.970419,39.7402674
END:VEVENT
BEGIN:VEVENT
DTSTART;TZID=America/Denver:20251022T160000
DTEND;TZID=America/Denver:20251022T190000
DTSTAMP:20260421T184608
CREATED:20250516T171925Z
LAST-MODIFIED:20250516T171925Z
UID:10023787-1761148800-1761159600@lgbtqcolorado.org
SUMMARY:Rainbow Alley Drop-In
DESCRIPTION:Ages 10-17  \nTours available upon request\, outside of drop in hours. Contact Vincent at vwong@lgbtqcolorado.org for more information. \nRainbow Alley Drop-In is a safe\, brave space where LGBTQ youth and their allies find support and acceptance. Drop-in programming consists of activities\, community building\, referrals\, and resources all in a warm and welcoming environment. \nJoin us every Wednesday and Thursday from 4:00 - 7:00 PM! Newcomers – join us during the first drop-in of each month for an introduction meeting and activity.
URL:https://lgbtqcolorado.org/event/rainbow-alley-drop-in-wednesdays/2025-10-22/
LOCATION:The Center on Colfax\, 1301 E. Colfax Ave.\, Denver\, CO\, 80218\, United States
CATEGORIES:The Center Calendar,Rainbow Alley,Youth & Young Adult
ATTACH;FMTTYPE=image/png:https://lgbtqcolorado.org/wp-content/uploads/2021/12/RainbowAlleyDropIn-Graphic-1.png
GEO:39.7402674;-104.970419
X-APPLE-STRUCTURED-LOCATION;VALUE=URI;X-ADDRESS=The Center on Colfax 1301 E. Colfax Ave. Denver CO 80218 United States;X-APPLE-RADIUS=500;X-TITLE=1301 E. Colfax Ave.:geo:-104.970419,39.7402674
END:VEVENT
BEGIN:VEVENT
DTSTART;TZID=America/Denver:20251022T180000
DTEND;TZID=America/Denver:20251022T200000
DTSTAMP:20260421T184608
CREATED:20250828T222350Z
LAST-MODIFIED:20250828T222350Z
UID:10025943-1761156000-1761163200@lgbtqcolorado.org
SUMMARY:Reapproaching Media & Migration with Motus Theater’s ImmigrantAmerica Project & Guest Leaders in Colorado Media
DESCRIPTION:I’m not part of some invading army fighting against America\, but\, like many of you\, I’m fighting for the American ideals I think we can live up to.\n- Cristian Solano-Córdova\, Motus Monologist with DACA \nJoin Motus Theater’s ImmigrantAmerica for an evening of autobiographical monologues from Colorado DACA recipients\, co-read by the monologists and leaders in Colorado media\, with musical guests. After the performance\, there will be a moderated discussion between Motus leaders\, guest readers in the media\, and the audience on the use and misuse of immigration narratives in the media. \nMotus Theater’s ImmigrantAmerica monologues invite listeners to experience the powerful and moving personal stories of undocumented people caught in the crosshairs of U.S. immigration policy\, and to practice courageous empathy and civic hospitality by listening to and getting to know our undocumented neighbors. Motus’ ImmigrantAmerica project has been described as\, “The gold standard for narratives on immigration.”
URL:https://lgbtqcolorado.org/event/reapproaching-media-migration-with-motus-theaters-immigrantamerica-project-guest-leaders-in-colorado-media/
LOCATION:CU Boulder (Chancellor’s Hall)\, 1725 Euclid Avenue\, Boulder\, CO\, 80309
CATEGORIES:Community Events
ATTACH;FMTTYPE=image/jpeg:https://lgbtqcolorado.org/wp-content/uploads/2025/08/2025.10.22-Reapproaching-Media-with-Motus-Theaters-Immigrant-America-Project-@-CU-Boulder-Chancellors-Hall-resized-2.jpg
ORGANIZER;CN="Motus Theater":MAILTO:info@motustheater.org
END:VEVENT
BEGIN:VEVENT
DTSTART;TZID=America/Denver:20251022T180000
DTEND;TZID=America/Denver:20251022T200000
DTSTAMP:20260421T184608
CREATED:20251203T200520Z
LAST-MODIFIED:20251203T200520Z
UID:10028536-1761156000-1761163200@lgbtqcolorado.org
SUMMARY:In-Person Trans Masc Support Group
DESCRIPTION:MUST BE 18 YEARS OLD\n\nThis in-person peer lead and confidential support group is for individuals who were assigned female at birth and identify as trans men\, trans masculine\, and/or female-to-male (FtM). This is a safe\, drop-in space providing peer-run social support\, engaging conversation\, and relevant resources to attendees. Support groups at The Center on Colfax are always free to attend. No signup necessary. Walk-ins are welcome. \n\nFor any questions\, please contact Joy Iwancio\, Support Group Coordinator\, at JIwancio@lgbtqcolorado.org.
URL:https://lgbtqcolorado.org/event/in-person-trans-masc-support-group/2025-10-22/
LOCATION:The Center on Colfax\, 1301 E. Colfax Ave.\, Denver\, CO\, 80218\, United States
CATEGORIES:The Center Calendar,Transgender Program,Support Groups
ATTACH;FMTTYPE=image/png:https://lgbtqcolorado.org/wp-content/uploads/2024/01/InPersonTransMasc-16x9-2.png
GEO:39.7402674;-104.970419
X-APPLE-STRUCTURED-LOCATION;VALUE=URI;X-ADDRESS=The Center on Colfax 1301 E. Colfax Ave. Denver CO 80218 United States;X-APPLE-RADIUS=500;X-TITLE=1301 E. Colfax Ave.:geo:-104.970419,39.7402674
END:VEVENT
BEGIN:VEVENT
DTSTART;TZID=America/Denver:20251022T190000
DTEND;TZID=America/Denver:20251022T210000
DTSTAMP:20260421T184608
CREATED:20250203T164406Z
LAST-MODIFIED:20250203T164406Z
UID:10020976-1761159600-1761166800@lgbtqcolorado.org
SUMMARY:Tapville Trivia Hosted by Lulu Krystals
DESCRIPTION:Welcome to Tapville Trivia Hosted by Lulu Krystals! Join us for a fun night of brain-teasing questions and friendly competition. Get your thinking caps on and gather your friends for a chance to win some awesome prizes. \nDon't miss out on this exciting event where you can test your knowledge and have a blast with your pals. See you there!
URL:https://lgbtqcolorado.org/event/tapville-trivia-hosted-by-lulu-krystals/2025-10-22/
LOCATION:Tapville Social – Denver\, 1010 Park Avenue West\, Denver\, CO\, 80205\, United States
CATEGORIES:Community Events
ATTACH;FMTTYPE=image/jpeg:https://lgbtqcolorado.org/wp-content/uploads/2025/02/Tapville-Trivia.jpg
ORGANIZER;CN="Tapville":MAILTO:charris@tapvillesocial.com
END:VEVENT
END:VCALENDAR