BEGIN:VCALENDAR
VERSION:2.0
PRODID:-//The Center on Colfax - LGBTQ Colorado - ECPv6.15.20//NONSGML v1.0//EN
CALSCALE:GREGORIAN
METHOD:PUBLISH
X-WR-CALNAME:The Center on Colfax - LGBTQ Colorado
X-ORIGINAL-URL:https://lgbtqcolorado.org
X-WR-CALDESC:Events for The Center on Colfax - LGBTQ Colorado
REFRESH-INTERVAL;VALUE=DURATION:PT1H
X-Robots-Tag:noindex
X-PUBLISHED-TTL:PT1H
BEGIN:VTIMEZONE
TZID:America/Denver
BEGIN:DAYLIGHT
TZOFFSETFROM:-0700
TZOFFSETTO:-0600
TZNAME:MDT
DTSTART:20240310T090000
END:DAYLIGHT
BEGIN:STANDARD
TZOFFSETFROM:-0600
TZOFFSETTO:-0700
TZNAME:MST
DTSTART:20241103T080000
END:STANDARD
BEGIN:DAYLIGHT
TZOFFSETFROM:-0700
TZOFFSETTO:-0600
TZNAME:MDT
DTSTART:20250309T090000
END:DAYLIGHT
BEGIN:STANDARD
TZOFFSETFROM:-0600
TZOFFSETTO:-0700
TZNAME:MST
DTSTART:20251102T080000
END:STANDARD
BEGIN:DAYLIGHT
TZOFFSETFROM:-0700
TZOFFSETTO:-0600
TZNAME:MDT
DTSTART:20260308T090000
END:DAYLIGHT
BEGIN:STANDARD
TZOFFSETFROM:-0600
TZOFFSETTO:-0700
TZNAME:MST
DTSTART:20261101T080000
END:STANDARD
END:VTIMEZONE
BEGIN:VEVENT
DTSTART;TZID=America/Denver:20251009T100000
DTEND;TZID=America/Denver:20251009T120000
DTSTAMP:20260423T210403
CREATED:20221020T151445Z
LAST-MODIFIED:20260211T224504Z
UID:10012753-1760004000-1760011200@lgbtqcolorado.org
SUMMARY:West of 50 - Open Art Studio Thursdays!
DESCRIPTION:Please join us every Thursday for a drop-in Art Group put on by our West of 50 program. This program is free to attend - the only thing you need to bring is yourself and a creative mind. For more information\, please contact westof50@lgbtqcolorado.org \nWhen: Every Thursday\, 10:00 AM - 12:00 PM \nWhere: The Center on Colfax - 1301 E. Colfax\, Denver\, Colorado 80218
URL:https://lgbtqcolorado.org/event/wof-art-studio/2025-10-09/
LOCATION:The Center on Colfax\, 1301 E. Colfax Ave.\, Denver\, CO\, 80218\, United States
CATEGORIES:The Center Calendar,West of 50,Arts & Entertainment,Older Adults
ATTACH;FMTTYPE=image/jpeg:https://lgbtqcolorado.org/wp-content/uploads/2021/07/OpenArtStudio.jpg
GEO:39.7402674;-104.970419
X-APPLE-STRUCTURED-LOCATION;VALUE=URI;X-ADDRESS=The Center on Colfax 1301 E. Colfax Ave. Denver CO 80218 United States;X-APPLE-RADIUS=500;X-TITLE=1301 E. Colfax Ave.:geo:-104.970419,39.7402674
END:VEVENT
BEGIN:VEVENT
DTSTART;TZID=America/Denver:20251009T110000
DTEND;TZID=America/Denver:20251009T123000
DTSTAMP:20260423T210403
CREATED:20250813T150528Z
LAST-MODIFIED:20250813T150528Z
UID:10025622-1760007600-1760013000@lgbtqcolorado.org
SUMMARY:LGBTQIA+ Peer Support Group for Suicide Loss
DESCRIPTION:Starting Wednesday\, September 18\, 11:00 AM - 12:30 PM MST\, this 10-week virtual group offers a safe\, affirming space for LGBTQIA+ individuals grieving the loss of a loved one to suicide. Participants will connect with others who understand the unique layers of LGBTQIA+ grief\, from disenfranchisement and invisibility to the strength of chosen family.  The dates for this will be September 18\, 25\, October 2\, 9\, 16\, 23\, 30\, November 6\, 13\, & 20 \nThe group is facilitated by Steven Karaiskos\, Ph.D.\, a suicide loss survivor who lost his partner\, David\, to suicide in 2009. That loss shaped his career as an educator\, grief expert\, and community builder. Steven is the former Senior Director of Education with Samaritans\, Inc.\, has over six years of experience leading peer support groups through Coping After Suicide\, and currently serves as Director of Programming for The Kita Center\, home to Camp Kita and expanded retreats for communities impacted by suicide loss.  Contact Steven for more info at stevenjkaraiskos@gmail.com
URL:https://lgbtqcolorado.org/event/lgbtqia-peer-support-group-for-suicide-loss/2025-10-09/
LOCATION:Virtual – Zoom
CATEGORIES:Community Events,Resources
ATTACH;FMTTYPE=image/jpeg:https://lgbtqcolorado.org/wp-content/uploads/2025/08/1743522565211.jpg
ORGANIZER;CN="Coping After Suicide":MAILTO:stevenjkaraiskos@gmail.com
END:VEVENT
BEGIN:VEVENT
DTSTART;TZID=America/Denver:20251009T130000
DTEND;TZID=America/Denver:20251009T150000
DTSTAMP:20260423T210403
CREATED:20250730T164257Z
LAST-MODIFIED:20251204T002015Z
UID:10025365-1760014800-1760022000@lgbtqcolorado.org
SUMMARY:Emergency? Don't Know Her.
DESCRIPTION:Emergency? Don't Know Her.\nMake Emergencies as Unfamiliar as Your Ex! \nDisasters don't discriminate — they impact us all\, whether natural or man-made. In this lively two-hour workshop\, we'll dive into the latest disaster trends\, help you assess your personal preparedness needs\, and equip you with practical tools to conquer chaos like a pro. \nComplete the program and receive your very own fire safety box to kickstart your emergency readiness! \nRegistration is capped at 13 participants.  Available only for participants over 50 (due to grant requirements)
URL:https://lgbtqcolorado.org/event/emergency-dont-know-her/
LOCATION:The Center on Colfax\, 1301 E. Colfax Ave.\, Denver\, CO\, 80218\, United States
CATEGORIES:Resources,The Center Calendar,West of 50,Classes & Trainings,Older Adults
ATTACH;FMTTYPE=image/jpeg:https://lgbtqcolorado.org/wp-content/uploads/2025/07/2025-WoF-EmergencyPreparedness-16x9-1.jpg
GEO:39.7402674;-104.970419
X-APPLE-STRUCTURED-LOCATION;VALUE=URI;X-ADDRESS=The Center on Colfax 1301 E. Colfax Ave. Denver CO 80218 United States;X-APPLE-RADIUS=500;X-TITLE=1301 E. Colfax Ave.:geo:-104.970419,39.7402674
END:VEVENT
BEGIN:VEVENT
DTSTART;TZID=America/Denver:20251009T170000
DTEND;TZID=America/Denver:20251009T183000
DTSTAMP:20260423T210403
CREATED:20250910T195936Z
LAST-MODIFIED:20251001T154938Z
UID:10026180-1760029200-1760034600@lgbtqcolorado.org
SUMMARY:Halloween Rainbow Writers Room: Writing Queer Horror
DESCRIPTION:
URL:https://lgbtqcolorado.org/event/halloween-rainbow-writers-room/2025-10-09/
LOCATION:The Center on Colfax\, 1301 E. Colfax Ave.\, Denver\, CO\, 80218\, United States
CATEGORIES:Community Events,The Center Calendar,Rainbow Alley,Arts & Entertainment,Youth & Young Adult
ATTACH;FMTTYPE=image/png:https://lgbtqcolorado.org/wp-content/uploads/2025/09/2025-HalloweenRainbowWritersRoom-16x9-1.png
GEO:39.7402674;-104.970419
X-APPLE-STRUCTURED-LOCATION;VALUE=URI;X-ADDRESS=The Center on Colfax 1301 E. Colfax Ave. Denver CO 80218 United States;X-APPLE-RADIUS=500;X-TITLE=1301 E. Colfax Ave.:geo:-104.970419,39.7402674
END:VEVENT
BEGIN:VEVENT
DTSTART;TZID=America/Denver:20251009T180000
DTEND;TZID=America/Denver:20251009T200000
DTSTAMP:20260423T210403
CREATED:20220414T013020Z
LAST-MODIFIED:20250805T161945Z
UID:10008253-1760032800-1760040000@lgbtqcolorado.org
SUMMARY:In-Person Trans Femme Support Group
DESCRIPTION:This in-person peer lead and confidential support group is for individuals who were assigned male at birth and identify as trans women\, trans feminine\, and/or male-to-female (MtF). This is a safe\, drop-in space providing peer-run social support\, engaging conversation\, and relevant resources to attendees. Support groups at The Center on Colfax are always free to attend. No signup necessary. Walk-ins are welcome. \nHow to Get Involved: For any questions\, please contact Joy Iwancio\, Director of Transgender Services\, at JIwancio@lgbtqcolorado.org.\n\nDates: Join us weekly on Thursdays from 6:00 - 8:00 PM
URL:https://lgbtqcolorado.org/event/in-person-trans-femme-support/2025-10-09/
LOCATION:Stonewall Meeting Room\, 1301 E. Colfax Ave.\, Denver\, Colorado\, 80218
CATEGORIES:The Center Calendar,Transgender Program,Support Groups
ATTACH;FMTTYPE=image/jpeg:https://lgbtqcolorado.org/wp-content/uploads/2022/04/TransFemme-InPerson-16x9-2.jpg
END:VEVENT
BEGIN:VEVENT
DTSTART;TZID=America/Denver:20251009T180000
DTEND;TZID=America/Denver:20251009T200000
DTSTAMP:20260423T210403
CREATED:20250930T153151Z
LAST-MODIFIED:20250930T153151Z
UID:10026494-1760032800-1760040000@lgbtqcolorado.org
SUMMARY:🎨 Mandala Painting + Tea & Scones
DESCRIPTION:🎨 Mandala Painting + Tea & Scones \n(and yes\, you’ll sip + snack while you create!)\n🎟️ PURCHASE TICKETS HERE \nBi-Weekly (aka fortnightly) on Thursday’s @ 6PM. Starting Thursday\, October 9th\, 2025. \nLooking for a relaxing and creative evening? Join us for a cozy mandala painting workshop at Maggie’s Place. You’ll learn simple techniques to design and paint your own geometric masterpiece while enjoying tea and fresh-baked scones. \n👩‍🏫 About the Instructor\nYour guide for the day has been an artist her whole life\, exploring many mediums and styles. With a deep love of creativity and homesteading\, she brings warmth\, patience\, and inspiration to every class. \nBy the end of the day\, you’ll walk away with: \n\nYour own hand-painted mandala on heavy duty art paper (other substrates available at additional cost)\nA peaceful evening of tea\, treats\, and creativity\nA deeper appreciation for mindfulness through art\n\n🛠️ Details\nCost: $30\nLocation: Maggie’s Place (address provided after sign-up) \n🎨 What to Bring & Wear \n\nClothes you don’t mind getting a little paint on\nAn open\, creative spirit
URL:https://lgbtqcolorado.org/event/%f0%9f%8e%a8-mandala-painting-tea-scones/2025-10-09/
LOCATION:Maggie’s Place\, RSVP for more info\, Lakewood
CATEGORIES:Community Events
ATTACH;FMTTYPE=image/png:https://lgbtqcolorado.org/wp-content/uploads/2025/09/7.png
ORGANIZER;CN="Bconnected Colorado":MAILTO:bconnectedcolorado@gmail.com
END:VEVENT
BEGIN:VEVENT
DTSTART;TZID=America/Denver:20251009T183000
DTEND;TZID=America/Denver:20251009T193000
DTSTAMP:20260423T210403
CREATED:20250109T182739Z
LAST-MODIFIED:20250212T203128Z
UID:10020254-1760034600-1760038200@lgbtqcolorado.org
SUMMARY:PFLAG SOFFA Online Support Group
DESCRIPTION:It's often said that when a loved one transitions\, everyone around them transitions too. PFLAG Denver's SOFFA group acknowledges that sometimes those closest to a transgender\, nonbinary\, or gender nonconforming person may need assistance to better provide support. Regardless of where you are on your allyship journey\, our peer-led groups provide brave space for you to adapt and develop expanded capacities of empathy and understanding. Through each other's stories\, we gain perspective\, we hold accountability\, and we celebrate joys. We learn coping strategies that can foster personal growth and resilience so that we may better support our loved ones. The collective insights and shared strength found in SOFFA can help individuals navigate their difficulties with increased emotional support and a sense of community\, ultimately contributing to their overall well-being and healing journey. \nRegistration is REQUIRED for SOFFA Online!! \nYou can do so HERE!
URL:https://lgbtqcolorado.org/event/pflag-soffa-online-support-group/2025-10-09/
LOCATION:zoom Link\, Zoom Link\, Denver\, 80209
CATEGORIES:Community Events,Resources
ATTACH;FMTTYPE=image/jpeg:https://lgbtqcolorado.org/wp-content/uploads/2025/01/SUPPORT-Program-Instagram-8.jpg
ORGANIZER;CN="PFLAG Denver":MAILTO:support@pflagdenver.org
END:VEVENT
BEGIN:VEVENT
DTSTART;TZID=America/Denver:20251009T183000
DTEND;TZID=America/Denver:20251009T200000
DTSTAMP:20260423T210403
CREATED:20220414T012626Z
LAST-MODIFIED:20251006T154239Z
UID:10014463-1760034600-1760040000@lgbtqcolorado.org
SUMMARY:Online Trans Femme Support Group
DESCRIPTION:MUST BE 18 YEARS OLD \nThis online peer lead and confidential support group is for individuals who were assigned male at birth and identify as trans women\, trans feminine\, and/or male-to-female (MtF). This is a safe space providing peer-run social support\, engaging conversation\, and relevant resources to attendees. Support groups at The Center on Colfax are always free to attend. \nDates: Every Thursday from 6:30 - 8:00 PM.  \nFor Registration and/or Questions: Please contact Terwanda McMoore\, Support Group Coordinator\, at tmcmoore@lgbtqcolorado.org
URL:https://lgbtqcolorado.org/event/online-trans-femme-support/2025-10-09/
LOCATION:Online
CATEGORIES:The Center Calendar,Transgender Program,Support Groups
ATTACH;FMTTYPE=image/jpeg:https://lgbtqcolorado.org/wp-content/uploads/2022/04/TransFemme-Online-16x9-1.jpg
END:VEVENT
BEGIN:VEVENT
DTSTART;TZID=America/Denver:20251009T191500
DTEND;TZID=America/Denver:20251009T211500
DTSTAMP:20260423T210403
CREATED:20251002T153516Z
LAST-MODIFIED:20251014T142945Z
UID:10026638-1760037300-1760044500@lgbtqcolorado.org
SUMMARY:Heightened Scrutiny - Documentary Screening
DESCRIPTION:An ACLU attorney fights to overturn the ban on gender-affirming care\n\n\nHEIGHTENED SCRUTINY follows Chase Strangio\, ACLU attorney and the first out trans person to argue before the Supreme Court\, as he fights a high-stakes legal battle to overturn Tennessee’s ban on gender-affirming care for transgender youth (United States v. Skrmetti). \nThe film exposes the dangerous role of mainstream media in fueling anti-trans legislation\, uncovering how biased coverage drives hate\, endangers lives\, and threatens democracy itself. With insights from journalists like Jelani Cobb\, Lydia Polgreen\, and Gina Chua\, and activists like Laverne Cox\, the story dismantles anti-trans disinformation and highlights its devastating real-world impact. \nWith the dangerous SCOTUS decision upholding the ban on life-saving healthcare\, HEIGHTENED SCRUTINY is an urgent call to action against bigotry and injustice. \nDate: Thursday\, October 9 \nTime: 7:15 PM \nLocation: Alamo Drafthouse Cinema Sloans Lake - 4255 W Colfax Ave\, Denver\, CO 80204 \nTickets: drafthouse.com/denver/show/heightened-scrutiny?cinemaId=0402
URL:https://lgbtqcolorado.org/event/heightened-scrutiny-documentary-screening/
LOCATION:Alamo Drafthouse – Sloans Lake\, 4255 West Colfax Avenue\, Denver\, CO\, United States
CATEGORIES:Community Events
ATTACH;FMTTYPE=image/jpeg:https://lgbtqcolorado.org/wp-content/uploads/2025/10/2025-10-HeightenedScrutinyDocumentary-16x9-1.jpg
END:VEVENT
END:VCALENDAR