BEGIN:VCALENDAR
VERSION:2.0
PRODID:-//The Center on Colfax - LGBTQ Colorado - ECPv6.15.20//NONSGML v1.0//EN
CALSCALE:GREGORIAN
METHOD:PUBLISH
X-WR-CALNAME:The Center on Colfax - LGBTQ Colorado
X-ORIGINAL-URL:https://lgbtqcolorado.org
X-WR-CALDESC:Events for The Center on Colfax - LGBTQ Colorado
REFRESH-INTERVAL;VALUE=DURATION:PT1H
X-Robots-Tag:noindex
X-PUBLISHED-TTL:PT1H
BEGIN:VTIMEZONE
TZID:America/Denver
BEGIN:DAYLIGHT
TZOFFSETFROM:-0700
TZOFFSETTO:-0600
TZNAME:MDT
DTSTART:20240310T090000
END:DAYLIGHT
BEGIN:STANDARD
TZOFFSETFROM:-0600
TZOFFSETTO:-0700
TZNAME:MST
DTSTART:20241103T080000
END:STANDARD
BEGIN:DAYLIGHT
TZOFFSETFROM:-0700
TZOFFSETTO:-0600
TZNAME:MDT
DTSTART:20250309T090000
END:DAYLIGHT
BEGIN:STANDARD
TZOFFSETFROM:-0600
TZOFFSETTO:-0700
TZNAME:MST
DTSTART:20251102T080000
END:STANDARD
BEGIN:DAYLIGHT
TZOFFSETFROM:-0700
TZOFFSETTO:-0600
TZNAME:MDT
DTSTART:20260308T090000
END:DAYLIGHT
BEGIN:STANDARD
TZOFFSETFROM:-0600
TZOFFSETTO:-0700
TZNAME:MST
DTSTART:20261101T080000
END:STANDARD
END:VTIMEZONE
BEGIN:VEVENT
DTSTART;TZID=America/Denver:20250925T100000
DTEND;TZID=America/Denver:20250925T120000
DTSTAMP:20260425T175127
CREATED:20221020T151445Z
LAST-MODIFIED:20260211T224504Z
UID:10012751-1758794400-1758801600@lgbtqcolorado.org
SUMMARY:West of 50 - Open Art Studio Thursdays!
DESCRIPTION:Please join us every Thursday for a drop-in Art Group put on by our West of 50 program. This program is free to attend - the only thing you need to bring is yourself and a creative mind. For more information\, please contact westof50@lgbtqcolorado.org \nWhen: Every Thursday\, 10:00 AM - 12:00 PM \nWhere: The Center on Colfax - 1301 E. Colfax\, Denver\, Colorado 80218
URL:https://lgbtqcolorado.org/event/wof-art-studio/2025-09-25/
LOCATION:The Center on Colfax\, 1301 E. Colfax Ave.\, Denver\, CO\, 80218\, United States
CATEGORIES:The Center Calendar,West of 50,Arts & Entertainment,Older Adults
ATTACH;FMTTYPE=image/jpeg:https://lgbtqcolorado.org/wp-content/uploads/2021/07/OpenArtStudio.jpg
GEO:39.7402674;-104.970419
X-APPLE-STRUCTURED-LOCATION;VALUE=URI;X-ADDRESS=The Center on Colfax 1301 E. Colfax Ave. Denver CO 80218 United States;X-APPLE-RADIUS=500;X-TITLE=1301 E. Colfax Ave.:geo:-104.970419,39.7402674
END:VEVENT
BEGIN:VEVENT
DTSTART;TZID=America/Denver:20250925T110000
DTEND;TZID=America/Denver:20250925T123000
DTSTAMP:20260425T175127
CREATED:20250813T150528Z
LAST-MODIFIED:20250813T150528Z
UID:10025620-1758798000-1758803400@lgbtqcolorado.org
SUMMARY:LGBTQIA+ Peer Support Group for Suicide Loss
DESCRIPTION:Starting Wednesday\, September 18\, 11:00 AM - 12:30 PM MST\, this 10-week virtual group offers a safe\, affirming space for LGBTQIA+ individuals grieving the loss of a loved one to suicide. Participants will connect with others who understand the unique layers of LGBTQIA+ grief\, from disenfranchisement and invisibility to the strength of chosen family.  The dates for this will be September 18\, 25\, October 2\, 9\, 16\, 23\, 30\, November 6\, 13\, & 20 \nThe group is facilitated by Steven Karaiskos\, Ph.D.\, a suicide loss survivor who lost his partner\, David\, to suicide in 2009. That loss shaped his career as an educator\, grief expert\, and community builder. Steven is the former Senior Director of Education with Samaritans\, Inc.\, has over six years of experience leading peer support groups through Coping After Suicide\, and currently serves as Director of Programming for The Kita Center\, home to Camp Kita and expanded retreats for communities impacted by suicide loss.  Contact Steven for more info at stevenjkaraiskos@gmail.com
URL:https://lgbtqcolorado.org/event/lgbtqia-peer-support-group-for-suicide-loss/2025-09-25/
LOCATION:Virtual – Zoom
CATEGORIES:Community Events,Resources
ATTACH;FMTTYPE=image/jpeg:https://lgbtqcolorado.org/wp-content/uploads/2025/08/1743522565211.jpg
ORGANIZER;CN="Coping After Suicide":MAILTO:stevenjkaraiskos@gmail.com
END:VEVENT
BEGIN:VEVENT
DTSTART;TZID=America/Denver:20250925T143000
DTEND;TZID=America/Denver:20250925T153000
DTSTAMP:20260425T175127
CREATED:20250825T175743Z
LAST-MODIFIED:20250825T175743Z
UID:10025860-1758810600-1758814200@lgbtqcolorado.org
SUMMARY:Creative Play: Shadow Boxes
DESCRIPTION:
URL:https://lgbtqcolorado.org/event/creative-play-shadow-boxes/2025-09-25/
LOCATION:The Center on Colfax\, 1301 E. Colfax Ave.\, Denver\, CO\, 80218\, United States
CATEGORIES:The Center Calendar,West of 50,Arts & Entertainment,Older Adults
ATTACH;FMTTYPE=image/jpeg:https://lgbtqcolorado.org/wp-content/uploads/2025/08/2025-08-CreativePlay-16x9-1.jpg
GEO:39.7402674;-104.970419
X-APPLE-STRUCTURED-LOCATION;VALUE=URI;X-ADDRESS=The Center on Colfax 1301 E. Colfax Ave. Denver CO 80218 United States;X-APPLE-RADIUS=500;X-TITLE=1301 E. Colfax Ave.:geo:-104.970419,39.7402674
END:VEVENT
BEGIN:VEVENT
DTSTART;TZID=America/Denver:20250925T174500
DTEND;TZID=America/Denver:20250925T184500
DTSTAMP:20260425T175127
CREATED:20250605T141132Z
LAST-MODIFIED:20250619T174803Z
UID:10024489-1758822300-1758825900@lgbtqcolorado.org
SUMMARY:Free LGBTQ+ Yoga Classes
DESCRIPTION:Celebrate pride and yourself by signing up for free yoga this summer! \nThis summer\, Blake O'Connor is offering free weekly yoga classes specifically for the Denver LGBTQ+ community. These classes are designed for all levels of activity\, flexibility\, and yoga practice experience. As part of his Master's practicum\, these hour-long Ashtanga-style yoga classes (no heat or music) include physical postures (asana) and light breathwork (pranayama) to help you recover\, focus\, and feel great. All we ask is that you commit to attending one class per week for 6 weeks\, and complete three quick surveys (pre\, mid\, post) to help with the research. Classes are designed to help practitioners improve mobility\, enhance concentration\, develop their own practice\, and build community connection in a relaxed setting. \nReady to roll out your mat? Sign-up here. \nCan't make it this summer? No sweat! Sign up to be notified for a second session starting around on August 20th & 21st.
URL:https://lgbtqcolorado.org/event/free-lgbtq-yoga-classes/2025-09-25/
LOCATION:Ashtanga Yoga Denver\, 2501 Larimer Street\, Denver\, CO\, 80205\, United States
CATEGORIES:Community Events,Resources
ATTACH;FMTTYPE=image/jpeg:https://lgbtqcolorado.org/wp-content/uploads/2025/06/2025-FreeYogaClass.jpg
ORGANIZER;CN="Blake O'Connor":MAILTO:blake@wellnready.com
END:VEVENT
BEGIN:VEVENT
DTSTART;TZID=America/Denver:20250925T180000
DTEND;TZID=America/Denver:20250925T200000
DTSTAMP:20260425T175127
CREATED:20220414T013020Z
LAST-MODIFIED:20250805T161945Z
UID:10008251-1758823200-1758830400@lgbtqcolorado.org
SUMMARY:In-Person Trans Femme Support Group
DESCRIPTION:This in-person peer lead and confidential support group is for individuals who were assigned male at birth and identify as trans women\, trans feminine\, and/or male-to-female (MtF). This is a safe\, drop-in space providing peer-run social support\, engaging conversation\, and relevant resources to attendees. Support groups at The Center on Colfax are always free to attend. No signup necessary. Walk-ins are welcome. \nHow to Get Involved: For any questions\, please contact Joy Iwancio\, Director of Transgender Services\, at JIwancio@lgbtqcolorado.org.\n\nDates: Join us weekly on Thursdays from 6:00 - 8:00 PM
URL:https://lgbtqcolorado.org/event/in-person-trans-femme-support/2025-09-25/
LOCATION:Stonewall Meeting Room\, 1301 E. Colfax Ave.\, Denver\, Colorado\, 80218
CATEGORIES:The Center Calendar,Transgender Program,Support Groups
ATTACH;FMTTYPE=image/jpeg:https://lgbtqcolorado.org/wp-content/uploads/2022/04/TransFemme-InPerson-16x9-2.jpg
END:VEVENT
BEGIN:VEVENT
DTSTART;TZID=America/Denver:20250925T183000
DTEND;TZID=America/Denver:20250925T200000
DTSTAMP:20260425T175127
CREATED:20220414T012626Z
LAST-MODIFIED:20251006T154239Z
UID:10014461-1758825000-1758830400@lgbtqcolorado.org
SUMMARY:Online Trans Femme Support Group
DESCRIPTION:MUST BE 18 YEARS OLD \nThis online peer lead and confidential support group is for individuals who were assigned male at birth and identify as trans women\, trans feminine\, and/or male-to-female (MtF). This is a safe space providing peer-run social support\, engaging conversation\, and relevant resources to attendees. Support groups at The Center on Colfax are always free to attend. \nDates: Every Thursday from 6:30 - 8:00 PM.  \nFor Registration and/or Questions: Please contact Terwanda McMoore\, Support Group Coordinator\, at tmcmoore@lgbtqcolorado.org
URL:https://lgbtqcolorado.org/event/online-trans-femme-support/2025-09-25/
LOCATION:Online
CATEGORIES:The Center Calendar,Transgender Program,Support Groups
ATTACH;FMTTYPE=image/jpeg:https://lgbtqcolorado.org/wp-content/uploads/2022/04/TransFemme-Online-16x9-1.jpg
END:VEVENT
BEGIN:VEVENT
DTSTART;TZID=America/Denver:20250925T190000
DTEND;TZID=America/Denver:20250925T210000
DTSTAMP:20260425T175127
CREATED:20250826T223815Z
LAST-MODIFIED:20250826T223815Z
UID:10025868-1758826800-1758834000@lgbtqcolorado.org
SUMMARY:Stories of Migration & Music with Motus Theater & The Boulder Phil String Quartet
DESCRIPTION:A remarkable performance featuring Motus monologists Laura Peniche\, Alejandro Fuentes Mena & Cristian Solano-Córdova\, violinist Anthony Salvo and the Boulder Phil's String Quartet. \nIn this special collaboration\, Motus Monologists with Deferred Action for Childhood Arrivals (DACA) perform artfully crafted personal stories of immigration accompanied by violin underscore\, interspersed by musical responses curated by Director of Education and pianist Fernanda Nieto. Regardless of your ideas about immigration policy\, come together for an evening of beautiful and profound monologues\, music and community\, as we get to know more about our immigrant neighbors. Co-presented with the Longmont Multicultural Action Committee and made possible with the support of the Bob Braudes & Nancy Clairmont Family Fund. \nThis performance is free\, but registration is required.
URL:https://lgbtqcolorado.org/event/stories-of-migration-music-with-motus-theater-the-boulder-phil-string-quartet/
LOCATION:Longmont Museum Stewart Auditorium\, 400 Quail Road\, Longmont\, CO\, 80501
CATEGORIES:Community Events
ATTACH;FMTTYPE=image/jpeg:https://lgbtqcolorado.org/wp-content/uploads/2025/08/2025.09.25-Stories-of-Migration-Music-with-Motus-Boulder-Phil-@-Longmont-Museum-resized.jpg
ORGANIZER;CN="Motus Theater":MAILTO:info@motustheater.org
END:VEVENT
END:VCALENDAR