BEGIN:VCALENDAR
VERSION:2.0
PRODID:-//The Center on Colfax - LGBTQ Colorado - ECPv6.15.20//NONSGML v1.0//EN
CALSCALE:GREGORIAN
METHOD:PUBLISH
X-ORIGINAL-URL:https://lgbtqcolorado.org
X-WR-CALDESC:Events for The Center on Colfax - LGBTQ Colorado
REFRESH-INTERVAL;VALUE=DURATION:PT1H
X-Robots-Tag:noindex
X-PUBLISHED-TTL:PT1H
BEGIN:VTIMEZONE
TZID:America/Denver
BEGIN:DAYLIGHT
TZOFFSETFROM:-0700
TZOFFSETTO:-0600
TZNAME:MDT
DTSTART:20240310T090000
END:DAYLIGHT
BEGIN:STANDARD
TZOFFSETFROM:-0600
TZOFFSETTO:-0700
TZNAME:MST
DTSTART:20241103T080000
END:STANDARD
BEGIN:DAYLIGHT
TZOFFSETFROM:-0700
TZOFFSETTO:-0600
TZNAME:MDT
DTSTART:20250309T090000
END:DAYLIGHT
BEGIN:STANDARD
TZOFFSETFROM:-0600
TZOFFSETTO:-0700
TZNAME:MST
DTSTART:20251102T080000
END:STANDARD
BEGIN:DAYLIGHT
TZOFFSETFROM:-0700
TZOFFSETTO:-0600
TZNAME:MDT
DTSTART:20260308T090000
END:DAYLIGHT
BEGIN:STANDARD
TZOFFSETFROM:-0600
TZOFFSETTO:-0700
TZNAME:MST
DTSTART:20261101T080000
END:STANDARD
END:VTIMEZONE
BEGIN:VEVENT
DTSTART;TZID=America/Denver:20250908T100000
DTEND;TZID=America/Denver:20250908T120000
DTSTAMP:20260422T172823
CREATED:20240117T174137Z
LAST-MODIFIED:20260109T230535Z
UID:10007636-1757325600-1757332800@lgbtqcolorado.org
SUMMARY:The Lesbian Lounge
DESCRIPTION:In need of a little conversation\, fun\, learning\, and community? This weekly group is focused on supporting queer-identifying women through conversation\, creativity\, and learning. These peer led conversations will focus on anything from relationships\, to health\, to current events with the occasional workshop. \nWhen: Every Monday from 10:00 AM - 12:00 PM \nLocation: Stonewall Meeting Room at The Center on Colfax - 1301 East Colfax Avenue\, Denver\, CO\, 80218
URL:https://lgbtqcolorado.org/event/lesbian-lounge/2025-09-08/
LOCATION:Stonewall Meeting Room\, 1301 E. Colfax Ave.\, Denver\, Colorado\, 80218
CATEGORIES:The Center Calendar,West of 50,Older Adults
ATTACH;FMTTYPE=image/jpeg:https://lgbtqcolorado.org/wp-content/uploads/2024/01/2025-LesbianLounge-16x9-1.jpg
END:VEVENT
BEGIN:VEVENT
DTSTART;TZID=America/Denver:20250908T133000
DTEND;TZID=America/Denver:20250908T150000
DTSTAMP:20260422T172823
CREATED:20240108T205424Z
LAST-MODIFIED:20251014T181814Z
UID:10004678-1757338200-1757343600@lgbtqcolorado.org
SUMMARY:Telling your Story
DESCRIPTION:Participants are provided a weekly topic that sparks memories\, connections\, and friendships. We welcome all and are open to people who choose to compose their stories or tell others about their experiences.  \nGroup details: A weekly drop-in friendly group for individuals 50+. Mondays\, 1:30 - 3:00 PM \nUPCOMING TOPICS \n\nJanuary 20: The Center on Colfax is CLOSED for Martin Luther King Jr. Day\nApril 28: Fire\nMay 5: Pastimes / Hobbies\nMay 12: Hats\nMay 19: Push Me / Pull You\nMay 26: The Center on Colfax is CLOSED for Memorial Day\nJune 2: Regrets\nJune 9: When in Greece / Grease\nJune 16: Too Cool\nJune 23: Meaningful Trips I Have Taken\nJune 30: Responsibility\nJuly 7: The Center on Colfax is CLOSED for Staff Recovery Day\nJuly 14: Avalanche\nJuly 21: Monumental Blunder\nJuly 28: Can't Make It Work\nAugust 4: Profanity\nAugust 11: Coming Undone\nAugust 18: Faith / Spirituality\nAugust 25: Plan B\nSeptember 1: The Center on Colfax is CLOSED for Labor Day\nSeptember 8: The Women in My Life\nSeptember 15: Routine\nSeptember 22: Adjusting\nSeptember 29: That's Sick / Sic\nOctober 6: If It's Not Broke\, Don't Fix It\nOctober 13: Changing Gears\nOctober 20: Not My Fault\n\nPlease Note: If Center is closed on a Monday for other reasons not listed above\, please prepare the topic listed for following week. \nFor Registration and/or Questions? Contact Bryant Mehay at bmehay@lgbtqcolorado.org
URL:https://lgbtqcolorado.org/event/telling-your-story/2025-09-08/
LOCATION:Leadership Meeting Room\, 1301 E. Colfax Ave.\, Denver\, Colorado\, 80218
CATEGORIES:The Center Calendar,West of 50,Older Adults
ATTACH;FMTTYPE=image/png:https://lgbtqcolorado.org/wp-content/uploads/2020/04/OnlineTellingYourStory_web.png
ORGANIZER;CN="Jason Eaton-Lynch":MAILTO:jeatonlynch@lgbtqcolorado.org
END:VEVENT
BEGIN:VEVENT
DTSTART;TZID=America/Denver:20250908T180000
DTEND;TZID=America/Denver:20250908T190000
DTSTAMP:20260422T172823
CREATED:20250828T184255Z
LAST-MODIFIED:20250828T184323Z
UID:10024329-1757354400-1757358000@lgbtqcolorado.org
SUMMARY:Trusted Adults Virtual Space: Gender Affirming Care Q&A with Denver Health
DESCRIPTION:
URL:https://lgbtqcolorado.org/event/trusted-adults-virtual-space-gender-affirming-care/
LOCATION:The Center on Colfax\, 1301 E. Colfax Ave.\, Denver\, CO\, 80218\, United States
CATEGORIES:Resources,The Center Calendar,Rainbow Alley,Family,Support Groups,Youth & Young Adult
ATTACH;FMTTYPE=image/jpeg:https://lgbtqcolorado.org/wp-content/uploads/2025/06/2025-09-TrustedAdults-GenderAffirmingCare-16x9-1.jpg
GEO:39.7402674;-104.970419
X-APPLE-STRUCTURED-LOCATION;VALUE=URI;X-ADDRESS=The Center on Colfax 1301 E. Colfax Ave. Denver CO 80218 United States;X-APPLE-RADIUS=500;X-TITLE=1301 E. Colfax Ave.:geo:-104.970419,39.7402674
END:VEVENT
BEGIN:VEVENT
DTSTART;TZID=America/Denver:20250908T180000
DTEND;TZID=America/Denver:20250908T200000
DTSTAMP:20260422T172823
CREATED:20231011T163130Z
LAST-MODIFIED:20250805T162005Z
UID:10015454-1757354400-1757361600@lgbtqcolorado.org
SUMMARY:In-Person Ace Space Support Group
DESCRIPTION:This in-person peer lead and confidential support group is for individuals who identify along the asexual and/or aromantic spectrums\, including (but not limited to) demiromantic\, demisexual\, greyromantic\, and greysexual. This is a safe space providing peer-run social support\, engaging conversation\, and relevant resources to attendees. Support groups at The Center on Colfax are always free to attend. \nHow to Get Involved: Contact Joy Iwancio\, Director of Transgender Services\, at JIwancio@lgbtqcolorado.org \nDates: Join us on the Second Monday of each month in-person from 6:00 - 8:00 PM \nLocation: The Center on Colfax - 1301 East Colfax Ave\, Denver\, CO 80218
URL:https://lgbtqcolorado.org/event/ace-space-in-person/2025-09-08/
LOCATION:Stonewall Meeting Room\, 1301 E. Colfax Ave.\, Denver\, Colorado\, 80218
CATEGORIES:The Center Calendar,Transgender Program,Support Groups,Transgender
ATTACH;FMTTYPE=image/png:https://lgbtqcolorado.org/wp-content/uploads/2022/01/AceSpace-InPerson-16x9-1.png
END:VEVENT
BEGIN:VEVENT
DTSTART;TZID=America/Denver:20250908T181500
DTEND;TZID=America/Denver:20250908T194500
DTSTAMP:20260422T172823
CREATED:20221208T174353Z
LAST-MODIFIED:20260121T235413Z
UID:10027826-1757355300-1757360700@lgbtqcolorado.org
SUMMARY:Stitch & Bitch
DESCRIPTION:Do you have a sewing or crafting project you’ve been meaning to get done but don’t have the motivation or time? Do you enjoy creating in a group? Do you want to have a Kiki? If our answer is yes to any of these questions\, then join us for Stitch & Bitch! \nStitch & Bitch provides space for sewing\, crafting and conversation. The Center will have sewing needles\, thread\, basic crafting supplies\, and sewing machines available for use during these sessions. \nDates: Every Monday \nTime: 6:15 - 7:45 PM \nFor more information\, please contact Bryant at bmehay@lgbtqcolorado.org
URL:https://lgbtqcolorado.org/event/stitch-bitch-2/2025-09-08/
LOCATION:Activity/Multipurpose Room\, 1301 E Colfax Ave\, Denver\, CO\, 80218
CATEGORIES:The Center Calendar,West of 50,Arts & Entertainment,Older Adults,Social & Nightlife
ATTACH;FMTTYPE=image/jpeg:https://lgbtqcolorado.org/wp-content/uploads/2022/12/StitchBitch-Graphics-02.jpg
ORGANIZER;CN="Bryant Mehay%2C Coordinator of Elder and Disability Services":MAILTO:bmehay@lgbtqcolorado.org
END:VEVENT
BEGIN:VEVENT
DTSTART;TZID=America/Denver:20250908T183000
DTEND;TZID=America/Denver:20250908T193000
DTSTAMP:20260422T172823
CREATED:20250127T162707Z
LAST-MODIFIED:20250805T162021Z
UID:10025014-1757356200-1757359800@lgbtqcolorado.org
SUMMARY:Matt Kailey History Committee (MKHC)
DESCRIPTION:
URL:https://lgbtqcolorado.org/event/mkhc/2025-09-08/
LOCATION:Virtual
CATEGORIES:Community Events,Colorado LGBTQ History Project,The Center Calendar,History
ATTACH;FMTTYPE=image/jpeg:https://lgbtqcolorado.org/wp-content/uploads/2023/07/MKHC-GroupImg.jpg
ORGANIZER;CN="David Duffield%2C Colorado LGBTQ History Project":MAILTO:dduffield@lgbtqcolorado.org
END:VEVENT
BEGIN:VEVENT
DTSTART;TZID=America/Denver:20250908T183000
DTEND;TZID=America/Denver:20250908T200000
DTSTAMP:20260422T172823
CREATED:20240905T225211Z
LAST-MODIFIED:20251006T154110Z
UID:10018612-1757356200-1757361600@lgbtqcolorado.org
SUMMARY:Online Trans Masc Support Group - Second and Fourth Mondays
DESCRIPTION:MUST BE 18 YEARS OLD\n\nThis online peer lead and confidential support group is for individuals who were assigned female at birth and identify as trans men\, trans masculine\, and/or female-to-male (FtM). This is a safe space providing peer-run social support\, engaging conversation\, and relevant resources to attendees. Support groups at The Center on Colfax are always free to attend.\n\nDates: Join us on the Second and Fourth Monday of every month online from 6:30 - 8:00 PM \nFor Registration and/or Questions: Please contact Terwanda McMoore\, Support Group Coordinator\, at tmcmoore@lgbtqcolorado.org
URL:https://lgbtqcolorado.org/event/online-trans-masc-support-group-2/2025-09-08/
LOCATION:Online
CATEGORIES:The Center Calendar,Transgender Program,Support Groups
ATTACH;FMTTYPE=image/png:https://lgbtqcolorado.org/wp-content/uploads/2022/04/OnlineTransMasc-16x9-2.png
END:VEVENT
END:VCALENDAR