BEGIN:VCALENDAR
VERSION:2.0
PRODID:-//The Center on Colfax - LGBTQ Colorado - ECPv6.15.20//NONSGML v1.0//EN
CALSCALE:GREGORIAN
METHOD:PUBLISH
X-ORIGINAL-URL:https://lgbtqcolorado.org
X-WR-CALDESC:Events for The Center on Colfax - LGBTQ Colorado
REFRESH-INTERVAL;VALUE=DURATION:PT1H
X-Robots-Tag:noindex
X-PUBLISHED-TTL:PT1H
BEGIN:VTIMEZONE
TZID:America/Denver
BEGIN:DAYLIGHT
TZOFFSETFROM:-0700
TZOFFSETTO:-0600
TZNAME:MDT
DTSTART:20240310T090000
END:DAYLIGHT
BEGIN:STANDARD
TZOFFSETFROM:-0600
TZOFFSETTO:-0700
TZNAME:MST
DTSTART:20241103T080000
END:STANDARD
BEGIN:DAYLIGHT
TZOFFSETFROM:-0700
TZOFFSETTO:-0600
TZNAME:MDT
DTSTART:20250309T090000
END:DAYLIGHT
BEGIN:STANDARD
TZOFFSETFROM:-0600
TZOFFSETTO:-0700
TZNAME:MST
DTSTART:20251102T080000
END:STANDARD
BEGIN:DAYLIGHT
TZOFFSETFROM:-0700
TZOFFSETTO:-0600
TZNAME:MDT
DTSTART:20260308T090000
END:DAYLIGHT
BEGIN:STANDARD
TZOFFSETFROM:-0600
TZOFFSETTO:-0700
TZNAME:MST
DTSTART:20261101T080000
END:STANDARD
END:VTIMEZONE
BEGIN:VEVENT
DTSTART;TZID=America/Denver:20250801T114500
DTEND;TZID=America/Denver:20250801T124500
DTSTAMP:20260421T143322
CREATED:20241107T215639Z
LAST-MODIFIED:20250922T210452Z
UID:10023241-1754048700-1754052300@lgbtqcolorado.org
SUMMARY:Creative Meditation with Quána Madison
DESCRIPTION:Creative Meditation Workshop with Quána Madison\nJoin artist & inner peace gardener\, Quána Madison\, for a monthly 60-minute creative meditation workshop. This workshop will use a variety of mindfulness exercises and expressive arts-based activities to promote relaxation\, self-compassion\, emotional self-awareness and mental well-being. \nIn this workshop you will: \n\nCultivate kindness and compassion for yourself\nExplore mindfulness practices to promote well-being\nExpress your inner experiences and feelings through art-making\n\n*This workshop is sponsored by Colorado Artists in Recovery (CAiR). CAiR promotes an inclusive and creative recovery community for folks affected by substance use and mental health. Learn more about CAiR's free in-person and virtual workshops by visiting www.coloradoartistsinrecovery.org. \n\nAbout Quána Madison: Quána Madison is an artist\, inner peace gardener\, healing arts workshop facilitator and coach. Expressive arts revived her soul after enduring cancer previvor treatments and developing disruptive life-changing chronic illnesses. Quána believes art nourishes well-being. She combines inner wellness practices with expressive arts to promote creativity\, connectedness and holistic well-being. A graduate of New York University and Colorado College\, Quána holds a MA in Education and a BA in Philosophy. More information is available at www.quanamadison.com and www.linktr.ee/quanamadison.
URL:https://lgbtqcolorado.org/event/meditation-quana-madison-2025/2025-08-01/
LOCATION:SAGE Art Space\, 1301 E. Colfax Ave\, Denver\, CO\, 80203\, United States
CATEGORIES:The Center Calendar,West of 50,Arts & Entertainment,Health & Fitness,Older Adults
END:VEVENT
BEGIN:VEVENT
DTSTART;TZID=America/Denver:20250801T130000
DTEND;TZID=America/Denver:20250801T235900
DTSTAMP:20260421T143322
CREATED:20250717T155131Z
LAST-MODIFIED:20250717T155253Z
UID:10025173-1754053200-1754092740@lgbtqcolorado.org
SUMMARY:Early Closure - August 1\, 2025
DESCRIPTION:The Center on Colfax will be closing early at 1:00 PM on Friday\, August 1\, 2025.\nThis early closure is part of a series of Summer Fridays. Every Friday in August\, The Center will close at 1:00 PM to provide our staff time to rest and enjoy the last few weeks of summer. \nWe apologize for any inconvenience this closure may cause and we look forward to resuming our normal business hours on Monday\, August 4\, 2025 at 10:00 AM. If this an emergency\, please call the Colorado Crisis Line at 1-844-493-8255.
URL:https://lgbtqcolorado.org/event/early-closure-august-1-2025/
LOCATION:The Center on Colfax\, 1301 E. Colfax Ave.\, Denver\, CO\, 80218\, United States
CATEGORIES:Young Adults and Adults Program,Glass Lawler Mental Health,Disability Program,Colorado LGBTQ History Project,The Center Calendar,Rainbow Alley,West of 50,Transgender Program,Older Adults,Transgender,Youth & Young Adult
GEO:39.7402674;-104.970419
X-APPLE-STRUCTURED-LOCATION;VALUE=URI;X-ADDRESS=The Center on Colfax 1301 E. Colfax Ave. Denver CO 80218 United States;X-APPLE-RADIUS=500;X-TITLE=1301 E. Colfax Ave.:geo:-104.970419,39.7402674
END:VEVENT
BEGIN:VEVENT
DTSTART;TZID=America/Denver:20250801T190000
DTEND;TZID=America/Denver:20250801T203000
DTSTAMP:20260421T143322
CREATED:20250602T212537Z
LAST-MODIFIED:20250602T212537Z
UID:10024319-1754074800-1754080200@lgbtqcolorado.org
SUMMARY:All Stars Weekly Viewing Party
DESCRIPTION:Join us at Tapville Social - Denver for a fabulous night of glamour\, drama\, and fierce competition! Get ready to sashay your way into the viewing party of the season as we watch the queens of RuPaul's Drag Race All Stars 10 battle it out for the crown. Bring your friends\, grab a drink\, and let's see which queen will snatch the crown this time! Don't miss out on the fun - mark your calendars and come dressed to impress!
URL:https://lgbtqcolorado.org/event/all-stars-weekly-viewing-party/2025-08-01/
LOCATION:Tapville Social – Denver\, 1010 Park Avenue West\, Denver\, CO\, 80205\, United States
CATEGORIES:Community Events
ATTACH;FMTTYPE=image/jpeg:https://lgbtqcolorado.org/wp-content/uploads/2025/05/AS10-Viewing-Party-5.30.jpeg
ORGANIZER;CN="The Velvet Agenda":MAILTO:colton@velvetagenda.com
END:VEVENT
END:VCALENDAR