BEGIN:VCALENDAR
VERSION:2.0
PRODID:-//The Center on Colfax - LGBTQ Colorado - ECPv6.15.20//NONSGML v1.0//EN
CALSCALE:GREGORIAN
METHOD:PUBLISH
X-WR-CALNAME:The Center on Colfax - LGBTQ Colorado
X-ORIGINAL-URL:https://lgbtqcolorado.org
X-WR-CALDESC:Events for The Center on Colfax - LGBTQ Colorado
REFRESH-INTERVAL;VALUE=DURATION:PT1H
X-Robots-Tag:noindex
X-PUBLISHED-TTL:PT1H
BEGIN:VTIMEZONE
TZID:America/Denver
BEGIN:DAYLIGHT
TZOFFSETFROM:-0700
TZOFFSETTO:-0600
TZNAME:MDT
DTSTART:20240310T090000
END:DAYLIGHT
BEGIN:STANDARD
TZOFFSETFROM:-0600
TZOFFSETTO:-0700
TZNAME:MST
DTSTART:20241103T080000
END:STANDARD
BEGIN:DAYLIGHT
TZOFFSETFROM:-0700
TZOFFSETTO:-0600
TZNAME:MDT
DTSTART:20250309T090000
END:DAYLIGHT
BEGIN:STANDARD
TZOFFSETFROM:-0600
TZOFFSETTO:-0700
TZNAME:MST
DTSTART:20251102T080000
END:STANDARD
BEGIN:DAYLIGHT
TZOFFSETFROM:-0700
TZOFFSETTO:-0600
TZNAME:MDT
DTSTART:20260308T090000
END:DAYLIGHT
BEGIN:STANDARD
TZOFFSETFROM:-0600
TZOFFSETTO:-0700
TZNAME:MST
DTSTART:20261101T080000
END:STANDARD
END:VTIMEZONE
BEGIN:VEVENT
DTSTART;VALUE=DATE:20250609
DTEND;VALUE=DATE:20250702
DTSTAMP:20260422T163334
CREATED:20250609T184303Z
LAST-MODIFIED:20250609T184303Z
UID:10024500-1749438000-1751338799@lgbtqcolorado.org
SUMMARY:Wine Dispensary Gives Back to The Center On Colfax
DESCRIPTION:With 3 Locations around Central Denver\, The Wine Dispensary is partnering with The Center on Colfax. Join us at any of our locations or online to receive 5% off purchases over $20. The Wine Dispensary will directly give The Center on Colfax 20% back on any new customer with 10% back for any returning customer. \nUse code 'TheCenterOnColfax' \nThe Wine Dispensary proudly supports the LGBTQ+ community and are excited to partner with such an amazing organization! \nFree Wine tastings available these locations/times \n\nWine Dispensary 1590 Little Raven Street Denver Co 80202  : Thursday/Friday/Saturday 4pm-7pm\nBoulevard Bottle Shop 275 S Sheridan Blvd unit 104 Lakewood CO 80226  : Thursday/Saturday 4pm-6pm
URL:https://lgbtqcolorado.org/event/wine-dispensary-gives-back/
LOCATION:The Wine Dispensary\, 1590 Little Raven St #175\, Denver\, 80202
CATEGORIES:Community Events
ORGANIZER;CN="The Wine Dispensary":MAILTO:info@winedispensary.com
END:VEVENT
BEGIN:VEVENT
DTSTART;TZID=America/Denver:20250625T180000
DTEND;TZID=America/Denver:20250627T190000
DTSTAMP:20260422T163334
CREATED:20250624T203815Z
LAST-MODIFIED:20250624T203815Z
UID:10024656-1750874400-1751050800@lgbtqcolorado.org
SUMMARY:The Embodied Revolution
DESCRIPTION:The ER: PRIDE Dance Crew is a 3-day immersion for emerging and established dancers who crave training\, connecting\, and creating new work in a safe\, radically inclusive\, supportive environment. This experience will serve as an artistic leadership training and community care dance activation\, weaving a variety of dance and healing arts modalities. Our journey culminates in a powerful performance art installation and activation at the Downtown Denver Sculpture Park at The Denver Center for the Performing Arts\, becoming a historical piece of performance art\, filmed in Downtown Denver Sculpture Park\, vibrantly expressing and embodying our identities in the here and now of 2025.
URL:https://lgbtqcolorado.org/event/the-embodied-revolution/
LOCATION:1245 Champa Studios (THIRD FLOOR)\, 1245 Champa St\, Denver\, 80204
CATEGORIES:Community Events
ATTACH;FMTTYPE=image/jpeg:https://lgbtqcolorado.org/wp-content/uploads/2025/06/i-am-ma.jpg
ORGANIZER;CN="SOL VIDA":MAILTO:info@solvidaworldwide.com
END:VEVENT
BEGIN:VEVENT
DTSTART;TZID=America/Denver:20250626T120000
DTEND;TZID=America/Denver:20250626T140000
DTSTAMP:20260422T163334
CREATED:20250603T223901Z
LAST-MODIFIED:20250603T223901Z
UID:10024392-1750939200-1750946400@lgbtqcolorado.org
SUMMARY:Overdose Prevention Training for Teens
DESCRIPTION:Join EYE For Prevention Youth Leaders in partnership with the DOC for an Overdose Prevention and Harm Reduction training! This workshop will educate and empower people ages 13-19 to learn how to save a life using Naloxone (Narcan). Engage in interactive activities and discussion to support emotional regulation\, navigating healthy habits\, and uplifting positive coping skills. This holistic\, trauma-informed training gives you the knowledge\, skills\, and tools to create your own substance misuse prevention plan in a judgement-free zone. \nSign up here: denverlibrary.libcal.com/event/14697681
URL:https://lgbtqcolorado.org/event/overdose-prevention-training-for-teens/
LOCATION:Denver Public Library: Central Library\, 10 W 14th Ave\, Denver\, CO\, 80204\, United States
CATEGORIES:Community Events,Resources
ATTACH;FMTTYPE=image/jpeg:https://lgbtqcolorado.org/wp-content/uploads/2025/06/Overdose-prevention-workshop.jpg
ORGANIZER;CN="Denver Public Library":MAILTO:info@denverlibrary.org
END:VEVENT
BEGIN:VEVENT
DTSTART;TZID=America/Denver:20250626T171500
DTEND;TZID=America/Denver:20250626T183000
DTSTAMP:20260422T163334
CREATED:20250529T213919Z
LAST-MODIFIED:20250529T213919Z
UID:10024301-1750958100-1750962600@lgbtqcolorado.org
SUMMARY:Support During Extraordinary Times Group
DESCRIPTION:Are you stressed about social and political changes you hear about? \nDo you find yourself excessively worrying about the cultural climate? \nDo you find yourself feeling hopeless in response to what you see in news or social media? \nLed by licensed clinical psychologist\, Dr. Alex Ertl\, the purpose of this group is to create a space where people (adults 18+) can give and receive support for distress they experience in response to cultural and political changes happening locally\, nationally\, and globally.     \n\nWhen: Thursdays\, 5:15-6:30 p.m. MST starting June 19\, 2025\nFrequency: Meets weekly for 6 weeks\nWhere: 100% virtual for participants in over 40 states\nCost: $75/group; $450 for 6-weeks*\n\n*Payment is required to hold your spot in the group. Payment plans are available\, but participants will be responsible for 6 continuous weeks of sessions regardless of attendance. \nLearn more or sign-up: https://ucebt.com/safe-space \nThis group hosted by the Colorado Center for Evidence Based Treatment (CoCEBT). It is coordinated in partnership with our Utah-based parent organization\, Utah Center for Evidence Based Treatment. Registration and logistics are managed through UCEBT's platform. 
URL:https://lgbtqcolorado.org/event/support-during-extraordinary-times-group/2025-06-26/
LOCATION:Virtual Event
CATEGORIES:Community Events,Resources
ATTACH;FMTTYPE=image/jpeg:https://lgbtqcolorado.org/wp-content/uploads/2025/05/Support-During-Extraordinary-Times-Group.jpg
ORGANIZER;CN="Colorado Center for Evidence Based Treatment (CoCEBT)":MAILTO:info@cocebt.com
END:VEVENT
BEGIN:VEVENT
DTSTART;TZID=America/Denver:20250626T173000
DTEND;TZID=America/Denver:20250626T193000
DTSTAMP:20260422T163334
CREATED:20250410T174403Z
LAST-MODIFIED:20250528T162319Z
UID:10024223-1750959000-1750966200@lgbtqcolorado.org
SUMMARY:Polyamorous Bookclub
DESCRIPTION:Join our book group for individuals who want to learn more about polyamory! We are currently reading Polyamory for Dummies by Jaime Grant. \nDates: Third Thursday of each month \nTime: 5:30 - 7:30 PM \nLocation: The Center on Colfax - 1301 E. Colfax Ave.\, Denver\, CO 80218 \nQuestions? Please contact Brent Amore
URL:https://lgbtqcolorado.org/event/polyamorous-book-club/2025-06-26/
LOCATION:The Center on Colfax\, 1301 E. Colfax Ave.\, Denver\, CO\, 80218\, United States
CATEGORIES:Community Events,The Center Calendar
ORGANIZER;CN="Brent Amore":MAILTO:polyamorous@outlook.com
GEO:39.7402674;-104.970419
X-APPLE-STRUCTURED-LOCATION;VALUE=URI;X-ADDRESS=The Center on Colfax 1301 E. Colfax Ave. Denver CO 80218 United States;X-APPLE-RADIUS=500;X-TITLE=1301 E. Colfax Ave.:geo:-104.970419,39.7402674
END:VEVENT
BEGIN:VEVENT
DTSTART;TZID=America/Denver:20250626T174000
DTEND;TZID=America/Denver:20250626T183000
DTSTAMP:20260422T163334
CREATED:20250625T190327Z
LAST-MODIFIED:20250625T190327Z
UID:10024658-1750959600-1750962600@lgbtqcolorado.org
SUMMARY:$10 AIR Community Class PRIDE Foundation!
DESCRIPTION:🌈 In honor of PRIDE Month\, we’re hosting a special $10 Community Class this Thursday\, 6/26 — a perfect chance to try something new\, move with intention\, and show your pride! 💛✨ \nThis 50-minute beginner class introduces new clients to aerial exercises on hammocks\, focusing on alignment\, foundational strength\, and muscle engagement. You'll learn how to balance in the air while getting a full-body workout. \nAIR® Foundation is our signature beginner class—an intense aerial fitness experience that blends conditioning\, Pilates\, ballet\, and HIIT. Even at a beginner pace\, it’s a challenge (in the best way). No experience needed\, just bring an open mind and a willingness to fly. \nLet’s move\, connect\, and celebrate together.
URL:https://lgbtqcolorado.org/event/10-air-community-class-pride-foundation/
LOCATION:The Center on Colfax\, 1301 E. Colfax Ave.\, Denver\, CO\, 80218\, United States
CATEGORIES:Community Events
GEO:39.7402674;-104.970419
X-APPLE-STRUCTURED-LOCATION;VALUE=URI;X-ADDRESS=The Center on Colfax 1301 E. Colfax Ave. Denver CO 80218 United States;X-APPLE-RADIUS=500;X-TITLE=1301 E. Colfax Ave.:geo:-104.970419,39.7402674
END:VEVENT
BEGIN:VEVENT
DTSTART;TZID=America/Denver:20250626T180000
DTEND;TZID=America/Denver:20250626T200000
DTSTAMP:20260422T163334
CREATED:20220414T013020Z
LAST-MODIFIED:20250805T161945Z
UID:10008238-1750960800-1750968000@lgbtqcolorado.org
SUMMARY:In-Person Trans Femme Support Group
DESCRIPTION:This in-person peer lead and confidential support group is for individuals who were assigned male at birth and identify as trans women\, trans feminine\, and/or male-to-female (MtF). This is a safe\, drop-in space providing peer-run social support\, engaging conversation\, and relevant resources to attendees. Support groups at The Center on Colfax are always free to attend. No signup necessary. Walk-ins are welcome. \nHow to Get Involved: For any questions\, please contact Joy Iwancio\, Director of Transgender Services\, at JIwancio@lgbtqcolorado.org.\n\nDates: Join us weekly on Thursdays from 6:00 - 8:00 PM
URL:https://lgbtqcolorado.org/event/in-person-trans-femme-support/2025-06-26/
LOCATION:Stonewall Meeting Room\, 1301 E. Colfax Ave.\, Denver\, Colorado\, 80218
CATEGORIES:The Center Calendar,Transgender Program,Support Groups
ATTACH;FMTTYPE=image/jpeg:https://lgbtqcolorado.org/wp-content/uploads/2022/04/TransFemme-InPerson-16x9-2.jpg
END:VEVENT
BEGIN:VEVENT
DTSTART;TZID=America/Denver:20250626T180000
DTEND;TZID=America/Denver:20250626T210000
DTSTAMP:20260422T163334
CREATED:20250605T133548Z
LAST-MODIFIED:20250605T133636Z
UID:10024421-1750960800-1750971600@lgbtqcolorado.org
SUMMARY:Mountain Crust Field to Fork Dinner
DESCRIPTION:The Center is being featured as a local nonprofit benefiting from an upcoming dinner series hosted by our new friends at Mountain Crust! As an established catering company in the Denver area over the last 10 years\, their team is excited to host their second summer of Field to Fork Dinners at their headquarters in southwest Denver. Join the Mountain Crust x The Center communities for a night of delicious food\, inspired cocktails\, and a beautiful backyard at the one and only Mountain Crust Event Venue. Each dinner will feature a one-off menu with 5 courses of locally sourced and raised ingredients - there will be plenty of drink options to choose from as well! Mountain Crust will be donating 50% of ticket proceeds to The Center\, as well as 50% of ticket proceeds to Zero Foodprint (yay for doing something good while havin' fun!). With only 85 tickets sold per event\, don't hesitate to purchase your ticket today!
URL:https://lgbtqcolorado.org/event/mountain-crust-field-to-fork-dinner/
LOCATION:Mountain Crust Event Venue\, 3880 S Lowell Blvd\, Denver\, 80236
CATEGORIES:Community Events
ATTACH;FMTTYPE=image/jpeg:https://lgbtqcolorado.org/wp-content/uploads/2025/06/Field-to-Fork-Dinner-June-2025.jpg
ORGANIZER;CN="Mountain Crust":MAILTO:kathryn@mountaincrust.com
END:VEVENT
BEGIN:VEVENT
DTSTART;TZID=America/Denver:20250626T183000
DTEND;TZID=America/Denver:20250626T200000
DTSTAMP:20260422T163334
CREATED:20220414T012626Z
LAST-MODIFIED:20251006T154239Z
UID:10014448-1750962600-1750968000@lgbtqcolorado.org
SUMMARY:Online Trans Femme Support Group
DESCRIPTION:MUST BE 18 YEARS OLD \nThis online peer lead and confidential support group is for individuals who were assigned male at birth and identify as trans women\, trans feminine\, and/or male-to-female (MtF). This is a safe space providing peer-run social support\, engaging conversation\, and relevant resources to attendees. Support groups at The Center on Colfax are always free to attend. \nDates: Every Thursday from 6:30 - 8:00 PM.  \nFor Registration and/or Questions: Please contact Terwanda McMoore\, Support Group Coordinator\, at tmcmoore@lgbtqcolorado.org
URL:https://lgbtqcolorado.org/event/online-trans-femme-support/2025-06-26/
LOCATION:Online
CATEGORIES:The Center Calendar,Transgender Program,Support Groups
ATTACH;FMTTYPE=image/jpeg:https://lgbtqcolorado.org/wp-content/uploads/2022/04/TransFemme-Online-16x9-1.jpg
END:VEVENT
BEGIN:VEVENT
DTSTART;TZID=America/Denver:20250626T190000
DTEND;TZID=America/Denver:20250626T210000
DTSTAMP:20260422T163334
CREATED:20250305T175531Z
LAST-MODIFIED:20250305T175531Z
UID:10022842-1750964400-1750971600@lgbtqcolorado.org
SUMMARY:Melodies of Pride
DESCRIPTION:Celebrate love\, unity\, and diversity at Melodies of Pride\, a spirited concert honoring Pride and the connections that unite us. Enjoy uplifting tunes and powerful anthems in an unforgettable evening celebrating every unique identity.
URL:https://lgbtqcolorado.org/event/melodies-of-pride-2/
LOCATION:City Park – City Park Pavilion\, 1700 N York Street\, Denver\, CO\, 80205\, United States
CATEGORIES:Community Events
ATTACH;FMTTYPE=image/jpeg:https://lgbtqcolorado.org/wp-content/uploads/2025/03/12-Melodies-of-Pride-Ad.jpg
GEO:39.743262;-104.9597664
X-APPLE-STRUCTURED-LOCATION;VALUE=URI;X-ADDRESS=City Park – City Park Pavilion 1700 N York Street Denver CO 80205 United States;X-APPLE-RADIUS=500;X-TITLE=1700 N York Street:geo:-104.9597664,39.743262
END:VEVENT
END:VCALENDAR