BEGIN:VCALENDAR
VERSION:2.0
PRODID:-//The Center on Colfax - LGBTQ Colorado - ECPv6.15.20//NONSGML v1.0//EN
CALSCALE:GREGORIAN
METHOD:PUBLISH
X-WR-CALNAME:The Center on Colfax - LGBTQ Colorado
X-ORIGINAL-URL:https://lgbtqcolorado.org
X-WR-CALDESC:Events for The Center on Colfax - LGBTQ Colorado
REFRESH-INTERVAL;VALUE=DURATION:PT1H
X-Robots-Tag:noindex
X-PUBLISHED-TTL:PT1H
BEGIN:VTIMEZONE
TZID:America/Denver
BEGIN:DAYLIGHT
TZOFFSETFROM:-0700
TZOFFSETTO:-0600
TZNAME:MDT
DTSTART:20240310T090000
END:DAYLIGHT
BEGIN:STANDARD
TZOFFSETFROM:-0600
TZOFFSETTO:-0700
TZNAME:MST
DTSTART:20241103T080000
END:STANDARD
BEGIN:DAYLIGHT
TZOFFSETFROM:-0700
TZOFFSETTO:-0600
TZNAME:MDT
DTSTART:20250309T090000
END:DAYLIGHT
BEGIN:STANDARD
TZOFFSETFROM:-0600
TZOFFSETTO:-0700
TZNAME:MST
DTSTART:20251102T080000
END:STANDARD
BEGIN:DAYLIGHT
TZOFFSETFROM:-0700
TZOFFSETTO:-0600
TZNAME:MDT
DTSTART:20260308T090000
END:DAYLIGHT
BEGIN:STANDARD
TZOFFSETFROM:-0600
TZOFFSETTO:-0700
TZNAME:MST
DTSTART:20261101T080000
END:STANDARD
END:VTIMEZONE
BEGIN:VEVENT
DTSTART;VALUE=DATE:20250609
DTEND;VALUE=DATE:20250702
DTSTAMP:20260422T163354
CREATED:20250609T184303Z
LAST-MODIFIED:20250609T184303Z
UID:10024500-1749438000-1751338799@lgbtqcolorado.org
SUMMARY:Wine Dispensary Gives Back to The Center On Colfax
DESCRIPTION:With 3 Locations around Central Denver\, The Wine Dispensary is partnering with The Center on Colfax. Join us at any of our locations or online to receive 5% off purchases over $20. The Wine Dispensary will directly give The Center on Colfax 20% back on any new customer with 10% back for any returning customer. \nUse code 'TheCenterOnColfax' \nThe Wine Dispensary proudly supports the LGBTQ+ community and are excited to partner with such an amazing organization! \nFree Wine tastings available these locations/times \n\nWine Dispensary 1590 Little Raven Street Denver Co 80202  : Thursday/Friday/Saturday 4pm-7pm\nBoulevard Bottle Shop 275 S Sheridan Blvd unit 104 Lakewood CO 80226  : Thursday/Saturday 4pm-6pm
URL:https://lgbtqcolorado.org/event/wine-dispensary-gives-back/
LOCATION:The Wine Dispensary\, 1590 Little Raven St #175\, Denver\, 80202
CATEGORIES:Community Events
ORGANIZER;CN="The Wine Dispensary":MAILTO:info@winedispensary.com
END:VEVENT
BEGIN:VEVENT
DTSTART;TZID=America/Denver:20250625T080000
DTEND;TZID=America/Denver:20250625T170000
DTSTAMP:20260422T163354
CREATED:20250206T214306Z
LAST-MODIFIED:20250212T203208Z
UID:10021218-1750838400-1750870800@lgbtqcolorado.org
SUMMARY:Queer Meditation Group
DESCRIPTION:Join us the fourth Wednesday of the month from 6:30-8pm for a Queer meditation practice in the Thich Nhat Hanh Plum Village mindfulness lineage. This is sponsored by the Denver Eyes of Compassion Sangha and Wake Up Denver Young Adult Sangha and welcomes all members of the LGBTQIA+ community. No prior meditation experience is needed. This practice is offered freely\, and for those able\, we appreciate a suggested donation of $5 to help cover space rental. \nOur general format for the monthly practice is: \n6:30pm - Welcome and introductions \n15 - 20 minute Guided Meditation \n10 Minute Optional Walking Meditation \n10 Minute Dharma Reading \n25 Minute Deep Listening & Loving Speech \n8:30pm Dedication of Merit and Closing \nOptional Tea Time!
URL:https://lgbtqcolorado.org/event/queer-meditation-group/2025-06-25/
LOCATION:University Park Methodist Church\, 2180 S. University Blvd\, Denver\, 80211
CATEGORIES:Community Events,Resources
ATTACH;FMTTYPE=image/jpeg:https://lgbtqcolorado.org/wp-content/uploads/2025/02/Flyer_QueerMeditationGroup_Rainbow.jpg
ORGANIZER;CN="Linds West Roberts":MAILTO:linds@gatherthewild.love
END:VEVENT
BEGIN:VEVENT
DTSTART;TZID=America/Denver:20250625T143000
DTEND;TZID=America/Denver:20250625T160000
DTSTAMP:20260422T163354
CREATED:20230118T032014Z
LAST-MODIFIED:20250604T162958Z
UID:10014027-1750861800-1750867200@lgbtqcolorado.org
SUMMARY:Colorado Fingerprinting
DESCRIPTION:The Center on Colfax is happy to bring in Colorado Fingerprinting to provide fingerprinting services at The Center on Colfax\, every Wednesday from 2:30 - 4:30 PM. \nPlease schedule an appointment with Colorado Fingerprinting via their website. \nColorado Fingerprinting provides services for Colorado Name Change Project\, Kinship Adoptions\, 24/48 Hour FBI Background Checks\, FBI Background Checks\, CBI Checks\, Finger Print Cards\, Florida Livescan\, and FINRA.
URL:https://lgbtqcolorado.org/event/fingerprinting/2025-06-25/
LOCATION:The Center on Colfax\, 1301 E. Colfax Ave.\, Denver\, CO\, 80218\, United States
CATEGORIES:Community Events,Resources,The Center Calendar
ATTACH;FMTTYPE=image/jpeg:https://lgbtqcolorado.org/wp-content/uploads/2023/01/fingerprining.jpg
GEO:39.7402674;-104.970419
X-APPLE-STRUCTURED-LOCATION;VALUE=URI;X-ADDRESS=The Center on Colfax 1301 E. Colfax Ave. Denver CO 80218 United States;X-APPLE-RADIUS=500;X-TITLE=1301 E. Colfax Ave.:geo:-104.970419,39.7402674
END:VEVENT
BEGIN:VEVENT
DTSTART;TZID=America/Denver:20250625T153000
DTEND;TZID=America/Denver:20250625T200000
DTSTAMP:20260422T163354
CREATED:20250602T172802Z
LAST-MODIFIED:20250611T175520Z
UID:10024326-1750865400-1750881600@lgbtqcolorado.org
SUMMARY:Tea Dance
DESCRIPTION:
URL:https://lgbtqcolorado.org/event/tea-dance/
LOCATION:The Center on Colfax\, 1301 E. Colfax Ave.\, Denver\, CO\, 80218\, United States
CATEGORIES:Disability Program,Community Events,The Center Calendar,West of 50,Older Adults,Pride,Social & Nightlife
ATTACH;FMTTYPE=image/jpeg:https://lgbtqcolorado.org/wp-content/uploads/2025/06/2025-06-WoFTeaDance-16x9-1.jpg
GEO:39.7402674;-104.970419
X-APPLE-STRUCTURED-LOCATION;VALUE=URI;X-ADDRESS=The Center on Colfax 1301 E. Colfax Ave. Denver CO 80218 United States;X-APPLE-RADIUS=500;X-TITLE=1301 E. Colfax Ave.:geo:-104.970419,39.7402674
END:VEVENT
BEGIN:VEVENT
DTSTART;TZID=America/Denver:20250625T160000
DTEND;TZID=America/Denver:20250625T190000
DTSTAMP:20260422T163354
CREATED:20250516T171925Z
LAST-MODIFIED:20250516T171925Z
UID:10023770-1750867200-1750878000@lgbtqcolorado.org
SUMMARY:Rainbow Alley Drop-In
DESCRIPTION:Ages 10-17  \nTours available upon request\, outside of drop in hours. Contact Vincent at vwong@lgbtqcolorado.org for more information. \nRainbow Alley Drop-In is a safe\, brave space where LGBTQ youth and their allies find support and acceptance. Drop-in programming consists of activities\, community building\, referrals\, and resources all in a warm and welcoming environment. \nJoin us every Wednesday and Thursday from 4:00 - 7:00 PM! Newcomers – join us during the first drop-in of each month for an introduction meeting and activity.
URL:https://lgbtqcolorado.org/event/rainbow-alley-drop-in-wednesdays/2025-06-25/
LOCATION:The Center on Colfax\, 1301 E. Colfax Ave.\, Denver\, CO\, 80218\, United States
CATEGORIES:The Center Calendar,Rainbow Alley,Youth & Young Adult
ATTACH;FMTTYPE=image/png:https://lgbtqcolorado.org/wp-content/uploads/2021/12/RainbowAlleyDropIn-Graphic-1.png
GEO:39.7402674;-104.970419
X-APPLE-STRUCTURED-LOCATION;VALUE=URI;X-ADDRESS=The Center on Colfax 1301 E. Colfax Ave. Denver CO 80218 United States;X-APPLE-RADIUS=500;X-TITLE=1301 E. Colfax Ave.:geo:-104.970419,39.7402674
END:VEVENT
BEGIN:VEVENT
DTSTART;TZID=America/Denver:20250625T170000
DTEND;TZID=America/Denver:20250625T183000
DTSTAMP:20260422T163354
CREATED:20250211T234909Z
LAST-MODIFIED:20260318T165549Z
UID:10021428-1750870800-1750876200@lgbtqcolorado.org
SUMMARY:Rainbow Alley Art Night
DESCRIPTION:
URL:https://lgbtqcolorado.org/event/rainbow-alley-art-night/2025-06-25/
LOCATION:The Center on Colfax\, 1301 E. Colfax Ave.\, Denver\, CO\, 80218\, United States
CATEGORIES:The Center Calendar,Rainbow Alley,Arts & Entertainment,Youth & Young Adult
ATTACH;FMTTYPE=image/jpeg:https://lgbtqcolorado.org/wp-content/uploads/2025/02/2026-RainbowAlley-ArtSpace-16x9-1.jpg
GEO:39.7402674;-104.970419
X-APPLE-STRUCTURED-LOCATION;VALUE=URI;X-ADDRESS=The Center on Colfax 1301 E. Colfax Ave. Denver CO 80218 United States;X-APPLE-RADIUS=500;X-TITLE=1301 E. Colfax Ave.:geo:-104.970419,39.7402674
END:VEVENT
BEGIN:VEVENT
DTSTART;TZID=America/Denver:20250625T174500
DTEND;TZID=America/Denver:20250625T184500
DTSTAMP:20260422T163354
CREATED:20250605T141132Z
LAST-MODIFIED:20250619T174803Z
UID:10024469-1750873500-1750877100@lgbtqcolorado.org
SUMMARY:Free LGBTQ+ Yoga Classes
DESCRIPTION:Celebrate pride and yourself by signing up for free yoga this summer! \nThis summer\, Blake O'Connor is offering free weekly yoga classes specifically for the Denver LGBTQ+ community. These classes are designed for all levels of activity\, flexibility\, and yoga practice experience. As part of his Master's practicum\, these hour-long Ashtanga-style yoga classes (no heat or music) include physical postures (asana) and light breathwork (pranayama) to help you recover\, focus\, and feel great. All we ask is that you commit to attending one class per week for 6 weeks\, and complete three quick surveys (pre\, mid\, post) to help with the research. Classes are designed to help practitioners improve mobility\, enhance concentration\, develop their own practice\, and build community connection in a relaxed setting. \nReady to roll out your mat? Sign-up here. \nCan't make it this summer? No sweat! Sign up to be notified for a second session starting around on August 20th & 21st.
URL:https://lgbtqcolorado.org/event/free-lgbtq-yoga-classes/2025-06-25/
LOCATION:Ashtanga Yoga Denver\, 2501 Larimer Street\, Denver\, CO\, 80205\, United States
CATEGORIES:Community Events,Resources
ATTACH;FMTTYPE=image/jpeg:https://lgbtqcolorado.org/wp-content/uploads/2025/06/2025-FreeYogaClass.jpg
ORGANIZER;CN="Blake O'Connor":MAILTO:blake@wellnready.com
END:VEVENT
BEGIN:VEVENT
DTSTART;TZID=America/Denver:20250625T180000
DTEND;TZID=America/Denver:20250625T200000
DTSTAMP:20260422T163354
CREATED:20251203T200520Z
LAST-MODIFIED:20251203T200520Z
UID:10028519-1750874400-1750881600@lgbtqcolorado.org
SUMMARY:In-Person Trans Masc Support Group
DESCRIPTION:MUST BE 18 YEARS OLD\n\nThis in-person peer lead and confidential support group is for individuals who were assigned female at birth and identify as trans men\, trans masculine\, and/or female-to-male (FtM). This is a safe\, drop-in space providing peer-run social support\, engaging conversation\, and relevant resources to attendees. Support groups at The Center on Colfax are always free to attend. No signup necessary. Walk-ins are welcome. \n\nFor any questions\, please contact Joy Iwancio\, Support Group Coordinator\, at JIwancio@lgbtqcolorado.org.
URL:https://lgbtqcolorado.org/event/in-person-trans-masc-support-group/2025-06-25/
LOCATION:The Center on Colfax\, 1301 E. Colfax Ave.\, Denver\, CO\, 80218\, United States
CATEGORIES:The Center Calendar,Transgender Program,Support Groups
ATTACH;FMTTYPE=image/png:https://lgbtqcolorado.org/wp-content/uploads/2024/01/InPersonTransMasc-16x9-2.png
GEO:39.7402674;-104.970419
X-APPLE-STRUCTURED-LOCATION;VALUE=URI;X-ADDRESS=The Center on Colfax 1301 E. Colfax Ave. Denver CO 80218 United States;X-APPLE-RADIUS=500;X-TITLE=1301 E. Colfax Ave.:geo:-104.970419,39.7402674
END:VEVENT
BEGIN:VEVENT
DTSTART;TZID=America/Denver:20250625T180000
DTEND;TZID=America/Denver:20250627T190000
DTSTAMP:20260422T163354
CREATED:20250624T203815Z
LAST-MODIFIED:20250624T203815Z
UID:10024656-1750874400-1751050800@lgbtqcolorado.org
SUMMARY:The Embodied Revolution
DESCRIPTION:The ER: PRIDE Dance Crew is a 3-day immersion for emerging and established dancers who crave training\, connecting\, and creating new work in a safe\, radically inclusive\, supportive environment. This experience will serve as an artistic leadership training and community care dance activation\, weaving a variety of dance and healing arts modalities. Our journey culminates in a powerful performance art installation and activation at the Downtown Denver Sculpture Park at The Denver Center for the Performing Arts\, becoming a historical piece of performance art\, filmed in Downtown Denver Sculpture Park\, vibrantly expressing and embodying our identities in the here and now of 2025.
URL:https://lgbtqcolorado.org/event/the-embodied-revolution/
LOCATION:1245 Champa Studios (THIRD FLOOR)\, 1245 Champa St\, Denver\, 80204
CATEGORIES:Community Events
ATTACH;FMTTYPE=image/jpeg:https://lgbtqcolorado.org/wp-content/uploads/2025/06/i-am-ma.jpg
ORGANIZER;CN="SOL VIDA":MAILTO:info@solvidaworldwide.com
END:VEVENT
BEGIN:VEVENT
DTSTART;TZID=America/Denver:20250625T190000
DTEND;TZID=America/Denver:20250625T210000
DTSTAMP:20260422T163354
CREATED:20250203T164406Z
LAST-MODIFIED:20250203T164406Z
UID:10020972-1750878000-1750885200@lgbtqcolorado.org
SUMMARY:Tapville Trivia Hosted by Lulu Krystals
DESCRIPTION:Welcome to Tapville Trivia Hosted by Lulu Krystals! Join us for a fun night of brain-teasing questions and friendly competition. Get your thinking caps on and gather your friends for a chance to win some awesome prizes. \nDon't miss out on this exciting event where you can test your knowledge and have a blast with your pals. See you there!
URL:https://lgbtqcolorado.org/event/tapville-trivia-hosted-by-lulu-krystals/2025-06-25/
LOCATION:Tapville Social – Denver\, 1010 Park Avenue West\, Denver\, CO\, 80205\, United States
CATEGORIES:Community Events
ATTACH;FMTTYPE=image/jpeg:https://lgbtqcolorado.org/wp-content/uploads/2025/02/Tapville-Trivia.jpg
ORGANIZER;CN="Tapville":MAILTO:charris@tapvillesocial.com
END:VEVENT
END:VCALENDAR