BEGIN:VCALENDAR
VERSION:2.0
PRODID:-//The Center on Colfax - LGBTQ Colorado - ECPv6.15.20//NONSGML v1.0//EN
CALSCALE:GREGORIAN
METHOD:PUBLISH
X-WR-CALNAME:The Center on Colfax - LGBTQ Colorado
X-ORIGINAL-URL:https://lgbtqcolorado.org
X-WR-CALDESC:Events for The Center on Colfax - LGBTQ Colorado
REFRESH-INTERVAL;VALUE=DURATION:PT1H
X-Robots-Tag:noindex
X-PUBLISHED-TTL:PT1H
BEGIN:VTIMEZONE
TZID:America/Denver
BEGIN:DAYLIGHT
TZOFFSETFROM:-0700
TZOFFSETTO:-0600
TZNAME:MDT
DTSTART:20240310T090000
END:DAYLIGHT
BEGIN:STANDARD
TZOFFSETFROM:-0600
TZOFFSETTO:-0700
TZNAME:MST
DTSTART:20241103T080000
END:STANDARD
BEGIN:DAYLIGHT
TZOFFSETFROM:-0700
TZOFFSETTO:-0600
TZNAME:MDT
DTSTART:20250309T090000
END:DAYLIGHT
BEGIN:STANDARD
TZOFFSETFROM:-0600
TZOFFSETTO:-0700
TZNAME:MST
DTSTART:20251102T080000
END:STANDARD
BEGIN:DAYLIGHT
TZOFFSETFROM:-0700
TZOFFSETTO:-0600
TZNAME:MDT
DTSTART:20260308T090000
END:DAYLIGHT
BEGIN:STANDARD
TZOFFSETFROM:-0600
TZOFFSETTO:-0700
TZNAME:MST
DTSTART:20261101T080000
END:STANDARD
END:VTIMEZONE
BEGIN:VEVENT
DTSTART;VALUE=DATE:20250609
DTEND;VALUE=DATE:20250702
DTSTAMP:20260423T234947
CREATED:20250609T184303Z
LAST-MODIFIED:20250609T184303Z
UID:10024500-1749438000-1751338799@lgbtqcolorado.org
SUMMARY:Wine Dispensary Gives Back to The Center On Colfax
DESCRIPTION:With 3 Locations around Central Denver\, The Wine Dispensary is partnering with The Center on Colfax. Join us at any of our locations or online to receive 5% off purchases over $20. The Wine Dispensary will directly give The Center on Colfax 20% back on any new customer with 10% back for any returning customer. \nUse code 'TheCenterOnColfax' \nThe Wine Dispensary proudly supports the LGBTQ+ community and are excited to partner with such an amazing organization! \nFree Wine tastings available these locations/times \n\nWine Dispensary 1590 Little Raven Street Denver Co 80202  : Thursday/Friday/Saturday 4pm-7pm\nBoulevard Bottle Shop 275 S Sheridan Blvd unit 104 Lakewood CO 80226  : Thursday/Saturday 4pm-6pm
URL:https://lgbtqcolorado.org/event/wine-dispensary-gives-back/
LOCATION:The Wine Dispensary\, 1590 Little Raven St #175\, Denver\, 80202
CATEGORIES:Community Events
ORGANIZER;CN="The Wine Dispensary":MAILTO:info@winedispensary.com
END:VEVENT
BEGIN:VEVENT
DTSTART;TZID=America/Denver:20250623T100000
DTEND;TZID=America/Denver:20250623T120000
DTSTAMP:20260423T234947
CREATED:20240117T174137Z
LAST-MODIFIED:20260109T230535Z
UID:10007625-1750672800-1750680000@lgbtqcolorado.org
SUMMARY:The Lesbian Lounge
DESCRIPTION:In need of a little conversation\, fun\, learning\, and community? This weekly group is focused on supporting queer-identifying women through conversation\, creativity\, and learning. These peer led conversations will focus on anything from relationships\, to health\, to current events with the occasional workshop. \nWhen: Every Monday from 10:00 AM - 12:00 PM \nLocation: Stonewall Meeting Room at The Center on Colfax - 1301 East Colfax Avenue\, Denver\, CO\, 80218
URL:https://lgbtqcolorado.org/event/lesbian-lounge/2025-06-23/
LOCATION:Stonewall Meeting Room\, 1301 E. Colfax Ave.\, Denver\, Colorado\, 80218
CATEGORIES:The Center Calendar,West of 50,Older Adults
ATTACH;FMTTYPE=image/jpeg:https://lgbtqcolorado.org/wp-content/uploads/2024/01/2025-LesbianLounge-16x9-1.jpg
END:VEVENT
BEGIN:VEVENT
DTSTART;TZID=America/Denver:20250623T130000
DTEND;TZID=America/Denver:20250623T150000
DTSTAMP:20260423T234947
CREATED:20250325T163617Z
LAST-MODIFIED:20250325T164326Z
UID:10022921-1750683600-1750690800@lgbtqcolorado.org
SUMMARY:Servicios de la Raza Drop In: Square Stitch Key Chains
DESCRIPTION:Servicios de la Raza estará ofreciendo asistencia para personas de la comunidad que estén buscando asesoría como: administración de servicios y abogacía para víctimas de violencia intrafamiliar y otros crímenes en general. Adicionalmente\, podremos referir dependiendo de sus necesidades a otros servicios dentro de Servicios de la Raza u otras agencias que ofrecen servicios esenciales de emergencia. \nServicios de la Raza will be hosting drop-ins in which community members can seek the following services: case management and legal victim advocacy for victims of domestic violence and general crime. In addition\, we will be able to refer clients within and outside of the agency and emergency essential items. \nFecha/Date: Los últimos 2 lunes de cada mes / Last two Mondays of each month \nHora/Time: 1:00 - 3:00 PM \nSitio/Location: Visibility Room at The Center on Colfax - 1301 East Colfax Avenue\, Denver\, CO 80218 \n\n\n\n2025 Temas / 2025 Topics\n\nApril 21 and 28: Regular Outreach\nMay 19: Beaded Jewelry\nJune 16 and 23: Square Stitch Key Chains\nJuly 21: Regular Outreach\nJuly 28: AcuDetox\nAugust 18 and 25: Regular Outreach\nSeptember 22 and 29: Regular Outreach\nOctober 20 and 27: Mask Making and Pumpkin Decorating\nNovember 17 and 24: Thanksgiving Crafts\nNovember 26 (4:00 - 5:00 PM): AcuDetox\nDecember 15 and 22: Christmas Crafts
URL:https://lgbtqcolorado.org/event/servicios-de-la-raza-square-stitch-key-chains-2/
LOCATION:Visibility Room\, 1301 E. Colfax Ave.\, Denver\, Colorado\, 80218
CATEGORIES:Community Events,Resources,The Center Calendar
ATTACH;FMTTYPE=image/png:https://lgbtqcolorado.org/wp-content/uploads/2024/04/ServiciosDeLaRaza-Spanish-16x9-1.png
END:VEVENT
BEGIN:VEVENT
DTSTART;TZID=America/Denver:20250623T180000
DTEND;TZID=America/Denver:20250623T200000
DTSTAMP:20260423T234947
CREATED:20220103T194659Z
LAST-MODIFIED:20251006T154444Z
UID:10011093-1750701600-1750708800@lgbtqcolorado.org
SUMMARY:Online Ace Space Support Group
DESCRIPTION:This online peer lead and confidential support group is for individuals who identify along the asexual and/or aromantic spectrums\, including (but not limited to) demiromantic\, demisexual\, greyromantic\, and greysexual. This is a safe space providing peer-run social support\, engaging conversation\, and relevant resources to attendees. Support groups at The Center on Colfax are always free to attend. \nDates: Join us on the Fourth Monday of each month in-person from 6:00 - 8:00 PM \nLocation: Online via Zoom \nFor Registration and/or Questions: Please contact Terwanda McMoore\, Support Group Coordinator\, at tmcmoore@lgbtqcolorado.org
URL:https://lgbtqcolorado.org/event/ace-space-online/2025-06-23/
LOCATION:Online
CATEGORIES:The Center Calendar,Transgender Program,Support Groups,Transgender
ATTACH;FMTTYPE=image/png:https://lgbtqcolorado.org/wp-content/uploads/2022/01/AceSpace-Online-16x9-1.png
END:VEVENT
BEGIN:VEVENT
DTSTART;TZID=America/Denver:20250623T181500
DTEND;TZID=America/Denver:20250623T194500
DTSTAMP:20260423T234947
CREATED:20221208T174353Z
LAST-MODIFIED:20260121T235413Z
UID:10029504-1750702500-1750707900@lgbtqcolorado.org
SUMMARY:Stitch & Bitch
DESCRIPTION:Do you have a sewing or crafting project you’ve been meaning to get done but don’t have the motivation or time? Do you enjoy creating in a group? Do you want to have a Kiki? If our answer is yes to any of these questions\, then join us for Stitch & Bitch! \nStitch & Bitch provides space for sewing\, crafting and conversation. The Center will have sewing needles\, thread\, basic crafting supplies\, and sewing machines available for use during these sessions. \nDates: Every Monday \nTime: 6:15 - 7:45 PM \nFor more information\, please contact Bryant at bmehay@lgbtqcolorado.org
URL:https://lgbtqcolorado.org/event/stitch-bitch-2/2025-06-23/
LOCATION:Activity/Multipurpose Room\, 1301 E Colfax Ave\, Denver\, CO\, 80218
CATEGORIES:The Center Calendar,West of 50,Arts & Entertainment,Older Adults,Social & Nightlife
ATTACH;FMTTYPE=image/jpeg:https://lgbtqcolorado.org/wp-content/uploads/2022/12/StitchBitch-Graphics-02.jpg
ORGANIZER;CN="Bryant Mehay%2C Coordinator of Elder and Disability Services":MAILTO:bmehay@lgbtqcolorado.org
END:VEVENT
BEGIN:VEVENT
DTSTART;TZID=America/Denver:20250623T183000
DTEND;TZID=America/Denver:20250623T200000
DTSTAMP:20260423T234947
CREATED:20240905T225342Z
LAST-MODIFIED:20251006T154130Z
UID:10018669-1750703400-1750708800@lgbtqcolorado.org
SUMMARY:Online Trans Masc Support Group - Second and Fourth Mondays
DESCRIPTION:MUST BE 18 YEARS OLD\n\nThis online peer lead and confidential support group is for individuals who were assigned female at birth and identify as trans men\, trans masculine\, and/or female-to-male (FtM). This is a safe space providing peer-run social support\, engaging conversation\, and relevant resources to attendees. Support groups at The Center on Colfax are always free to attend.\n\nDates: Join us on the Second and Fourth Monday of every month online from 6:30 - 8:00 PM \nFor Registration and/or Questions: Please contact Terwanda McMoore\, Support Group Coordinator\, at tmcmoore@lgbtqcolorado.org
URL:https://lgbtqcolorado.org/event/online-trans-masc-support-group-3/2025-06-23/
LOCATION:Online
CATEGORIES:The Center Calendar,Transgender Program,Support Groups
ATTACH;FMTTYPE=image/png:https://lgbtqcolorado.org/wp-content/uploads/2022/04/OnlineTransMasc-16x9-2.png
END:VEVENT
END:VCALENDAR