BEGIN:VCALENDAR
VERSION:2.0
PRODID:-//The Center on Colfax - LGBTQ Colorado - ECPv6.15.20//NONSGML v1.0//EN
CALSCALE:GREGORIAN
METHOD:PUBLISH
X-WR-CALNAME:The Center on Colfax - LGBTQ Colorado
X-ORIGINAL-URL:https://lgbtqcolorado.org
X-WR-CALDESC:Events for The Center on Colfax - LGBTQ Colorado
REFRESH-INTERVAL;VALUE=DURATION:PT1H
X-Robots-Tag:noindex
X-PUBLISHED-TTL:PT1H
BEGIN:VTIMEZONE
TZID:America/Denver
BEGIN:DAYLIGHT
TZOFFSETFROM:-0700
TZOFFSETTO:-0600
TZNAME:MDT
DTSTART:20240310T090000
END:DAYLIGHT
BEGIN:STANDARD
TZOFFSETFROM:-0600
TZOFFSETTO:-0700
TZNAME:MST
DTSTART:20241103T080000
END:STANDARD
BEGIN:DAYLIGHT
TZOFFSETFROM:-0700
TZOFFSETTO:-0600
TZNAME:MDT
DTSTART:20250309T090000
END:DAYLIGHT
BEGIN:STANDARD
TZOFFSETFROM:-0600
TZOFFSETTO:-0700
TZNAME:MST
DTSTART:20251102T080000
END:STANDARD
BEGIN:DAYLIGHT
TZOFFSETFROM:-0700
TZOFFSETTO:-0600
TZNAME:MDT
DTSTART:20260308T090000
END:DAYLIGHT
BEGIN:STANDARD
TZOFFSETFROM:-0600
TZOFFSETTO:-0700
TZNAME:MST
DTSTART:20261101T080000
END:STANDARD
END:VTIMEZONE
BEGIN:VEVENT
DTSTART;VALUE=DATE:20250609
DTEND;VALUE=DATE:20250702
DTSTAMP:20260421T193503
CREATED:20250609T184303Z
LAST-MODIFIED:20250609T184303Z
UID:10024500-1749438000-1751338799@lgbtqcolorado.org
SUMMARY:Wine Dispensary Gives Back to The Center On Colfax
DESCRIPTION:With 3 Locations around Central Denver\, The Wine Dispensary is partnering with The Center on Colfax. Join us at any of our locations or online to receive 5% off purchases over $20. The Wine Dispensary will directly give The Center on Colfax 20% back on any new customer with 10% back for any returning customer. \nUse code 'TheCenterOnColfax' \nThe Wine Dispensary proudly supports the LGBTQ+ community and are excited to partner with such an amazing organization! \nFree Wine tastings available these locations/times \n\nWine Dispensary 1590 Little Raven Street Denver Co 80202  : Thursday/Friday/Saturday 4pm-7pm\nBoulevard Bottle Shop 275 S Sheridan Blvd unit 104 Lakewood CO 80226  : Thursday/Saturday 4pm-6pm
URL:https://lgbtqcolorado.org/event/wine-dispensary-gives-back/
LOCATION:The Wine Dispensary\, 1590 Little Raven St #175\, Denver\, 80202
CATEGORIES:Community Events
ORGANIZER;CN="The Wine Dispensary":MAILTO:info@winedispensary.com
END:VEVENT
BEGIN:VEVENT
DTSTART;TZID=America/Denver:20250618T103000
DTEND;TZID=America/Denver:20250618T113000
DTSTAMP:20260421T193503
CREATED:20200403T154033Z
LAST-MODIFIED:20251029T185417Z
UID:10005635-1750242600-1750246200@lgbtqcolorado.org
SUMMARY:Hybrid In-Person/Virtual Silver Sneakers Chair Yoga
DESCRIPTION:A certified Silver Sneakers® instructor will lead participants through a complete series of chair assisted yoga poses designed to increase flexibility\, balance and range of movement. Silver Sneakers® membership is not required. \nDates: Every Wednesday \nTime: 10:30 - 11:30 AM \nLocation: Virtual or In-Person at The Center on Colfax - 1301 E. Colfax Ave\, Denver\, CO\, 80218 \nFor Registration and/or Questions: Please contact Bryant Mehay at bmehay@LGBTQColorado.org
URL:https://lgbtqcolorado.org/event/silver-sneakers-chair-yoga/2025-06-18/
LOCATION:The Center on Colfax\, 1301 E. Colfax Ave.\, Denver\, CO\, 80218\, United States
CATEGORIES:The Center Calendar,West of 50
ATTACH;FMTTYPE=image/jpeg:https://lgbtqcolorado.org/wp-content/uploads/2020/04/OnlineSilverSneakersChairYoga_Web.jpg
GEO:39.7402674;-104.970419
X-APPLE-STRUCTURED-LOCATION;VALUE=URI;X-ADDRESS=The Center on Colfax 1301 E. Colfax Ave. Denver CO 80218 United States;X-APPLE-RADIUS=500;X-TITLE=1301 E. Colfax Ave.:geo:-104.970419,39.7402674
END:VEVENT
BEGIN:VEVENT
DTSTART;TZID=America/Denver:20250618T143000
DTEND;TZID=America/Denver:20250618T160000
DTSTAMP:20260421T193503
CREATED:20230118T032014Z
LAST-MODIFIED:20250604T162958Z
UID:10014026-1750257000-1750262400@lgbtqcolorado.org
SUMMARY:Colorado Fingerprinting
DESCRIPTION:The Center on Colfax is happy to bring in Colorado Fingerprinting to provide fingerprinting services at The Center on Colfax\, every Wednesday from 2:30 - 4:30 PM. \nPlease schedule an appointment with Colorado Fingerprinting via their website. \nColorado Fingerprinting provides services for Colorado Name Change Project\, Kinship Adoptions\, 24/48 Hour FBI Background Checks\, FBI Background Checks\, CBI Checks\, Finger Print Cards\, Florida Livescan\, and FINRA.
URL:https://lgbtqcolorado.org/event/fingerprinting/2025-06-18/
LOCATION:The Center on Colfax\, 1301 E. Colfax Ave.\, Denver\, CO\, 80218\, United States
CATEGORIES:Community Events,Resources,The Center Calendar
ATTACH;FMTTYPE=image/jpeg:https://lgbtqcolorado.org/wp-content/uploads/2023/01/fingerprining.jpg
GEO:39.7402674;-104.970419
X-APPLE-STRUCTURED-LOCATION;VALUE=URI;X-ADDRESS=The Center on Colfax 1301 E. Colfax Ave. Denver CO 80218 United States;X-APPLE-RADIUS=500;X-TITLE=1301 E. Colfax Ave.:geo:-104.970419,39.7402674
END:VEVENT
BEGIN:VEVENT
DTSTART;TZID=America/Denver:20250618T160000
DTEND;TZID=America/Denver:20250618T190000
DTSTAMP:20260421T193503
CREATED:20250516T171925Z
LAST-MODIFIED:20250516T171925Z
UID:10023769-1750262400-1750273200@lgbtqcolorado.org
SUMMARY:Rainbow Alley Drop-In
DESCRIPTION:Ages 10-17  \nTours available upon request\, outside of drop in hours. Contact Vincent at vwong@lgbtqcolorado.org for more information. \nRainbow Alley Drop-In is a safe\, brave space where LGBTQ youth and their allies find support and acceptance. Drop-in programming consists of activities\, community building\, referrals\, and resources all in a warm and welcoming environment. \nJoin us every Wednesday and Thursday from 4:00 - 7:00 PM! Newcomers – join us during the first drop-in of each month for an introduction meeting and activity.
URL:https://lgbtqcolorado.org/event/rainbow-alley-drop-in-wednesdays/2025-06-18/
LOCATION:The Center on Colfax\, 1301 E. Colfax Ave.\, Denver\, CO\, 80218\, United States
CATEGORIES:The Center Calendar,Rainbow Alley,Youth & Young Adult
ATTACH;FMTTYPE=image/png:https://lgbtqcolorado.org/wp-content/uploads/2021/12/RainbowAlleyDropIn-Graphic-1.png
GEO:39.7402674;-104.970419
X-APPLE-STRUCTURED-LOCATION;VALUE=URI;X-ADDRESS=The Center on Colfax 1301 E. Colfax Ave. Denver CO 80218 United States;X-APPLE-RADIUS=500;X-TITLE=1301 E. Colfax Ave.:geo:-104.970419,39.7402674
END:VEVENT
BEGIN:VEVENT
DTSTART;TZID=America/Denver:20250618T170000
DTEND;TZID=America/Denver:20250618T190000
DTSTAMP:20260421T193503
CREATED:20250514T151235Z
LAST-MODIFIED:20250514T151235Z
UID:10023491-1750266000-1750273200@lgbtqcolorado.org
SUMMARY:DIHFS Pride Party
DESCRIPTION:Join Denver Indian Health and Family Services for our Pride Party - a free\, family-friendly celebration of our LGBTQ+ and Two-Spirit community. We’ll have a cookout (dinner provided by our very own Chef Zach!)\, a community health fair\, harm reduction materials\, and more. \nClick here to learn more and RSVP. \nDate: Wednesday\, June 18 \nTime: 5:00 - 7:00 PM \nLocation: 2880 W Holden Pl\, Denver\, CO 80204
URL:https://lgbtqcolorado.org/event/dihfs-pride-party/
LOCATION:Denver Indian Health and Family Services\, 2880 W Holden Pl\, Denver\, CO\, 80204\, United States
CATEGORIES:Community Events,Pride
ATTACH;FMTTYPE=image/jpeg:https://lgbtqcolorado.org/wp-content/uploads/2025/05/undefined.jpg
ORGANIZER;CN="DIHFS":MAILTO:dmckee@dihfs.org
END:VEVENT
BEGIN:VEVENT
DTSTART;TZID=America/Denver:20250618T174500
DTEND;TZID=America/Denver:20250618T184500
DTSTAMP:20260421T193503
CREATED:20250605T141132Z
LAST-MODIFIED:20250619T174803Z
UID:10024467-1750268700-1750272300@lgbtqcolorado.org
SUMMARY:Free LGBTQ+ Yoga Classes
DESCRIPTION:Celebrate pride and yourself by signing up for free yoga this summer! \nThis summer\, Blake O'Connor is offering free weekly yoga classes specifically for the Denver LGBTQ+ community. These classes are designed for all levels of activity\, flexibility\, and yoga practice experience. As part of his Master's practicum\, these hour-long Ashtanga-style yoga classes (no heat or music) include physical postures (asana) and light breathwork (pranayama) to help you recover\, focus\, and feel great. All we ask is that you commit to attending one class per week for 6 weeks\, and complete three quick surveys (pre\, mid\, post) to help with the research. Classes are designed to help practitioners improve mobility\, enhance concentration\, develop their own practice\, and build community connection in a relaxed setting. \nReady to roll out your mat? Sign-up here. \nCan't make it this summer? No sweat! Sign up to be notified for a second session starting around on August 20th & 21st.
URL:https://lgbtqcolorado.org/event/free-lgbtq-yoga-classes/2025-06-18/
LOCATION:Ashtanga Yoga Denver\, 2501 Larimer Street\, Denver\, CO\, 80205\, United States
CATEGORIES:Community Events,Resources
ATTACH;FMTTYPE=image/jpeg:https://lgbtqcolorado.org/wp-content/uploads/2025/06/2025-FreeYogaClass.jpg
ORGANIZER;CN="Blake O'Connor":MAILTO:blake@wellnready.com
END:VEVENT
BEGIN:VEVENT
DTSTART;TZID=America/Denver:20250618T180000
DTEND;TZID=America/Denver:20250618T200000
DTSTAMP:20260421T193503
CREATED:20250522T164447Z
LAST-MODIFIED:20250522T164447Z
UID:10024110-1750269600-1750276800@lgbtqcolorado.org
SUMMARY:Charlie’s “Cow Boys” kicks off Pride with Benefit Dinner to honor dream of “Manito” Scholarship
DESCRIPTION:On Wed.\, June 18th\, from 6 pm to 8 pm\, the “Cow Boys” of Charlie’s are wrangling up a Taco Bar extravaganza as they kick off Pride. The dinner will benefit a very unique scholarship at Regis University known as the Cameron Jesse and Joana Lucero Manito Scholarship. \nThe history of this scholarship sets it apart from all others. When Cameron Jesse enrolled at MSU Denver in the fall of 2022\, the 25-year-old gay transfer student from Colorado Springs had big dreams. As a proud member of the MSU Denver Journey Through Our Heritage program\, he was given free rein to design a community service project. Knowing firsthand how LGBT students from rural areas lack support services and a sense of cultural identity\, he jumped at the opportunity to collaborate with Regis University to create a scholarship inspired by the family of  Joanna Lucero. \n“Our family had lived openly gay since the 1940s and were among Denver’s first families to lose a son to the AIDs epidemic of the 1980s\,” said Lucero’s God Daughter Kali Fajardo-Anstine\, who memorialized matriarch Mary Lopez Dussart in her novel Woman of Light. \nJesse was so inspired by the family that his meticulous research uncovered Lucero’s lost interviews with renowned Lesbian archivist Katie Gilmartin. This detailed research set a solid foundation for the scholarship.  “I am a Manito\, a descendant of people who have roots going back hundreds of years to the Spanish and indigenous populations in Southern Colorado & Northern New Mexico. I also know the difficulty of growing up in a conservative town. When I learned there was a family of queers just like me who were out of the closet since the 1940’s I was all in to help create this scholarship.” Jesse commented while doing his research. \nTragically\, Jesse died in September of 2023 before the Manito Scholarship was finalized. Lucero told her family\, “That boy did not get to live his life. I did\, me and all my queer aunties and tio’s\, we lived a huge life for many years. I want you to rename the scholarship for that young boy so he will be remembered for what he stood for.” \nHowever\, the prospects of continuing the scholarship looked grim as Lucero herself died a few months later. That’s when Charlie’s Denver stepped in. They were so touched by Jesse’s efforts that they hosted a special drag show featuring iconic Trixxie Deluxxe in the summer of 2024 to help raise funds for the scholarship. \n“They went all out to honor our son and honor his efforts to create this scholarship.”  Said Jesse’s mom\, Cindy. “They brought in so many performers\, and a memorial video of Cammy. It was a labor of love.” \nCharlie’s also committed to continuing their efforts yearly until the scholarship was endowed. Making good on that promise\, all proceeds from the Taco Bar Dinner on June 18th   will go to the scholarship. The event is $40 per person and includes dinner and an 1800 Cucumber/ Jalapeño Margarita. Tickets must be purchased by Fri. June 18th.   \n“This young gay student’s selfless dream was to create a scholarship that recognized the early gay communities in Denver\, who have been overlooked.  Cameron put great effort into a project that would honor those who laid the groundwork for the modern LGBTQ+ rights movement.” Said Charlie’s General Manager\, Edd Schommer\, “What Cameron was doing was very special\, and he deserves to be remembered.  He did not get to live to see his dream come true\, but we at Charlie’s can help ensure his dream lives on.” \nOver the years Charlie’s\, in keeping with founder John King’s legacy of giving\, has raised millions of dollars to support charitable causes.
URL:https://lgbtqcolorado.org/event/charlies-cow-boys-kicks-off-pride-with-benefit-dinner-to-honor-dream-of-manito-scholarship/
LOCATION:Charlie’s Night Club\, 900 E Colfax\, Denver\, CO\, 80218\, United States
CATEGORIES:Community Events,Pride
ATTACH;FMTTYPE=image/jpeg:https://lgbtqcolorado.org/wp-content/uploads/2025/05/Charlies-2025-June-18th-.jpg
END:VEVENT
BEGIN:VEVENT
DTSTART;TZID=America/Denver:20250618T180000
DTEND;TZID=America/Denver:20250618T200000
DTSTAMP:20260421T193503
CREATED:20251203T200520Z
LAST-MODIFIED:20251203T200520Z
UID:10028518-1750269600-1750276800@lgbtqcolorado.org
SUMMARY:In-Person Trans Masc Support Group
DESCRIPTION:MUST BE 18 YEARS OLD\n\nThis in-person peer lead and confidential support group is for individuals who were assigned female at birth and identify as trans men\, trans masculine\, and/or female-to-male (FtM). This is a safe\, drop-in space providing peer-run social support\, engaging conversation\, and relevant resources to attendees. Support groups at The Center on Colfax are always free to attend. No signup necessary. Walk-ins are welcome. \n\nFor any questions\, please contact Joy Iwancio\, Support Group Coordinator\, at JIwancio@lgbtqcolorado.org.
URL:https://lgbtqcolorado.org/event/in-person-trans-masc-support-group/2025-06-18/
LOCATION:The Center on Colfax\, 1301 E. Colfax Ave.\, Denver\, CO\, 80218\, United States
CATEGORIES:The Center Calendar,Transgender Program,Support Groups
ATTACH;FMTTYPE=image/png:https://lgbtqcolorado.org/wp-content/uploads/2024/01/InPersonTransMasc-16x9-2.png
GEO:39.7402674;-104.970419
X-APPLE-STRUCTURED-LOCATION;VALUE=URI;X-ADDRESS=The Center on Colfax 1301 E. Colfax Ave. Denver CO 80218 United States;X-APPLE-RADIUS=500;X-TITLE=1301 E. Colfax Ave.:geo:-104.970419,39.7402674
END:VEVENT
END:VCALENDAR