BEGIN:VCALENDAR
VERSION:2.0
PRODID:-//The Center on Colfax - LGBTQ Colorado - ECPv6.15.20//NONSGML v1.0//EN
CALSCALE:GREGORIAN
METHOD:PUBLISH
X-WR-CALNAME:The Center on Colfax - LGBTQ Colorado
X-ORIGINAL-URL:https://lgbtqcolorado.org
X-WR-CALDESC:Events for The Center on Colfax - LGBTQ Colorado
REFRESH-INTERVAL;VALUE=DURATION:PT1H
X-Robots-Tag:noindex
X-PUBLISHED-TTL:PT1H
BEGIN:VTIMEZONE
TZID:America/Denver
BEGIN:DAYLIGHT
TZOFFSETFROM:-0700
TZOFFSETTO:-0600
TZNAME:MDT
DTSTART:20240310T090000
END:DAYLIGHT
BEGIN:STANDARD
TZOFFSETFROM:-0600
TZOFFSETTO:-0700
TZNAME:MST
DTSTART:20241103T080000
END:STANDARD
BEGIN:DAYLIGHT
TZOFFSETFROM:-0700
TZOFFSETTO:-0600
TZNAME:MDT
DTSTART:20250309T090000
END:DAYLIGHT
BEGIN:STANDARD
TZOFFSETFROM:-0600
TZOFFSETTO:-0700
TZNAME:MST
DTSTART:20251102T080000
END:STANDARD
BEGIN:DAYLIGHT
TZOFFSETFROM:-0700
TZOFFSETTO:-0600
TZNAME:MDT
DTSTART:20260308T090000
END:DAYLIGHT
BEGIN:STANDARD
TZOFFSETFROM:-0600
TZOFFSETTO:-0700
TZNAME:MST
DTSTART:20261101T080000
END:STANDARD
END:VTIMEZONE
BEGIN:VEVENT
DTSTART;VALUE=DATE:20250609
DTEND;VALUE=DATE:20250702
DTSTAMP:20260421T092819
CREATED:20250609T184303Z
LAST-MODIFIED:20250609T184303Z
UID:10024500-1749438000-1751338799@lgbtqcolorado.org
SUMMARY:Wine Dispensary Gives Back to The Center On Colfax
DESCRIPTION:With 3 Locations around Central Denver\, The Wine Dispensary is partnering with The Center on Colfax. Join us at any of our locations or online to receive 5% off purchases over $20. The Wine Dispensary will directly give The Center on Colfax 20% back on any new customer with 10% back for any returning customer. \nUse code 'TheCenterOnColfax' \nThe Wine Dispensary proudly supports the LGBTQ+ community and are excited to partner with such an amazing organization! \nFree Wine tastings available these locations/times \n\nWine Dispensary 1590 Little Raven Street Denver Co 80202  : Thursday/Friday/Saturday 4pm-7pm\nBoulevard Bottle Shop 275 S Sheridan Blvd unit 104 Lakewood CO 80226  : Thursday/Saturday 4pm-6pm
URL:https://lgbtqcolorado.org/event/wine-dispensary-gives-back/
LOCATION:The Wine Dispensary\, 1590 Little Raven St #175\, Denver\, 80202
CATEGORIES:Community Events
ORGANIZER;CN="The Wine Dispensary":MAILTO:info@winedispensary.com
END:VEVENT
BEGIN:VEVENT
DTSTART;TZID=America/Denver:20250611T103000
DTEND;TZID=America/Denver:20250611T113000
DTSTAMP:20260421T092819
CREATED:20200403T154033Z
LAST-MODIFIED:20251029T185417Z
UID:10005634-1749637800-1749641400@lgbtqcolorado.org
SUMMARY:Hybrid In-Person/Virtual Silver Sneakers Chair Yoga
DESCRIPTION:A certified Silver Sneakers® instructor will lead participants through a complete series of chair assisted yoga poses designed to increase flexibility\, balance and range of movement. Silver Sneakers® membership is not required. \nDates: Every Wednesday \nTime: 10:30 - 11:30 AM \nLocation: Virtual or In-Person at The Center on Colfax - 1301 E. Colfax Ave\, Denver\, CO\, 80218 \nFor Registration and/or Questions: Please contact Bryant Mehay at bmehay@LGBTQColorado.org
URL:https://lgbtqcolorado.org/event/silver-sneakers-chair-yoga/2025-06-11/
LOCATION:The Center on Colfax\, 1301 E. Colfax Ave.\, Denver\, CO\, 80218\, United States
CATEGORIES:The Center Calendar,West of 50
ATTACH;FMTTYPE=image/jpeg:https://lgbtqcolorado.org/wp-content/uploads/2020/04/OnlineSilverSneakersChairYoga_Web.jpg
GEO:39.7402674;-104.970419
X-APPLE-STRUCTURED-LOCATION;VALUE=URI;X-ADDRESS=The Center on Colfax 1301 E. Colfax Ave. Denver CO 80218 United States;X-APPLE-RADIUS=500;X-TITLE=1301 E. Colfax Ave.:geo:-104.970419,39.7402674
END:VEVENT
BEGIN:VEVENT
DTSTART;TZID=America/Denver:20250611T120000
DTEND;TZID=America/Denver:20250611T160000
DTSTAMP:20260421T092819
CREATED:20250414T161225Z
LAST-MODIFIED:20250414T163907Z
UID:10023147-1749643200-1749657600@lgbtqcolorado.org
SUMMARY:Stories of Pride: A Queer Film Making Intensive
DESCRIPTION:
URL:https://lgbtqcolorado.org/event/stories-of-pride/2025-06-11/
LOCATION:The Center on Colfax\, 1301 E. Colfax Ave.\, Denver\, CO\, 80218\, United States
CATEGORIES:Community Events,The Center Calendar,Rainbow Alley,Arts & Entertainment,Youth & Young Adult
ATTACH;FMTTYPE=image/jpeg:https://lgbtqcolorado.org/wp-content/uploads/2025/04/2025-StoriesOfPride-16x9-1.jpg
GEO:39.7402674;-104.970419
X-APPLE-STRUCTURED-LOCATION;VALUE=URI;X-ADDRESS=The Center on Colfax 1301 E. Colfax Ave. Denver CO 80218 United States;X-APPLE-RADIUS=500;X-TITLE=1301 E. Colfax Ave.:geo:-104.970419,39.7402674
END:VEVENT
BEGIN:VEVENT
DTSTART;TZID=America/Denver:20250611T130000
DTEND;TZID=America/Denver:20250611T140000
DTSTAMP:20260421T092819
CREATED:20240926T215038Z
LAST-MODIFIED:20250905T011438Z
UID:10018875-1749646800-1749650400@lgbtqcolorado.org
SUMMARY:Push'n Pansies
DESCRIPTION:Push'n Pansies\nDeath is not a topic that many like to discuss. But the end of the rainbow is inevitable. Push'n Pansies is a brave space for individuals to come together and discuss the end of life\, learn about resources\, and discover the strength to normalize aging and death. \nDates: Second Wednesday of Each Month \nTime: 1:00 - 2:00 PM \nLocation: The Center on Colfax - 1301 East Colfax Ave\, Denver\, CO 80218
URL:https://lgbtqcolorado.org/event/pushn-pansies/2025-06-11/
LOCATION:The Center on Colfax\, 1301 E. Colfax Ave.\, Denver\, CO\, 80218\, United States
CATEGORIES:The Center Calendar,West of 50,Older Adults
ATTACH;FMTTYPE=image/jpeg:https://lgbtqcolorado.org/wp-content/uploads/2024/09/2024-PushnPansies-Graphics-16x9-1.jpg
GEO:39.7402674;-104.970419
X-APPLE-STRUCTURED-LOCATION;VALUE=URI;X-ADDRESS=The Center on Colfax 1301 E. Colfax Ave. Denver CO 80218 United States;X-APPLE-RADIUS=500;X-TITLE=1301 E. Colfax Ave.:geo:-104.970419,39.7402674
END:VEVENT
BEGIN:VEVENT
DTSTART;TZID=America/Denver:20250611T143000
DTEND;TZID=America/Denver:20250611T160000
DTSTAMP:20260421T092819
CREATED:20230118T032014Z
LAST-MODIFIED:20250604T162958Z
UID:10014025-1749652200-1749657600@lgbtqcolorado.org
SUMMARY:Colorado Fingerprinting
DESCRIPTION:The Center on Colfax is happy to bring in Colorado Fingerprinting to provide fingerprinting services at The Center on Colfax\, every Wednesday from 2:30 - 4:30 PM. \nPlease schedule an appointment with Colorado Fingerprinting via their website. \nColorado Fingerprinting provides services for Colorado Name Change Project\, Kinship Adoptions\, 24/48 Hour FBI Background Checks\, FBI Background Checks\, CBI Checks\, Finger Print Cards\, Florida Livescan\, and FINRA.
URL:https://lgbtqcolorado.org/event/fingerprinting/2025-06-11/
LOCATION:The Center on Colfax\, 1301 E. Colfax Ave.\, Denver\, CO\, 80218\, United States
CATEGORIES:Community Events,Resources,The Center Calendar
ATTACH;FMTTYPE=image/jpeg:https://lgbtqcolorado.org/wp-content/uploads/2023/01/fingerprining.jpg
GEO:39.7402674;-104.970419
X-APPLE-STRUCTURED-LOCATION;VALUE=URI;X-ADDRESS=The Center on Colfax 1301 E. Colfax Ave. Denver CO 80218 United States;X-APPLE-RADIUS=500;X-TITLE=1301 E. Colfax Ave.:geo:-104.970419,39.7402674
END:VEVENT
BEGIN:VEVENT
DTSTART;TZID=America/Denver:20250611T170000
DTEND;TZID=America/Denver:20250611T183000
DTSTAMP:20260421T092819
CREATED:20250207T193404Z
LAST-MODIFIED:20260210T203825Z
UID:10030048-1749661200-1749666600@lgbtqcolorado.org
SUMMARY:Tarot Workshop with Bridge the Gap Tarot
DESCRIPTION:
URL:https://lgbtqcolorado.org/event/rainbow-alley-tarot-workshop/2025-06-11/
LOCATION:The Center on Colfax\, 1301 E. Colfax Ave.\, Denver\, CO\, 80218\, United States
CATEGORIES:The Center Calendar,Rainbow Alley,Arts & Entertainment,Youth & Young Adult
ATTACH;FMTTYPE=image/jpeg:https://lgbtqcolorado.org/wp-content/uploads/2025/02/2026-RATarotGroup-16x9-1.jpg
GEO:39.7402674;-104.970419
X-APPLE-STRUCTURED-LOCATION;VALUE=URI;X-ADDRESS=The Center on Colfax 1301 E. Colfax Ave. Denver CO 80218 United States;X-APPLE-RADIUS=500;X-TITLE=1301 E. Colfax Ave.:geo:-104.970419,39.7402674
END:VEVENT
BEGIN:VEVENT
DTSTART;TZID=America/Denver:20250611T180000
DTEND;TZID=America/Denver:20250611T200000
DTSTAMP:20260421T092819
CREATED:20251203T200520Z
LAST-MODIFIED:20251203T200520Z
UID:10028517-1749664800-1749672000@lgbtqcolorado.org
SUMMARY:In-Person Trans Masc Support Group
DESCRIPTION:MUST BE 18 YEARS OLD\n\nThis in-person peer lead and confidential support group is for individuals who were assigned female at birth and identify as trans men\, trans masculine\, and/or female-to-male (FtM). This is a safe\, drop-in space providing peer-run social support\, engaging conversation\, and relevant resources to attendees. Support groups at The Center on Colfax are always free to attend. No signup necessary. Walk-ins are welcome. \n\nFor any questions\, please contact Joy Iwancio\, Support Group Coordinator\, at JIwancio@lgbtqcolorado.org.
URL:https://lgbtqcolorado.org/event/in-person-trans-masc-support-group/2025-06-11/
LOCATION:The Center on Colfax\, 1301 E. Colfax Ave.\, Denver\, CO\, 80218\, United States
CATEGORIES:The Center Calendar,Transgender Program,Support Groups
ATTACH;FMTTYPE=image/png:https://lgbtqcolorado.org/wp-content/uploads/2024/01/InPersonTransMasc-16x9-2.png
GEO:39.7402674;-104.970419
X-APPLE-STRUCTURED-LOCATION;VALUE=URI;X-ADDRESS=The Center on Colfax 1301 E. Colfax Ave. Denver CO 80218 United States;X-APPLE-RADIUS=500;X-TITLE=1301 E. Colfax Ave.:geo:-104.970419,39.7402674
END:VEVENT
BEGIN:VEVENT
DTSTART;TZID=America/Denver:20250611T183000
DTEND;TZID=America/Denver:20250611T203000
DTSTAMP:20260421T092819
CREATED:20250606T152627Z
LAST-MODIFIED:20250606T152627Z
UID:10024492-1749666600-1749673800@lgbtqcolorado.org
SUMMARY:Hot\, Gay Solidarity Summer: Write Letters and Create Art for Incarcerated LGBTQ+ Folks
DESCRIPTION:This Pride Month in Denver\, we’re writing letters of love and solidarity to LGBTQ+ people behind bars. No one should be forgotten. Join us to uplift voices\, build connection\, and resist isolation through care. RSVP at tinyurl.com/CLC-PrideLetterParty to get updates on the event!
URL:https://lgbtqcolorado.org/event/hot-gay-solidarity-summer-write-letters-and-create-art-for-incarcerated-lgbtq-folks/
LOCATION:City of Cuernavaca Park – Picnic Area\, 3500 Rockmont Drive\, Denver\, CO\, 80202\, United States
CATEGORIES:Community Events
ORGANIZER;CN="Colorado Liberation Collective":MAILTO:https://www.instagram.com/colorado.liberation.collective/?igsh=ZWhkMHV6OWZwN2Vu
END:VEVENT
END:VCALENDAR