BEGIN:VCALENDAR
VERSION:2.0
PRODID:-//The Center on Colfax - LGBTQ Colorado - ECPv6.15.20//NONSGML v1.0//EN
CALSCALE:GREGORIAN
METHOD:PUBLISH
X-ORIGINAL-URL:https://lgbtqcolorado.org
X-WR-CALDESC:Events for The Center on Colfax - LGBTQ Colorado
REFRESH-INTERVAL;VALUE=DURATION:PT1H
X-Robots-Tag:noindex
X-PUBLISHED-TTL:PT1H
BEGIN:VTIMEZONE
TZID:America/Denver
BEGIN:DAYLIGHT
TZOFFSETFROM:-0700
TZOFFSETTO:-0600
TZNAME:MDT
DTSTART:20240310T090000
END:DAYLIGHT
BEGIN:STANDARD
TZOFFSETFROM:-0600
TZOFFSETTO:-0700
TZNAME:MST
DTSTART:20241103T080000
END:STANDARD
BEGIN:DAYLIGHT
TZOFFSETFROM:-0700
TZOFFSETTO:-0600
TZNAME:MDT
DTSTART:20250309T090000
END:DAYLIGHT
BEGIN:STANDARD
TZOFFSETFROM:-0600
TZOFFSETTO:-0700
TZNAME:MST
DTSTART:20251102T080000
END:STANDARD
BEGIN:DAYLIGHT
TZOFFSETFROM:-0700
TZOFFSETTO:-0600
TZNAME:MDT
DTSTART:20260308T090000
END:DAYLIGHT
BEGIN:STANDARD
TZOFFSETFROM:-0600
TZOFFSETTO:-0700
TZNAME:MST
DTSTART:20261101T080000
END:STANDARD
END:VTIMEZONE
BEGIN:VEVENT
DTSTART;VALUE=DATE:20250609
DTEND;VALUE=DATE:20250702
DTSTAMP:20260421T092925
CREATED:20250609T184303Z
LAST-MODIFIED:20250609T184303Z
UID:10024500-1749438000-1751338799@lgbtqcolorado.org
SUMMARY:Wine Dispensary Gives Back to The Center On Colfax
DESCRIPTION:With 3 Locations around Central Denver\, The Wine Dispensary is partnering with The Center on Colfax. Join us at any of our locations or online to receive 5% off purchases over $20. The Wine Dispensary will directly give The Center on Colfax 20% back on any new customer with 10% back for any returning customer. \nUse code 'TheCenterOnColfax' \nThe Wine Dispensary proudly supports the LGBTQ+ community and are excited to partner with such an amazing organization! \nFree Wine tastings available these locations/times \n\nWine Dispensary 1590 Little Raven Street Denver Co 80202  : Thursday/Friday/Saturday 4pm-7pm\nBoulevard Bottle Shop 275 S Sheridan Blvd unit 104 Lakewood CO 80226  : Thursday/Saturday 4pm-6pm
URL:https://lgbtqcolorado.org/event/wine-dispensary-gives-back/
LOCATION:The Wine Dispensary\, 1590 Little Raven St #175\, Denver\, 80202
CATEGORIES:Community Events
ORGANIZER;CN="The Wine Dispensary":MAILTO:info@winedispensary.com
END:VEVENT
BEGIN:VEVENT
DTSTART;TZID=America/Denver:20250610T100000
DTEND;TZID=America/Denver:20250610T120000
DTSTAMP:20260421T092925
CREATED:20200403T153634Z
LAST-MODIFIED:20251112T205607Z
UID:10005386-1749549600-1749556800@lgbtqcolorado.org
SUMMARY:Men's Coffee Group
DESCRIPTION:Virtual/In-Person Hybrid Men's Coffee Group \nA weekly group for men focusing on conversation and friendship. \nGroup details: A weekly drop-in group for individuals 50+. Tuesdays\, 10:00 a.m—12:00 p.m \nFor Registration and/or Questions\nIf interested in these activities\, please contact Westof50@lgbtqcolorado.org
URL:https://lgbtqcolorado.org/event/mens-coffee/2025-06-10/
LOCATION:The Center on Colfax\, 1301 E. Colfax Ave.\, Denver\, CO\, 80218\, United States
CATEGORIES:The Center Calendar,West of 50,Older Adults
ATTACH;FMTTYPE=image/png:https://lgbtqcolorado.org/wp-content/uploads/2020/04/OnlineMensCoffeeGroup_website.png
GEO:39.7402674;-104.970419
X-APPLE-STRUCTURED-LOCATION;VALUE=URI;X-ADDRESS=The Center on Colfax 1301 E. Colfax Ave. Denver CO 80218 United States;X-APPLE-RADIUS=500;X-TITLE=1301 E. Colfax Ave.:geo:-104.970419,39.7402674
END:VEVENT
BEGIN:VEVENT
DTSTART;TZID=America/Denver:20250610T120000
DTEND;TZID=America/Denver:20250610T160000
DTSTAMP:20260421T092925
CREATED:20250414T161225Z
LAST-MODIFIED:20250414T163907Z
UID:10023146-1749556800-1749571200@lgbtqcolorado.org
SUMMARY:Stories of Pride: A Queer Film Making Intensive
DESCRIPTION:
URL:https://lgbtqcolorado.org/event/stories-of-pride/2025-06-10/
LOCATION:The Center on Colfax\, 1301 E. Colfax Ave.\, Denver\, CO\, 80218\, United States
CATEGORIES:Community Events,The Center Calendar,Rainbow Alley,Arts & Entertainment,Youth & Young Adult
ATTACH;FMTTYPE=image/jpeg:https://lgbtqcolorado.org/wp-content/uploads/2025/04/2025-StoriesOfPride-16x9-1.jpg
GEO:39.7402674;-104.970419
X-APPLE-STRUCTURED-LOCATION;VALUE=URI;X-ADDRESS=The Center on Colfax 1301 E. Colfax Ave. Denver CO 80218 United States;X-APPLE-RADIUS=500;X-TITLE=1301 E. Colfax Ave.:geo:-104.970419,39.7402674
END:VEVENT
BEGIN:VEVENT
DTSTART;TZID=America/Denver:20250610T143000
DTEND;TZID=America/Denver:20250610T160000
DTSTAMP:20260421T092925
CREATED:20240102T163937Z
LAST-MODIFIED:20251006T153908Z
UID:10010049-1749565800-1749571200@lgbtqcolorado.org
SUMMARY:Online Trans & Nonbinary Adults 40+ Group
DESCRIPTION:This peer led group welcomes all transgender and nonbinary adults to an online space where they can come together for conversation and connections. \nDetails: A weekly\, drop-in friendly group for individuals 40 years or older. \nDate: Every Tuesday \nTime: 2:30 - 4:00 PM \nFor Registration and/or Questions: Please contact Terwanda McMoore\, Support Group Coordinator\, at tmcmoore@lgbtqcolorado.org
URL:https://lgbtqcolorado.org/event/online-trans-non-binary-adults-40/2025-06-10/
LOCATION:Online
CATEGORIES:The Center Calendar,Transgender Program,Older Adults,Support Groups,Transgender
ATTACH;FMTTYPE=image/png:https://lgbtqcolorado.org/wp-content/uploads/2020/10/content_trans_and_non-binary_gender_flags.png
END:VEVENT
BEGIN:VEVENT
DTSTART;TZID=America/Denver:20250610T160000
DTEND;TZID=America/Denver:20250610T190000
DTSTAMP:20260421T092925
CREATED:20230123T230901Z
LAST-MODIFIED:20250722T161741Z
UID:10009785-1749571200-1749582000@lgbtqcolorado.org
SUMMARY:Young Adult Drop In Hours
DESCRIPTION:Our Young Adult Drop In Hours are a casual space for LGBTQ+ young adults to come build community\, socialize\, engage with educational workshops\, and participate in community events. Young Adult Drop In Hours include activities such as cooking classes\, guest speakers\, occasional field trips\, resources\, and more. \nDates: Every Tuesday \nTime: 4:00 - 7:00 PM \nLocation: The Center on Colfax - 1301 E. Colfax Ave\, Denver\, CO\, 80218 \nAges: 18-24 years old \nAny questions? Please contact Nick at nmassey@lgbtqcolorado.org
URL:https://lgbtqcolorado.org/event/young-adult-drop-in/2025-06-10/
LOCATION:The Center on Colfax\, 1301 E. Colfax Ave.\, Denver\, CO\, 80218\, United States
CATEGORIES:Young Adults and Adults Program,The Center Calendar,Youth & Young Adult
ATTACH;FMTTYPE=image/jpeg:https://lgbtqcolorado.org/wp-content/uploads/2023/01/2025-YoungAdultDropIn-16x9-V2.jpg
GEO:39.7402674;-104.970419
X-APPLE-STRUCTURED-LOCATION;VALUE=URI;X-ADDRESS=The Center on Colfax 1301 E. Colfax Ave. Denver CO 80218 United States;X-APPLE-RADIUS=500;X-TITLE=1301 E. Colfax Ave.:geo:-104.970419,39.7402674
END:VEVENT
BEGIN:VEVENT
DTSTART;TZID=America/Denver:20250610T170000
DTEND;TZID=America/Denver:20250610T183000
DTSTAMP:20260421T092925
CREATED:20250512T221934Z
LAST-MODIFIED:20250514T155723Z
UID:10023487-1749574800-1749580200@lgbtqcolorado.org
SUMMARY:Private Spaces: Queer History of Capitol Hill
DESCRIPTION:Join Historic Denver and The Center on Colfax in celebrating the LGBTQ+ History of Capitol Hill. This tour covers the late 19th century through Denver's "Stonewall Moment" in 1973 when the Gay Coalition of Denver (GCD) helped stop police harassment and bring about LGBTQ+ liberation in Denver. \nLearn how Capitol Hill became an LGBTQ+ neighborhood\, explore the Denver Mattachine Society - the first Denver collective against police harassment - and uncover hidden spaces for LGBTQ+ people in Capitol Hill. The essential question asks: Where are our memorials? \nCost: $25 for public; $20 for Historic Denver Members \nClick here to get your tickets!
URL:https://lgbtqcolorado.org/event/private-spaces-queer-history-of-capitol-hill/2025-06-10/
LOCATION:Molly Brown House Museum\, 1340 Pennsylvania Street\, Denver\, CO\, 80203\, United States
CATEGORIES:Community Events,Colorado LGBTQ History Project,The Center Calendar,History
ATTACH;FMTTYPE=image/jpeg:https://lgbtqcolorado.org/wp-content/uploads/2025/05/250512_LHCD_HD-Tours_Grid-General.jpg
END:VEVENT
BEGIN:VEVENT
DTSTART;TZID=America/Denver:20250610T180000
DTEND;TZID=America/Denver:20250610T193000
DTSTAMP:20260421T092925
CREATED:20250303T184453Z
LAST-MODIFIED:20260304T220903Z
UID:10032530-1749578400-1749583800@lgbtqcolorado.org
SUMMARY:BIPOC Peer Support Group
DESCRIPTION:Join our hybrid BIPOC peer support group! This group is here to support those in the LGBTQ+ community who have an intersecting BIPOC identity. Participants can expect to meet others in the community who closely identity with them\, learn about themselves and about the many other factors that could contribute to their overall well-being. \nAges: 18+ years old \nDates: Second Tuesday of each month \nTime: 6:00 - 7:30 PM \nIn-Person Attendance: The Center on Colfax - 1301 East Colfax Avenue\, Denver\, CO\, 80218 \nVirtual Attendance: Via Zoom - Click here for the meeting link \n\nMeeting ID: 886 8738 5939\nPasscode: 754647\n\nAny questions? Please contact Jaylin Goodloe at jgoodloe@lgbtqcolorado.org.
URL:https://lgbtqcolorado.org/event/bipoc-support/2025-06-10/
LOCATION:Virtual – Zoom
CATEGORIES:Glass Lawler Mental Health,The Center Calendar,Support Groups
ATTACH;FMTTYPE=image/jpeg:https://lgbtqcolorado.org/wp-content/uploads/2023/06/2025-BIPOCPeerSupportGroup-16x9-1.jpg
END:VEVENT
BEGIN:VEVENT
DTSTART;TZID=America/Denver:20250610T183000
DTEND;TZID=America/Denver:20250610T200000
DTSTAMP:20260421T092925
CREATED:20220111T175217Z
LAST-MODIFIED:20251006T153924Z
UID:10005278-1749580200-1749585600@lgbtqcolorado.org
SUMMARY:Online Nonbinary Support Group
DESCRIPTION:MUST BE 18 YEARS OLD \nThis online peer lead and confidential support group provides peer support and resources to those who identify outside the gender binary\, including gender queer\, agender\, gender fluid\, bi-gender\, or gender non-conforming people. This is a safe space providing peer-run social support\, engaging conversation\, and relevant resources to attendees. Support groups at The Center on Colfax are always free to attend. Support groups at The Center on Colfax are always free to attend. \nDates: Join us the second and fourth Tuesdays of every month from 6:30 - 8:00 PM. \nFor Registration and/or Questions: Please contact Terwanda McMoore\, Support Group Coordinator\, at tmcmoore@lgbtqcolorado.org
URL:https://lgbtqcolorado.org/event/online-nonbinary-support-group/2025-06-10/
LOCATION:Virtual
CATEGORIES:The Center Calendar,Transgender Program,Support Groups,Transgender
ATTACH;FMTTYPE=image/png:https://lgbtqcolorado.org/wp-content/uploads/2023/09/OnlineNonBinary-16x9-1.png
END:VEVENT
BEGIN:VEVENT
DTSTART;TZID=America/Denver:20250610T190000
DTEND;TZID=America/Denver:20250610T200000
DTSTAMP:20260421T092925
CREATED:20240816T180453Z
LAST-MODIFIED:20240816T180741Z
UID:10017730-1749582000-1749585600@lgbtqcolorado.org
SUMMARY:Narcotics Anonymous
DESCRIPTION:Please join us for a weekly meeting for Narcotics Anonymous. \nDates: Every Tuesday\, 7:00 - 8:00 PM and Every Saturday\, 1:00 - 2:00 PM \nWhere: The Phoenix Annex Building - 2221 Champa Street\, Denver\, CO 80205
URL:https://lgbtqcolorado.org/event/narcotics-anonymous/2025-06-10/
LOCATION:The Phoenix – Annex Building\, 2221 Champa Street\, Denver\, CO\, 80205\, United States
CATEGORIES:Community Events,Support Groups
ATTACH;FMTTYPE=image/jpeg:https://lgbtqcolorado.org/wp-content/uploads/2022/04/NA_group_logo_Jimmy_K.jpg
ORGANIZER;CN="The Phoenix":MAILTO:richard@thephoenix.org
END:VEVENT
END:VCALENDAR