BEGIN:VCALENDAR
VERSION:2.0
PRODID:-//The Center on Colfax - LGBTQ Colorado - ECPv6.15.20//NONSGML v1.0//EN
CALSCALE:GREGORIAN
METHOD:PUBLISH
X-WR-CALNAME:The Center on Colfax - LGBTQ Colorado
X-ORIGINAL-URL:https://lgbtqcolorado.org
X-WR-CALDESC:Events for The Center on Colfax - LGBTQ Colorado
REFRESH-INTERVAL;VALUE=DURATION:PT1H
X-Robots-Tag:noindex
X-PUBLISHED-TTL:PT1H
BEGIN:VTIMEZONE
TZID:America/Denver
BEGIN:DAYLIGHT
TZOFFSETFROM:-0700
TZOFFSETTO:-0600
TZNAME:MDT
DTSTART:20240310T090000
END:DAYLIGHT
BEGIN:STANDARD
TZOFFSETFROM:-0600
TZOFFSETTO:-0700
TZNAME:MST
DTSTART:20241103T080000
END:STANDARD
BEGIN:DAYLIGHT
TZOFFSETFROM:-0700
TZOFFSETTO:-0600
TZNAME:MDT
DTSTART:20250309T090000
END:DAYLIGHT
BEGIN:STANDARD
TZOFFSETFROM:-0600
TZOFFSETTO:-0700
TZNAME:MST
DTSTART:20251102T080000
END:STANDARD
BEGIN:DAYLIGHT
TZOFFSETFROM:-0700
TZOFFSETTO:-0600
TZNAME:MDT
DTSTART:20260308T090000
END:DAYLIGHT
BEGIN:STANDARD
TZOFFSETFROM:-0600
TZOFFSETTO:-0700
TZNAME:MST
DTSTART:20261101T080000
END:STANDARD
END:VTIMEZONE
BEGIN:VEVENT
DTSTART;TZID=America/Denver:20250605T200000
DTEND;TZID=America/Denver:20250609T210000
DTSTAMP:20260421T110850
CREATED:20250502T220751Z
LAST-MODIFIED:20250502T220859Z
UID:10023331-1749153600-1749502800@lgbtqcolorado.org
SUMMARY:Arkham A$$ylum: An [After Dark] Knight Burlesque
DESCRIPTION:Join us for an unforgettable evening where the world of CHICAGO collides with the shadows of Gotham! This unique production flips the Dark Knight narrative on its head by putting Batman on trial. Watch as iconic characters like the Joker\, Catwoman\, Harley Quinn\, Riddler\, Poison Ivy\, and Bane come to life\, questioning who the true villain really is. Expect a night filled with laughter\, chaos\, and enough clever penal system puns to keep you entertained! Prepare for an evening of spectacle featuring dazzling cirque performances\, jaw-dropping drag\, sultry burlesque\, and live performances. \nWritten by Andy Might \nCast: \nBatman: Bill D'Bare \nJoker: Richi Ramos \nCatwoman: Miss Monroe \nPoison Ivy: Char Grey \nHarley Quinn: Kezabel \nRiddler: August Celestial \nBane: Throbbin Hood
URL:https://lgbtqcolorado.org/event/arkham-aylum-an-after-dark-knight-burlesque/2025-06-05/
LOCATION:Cleo Parker Robinson\, 119 Park Ave W\, Denver\, CO\, 80205\, United States
CATEGORIES:Community Events
ATTACH;FMTTYPE=image/jpeg:https://lgbtqcolorado.org/wp-content/uploads/2025/05/Assylum_cast__1_.jpg
ORGANIZER;CN="Denver Fringe Festival":MAILTO:info@denverfringe.org
END:VEVENT
BEGIN:VEVENT
DTSTART;VALUE=DATE:20250609
DTEND;VALUE=DATE:20250702
DTSTAMP:20260421T110850
CREATED:20250609T184303Z
LAST-MODIFIED:20250609T184303Z
UID:10024500-1749438000-1751338799@lgbtqcolorado.org
SUMMARY:Wine Dispensary Gives Back to The Center On Colfax
DESCRIPTION:With 3 Locations around Central Denver\, The Wine Dispensary is partnering with The Center on Colfax. Join us at any of our locations or online to receive 5% off purchases over $20. The Wine Dispensary will directly give The Center on Colfax 20% back on any new customer with 10% back for any returning customer. \nUse code 'TheCenterOnColfax' \nThe Wine Dispensary proudly supports the LGBTQ+ community and are excited to partner with such an amazing organization! \nFree Wine tastings available these locations/times \n\nWine Dispensary 1590 Little Raven Street Denver Co 80202  : Thursday/Friday/Saturday 4pm-7pm\nBoulevard Bottle Shop 275 S Sheridan Blvd unit 104 Lakewood CO 80226  : Thursday/Saturday 4pm-6pm
URL:https://lgbtqcolorado.org/event/wine-dispensary-gives-back/
LOCATION:The Wine Dispensary\, 1590 Little Raven St #175\, Denver\, 80202
CATEGORIES:Community Events
ORGANIZER;CN="The Wine Dispensary":MAILTO:info@winedispensary.com
END:VEVENT
BEGIN:VEVENT
DTSTART;TZID=America/Denver:20250609T100000
DTEND;TZID=America/Denver:20250609T120000
DTSTAMP:20260421T110850
CREATED:20240117T174137Z
LAST-MODIFIED:20260109T230535Z
UID:10007623-1749463200-1749470400@lgbtqcolorado.org
SUMMARY:The Lesbian Lounge
DESCRIPTION:In need of a little conversation\, fun\, learning\, and community? This weekly group is focused on supporting queer-identifying women through conversation\, creativity\, and learning. These peer led conversations will focus on anything from relationships\, to health\, to current events with the occasional workshop. \nWhen: Every Monday from 10:00 AM - 12:00 PM \nLocation: Stonewall Meeting Room at The Center on Colfax - 1301 East Colfax Avenue\, Denver\, CO\, 80218
URL:https://lgbtqcolorado.org/event/lesbian-lounge/2025-06-09/
LOCATION:Stonewall Meeting Room\, 1301 E. Colfax Ave.\, Denver\, Colorado\, 80218
CATEGORIES:The Center Calendar,West of 50,Older Adults
ATTACH;FMTTYPE=image/jpeg:https://lgbtqcolorado.org/wp-content/uploads/2024/01/2025-LesbianLounge-16x9-1.jpg
END:VEVENT
BEGIN:VEVENT
DTSTART;TZID=America/Denver:20250609T120000
DTEND;TZID=America/Denver:20250609T160000
DTSTAMP:20260421T110850
CREATED:20250414T161225Z
LAST-MODIFIED:20250414T163907Z
UID:10023145-1749470400-1749484800@lgbtqcolorado.org
SUMMARY:Stories of Pride: A Queer Film Making Intensive
DESCRIPTION:
URL:https://lgbtqcolorado.org/event/stories-of-pride/2025-06-09/
LOCATION:The Center on Colfax\, 1301 E. Colfax Ave.\, Denver\, CO\, 80218\, United States
CATEGORIES:Community Events,The Center Calendar,Rainbow Alley,Arts & Entertainment,Youth & Young Adult
ATTACH;FMTTYPE=image/jpeg:https://lgbtqcolorado.org/wp-content/uploads/2025/04/2025-StoriesOfPride-16x9-1.jpg
GEO:39.7402674;-104.970419
X-APPLE-STRUCTURED-LOCATION;VALUE=URI;X-ADDRESS=The Center on Colfax 1301 E. Colfax Ave. Denver CO 80218 United States;X-APPLE-RADIUS=500;X-TITLE=1301 E. Colfax Ave.:geo:-104.970419,39.7402674
END:VEVENT
BEGIN:VEVENT
DTSTART;TZID=America/Denver:20250609T133000
DTEND;TZID=America/Denver:20250609T150000
DTSTAMP:20260421T110850
CREATED:20240108T205424Z
LAST-MODIFIED:20251014T181814Z
UID:10004665-1749475800-1749481200@lgbtqcolorado.org
SUMMARY:Telling your Story
DESCRIPTION:Participants are provided a weekly topic that sparks memories\, connections\, and friendships. We welcome all and are open to people who choose to compose their stories or tell others about their experiences.  \nGroup details: A weekly drop-in friendly group for individuals 50+. Mondays\, 1:30 - 3:00 PM \nUPCOMING TOPICS \n\nJanuary 20: The Center on Colfax is CLOSED for Martin Luther King Jr. Day\nApril 28: Fire\nMay 5: Pastimes / Hobbies\nMay 12: Hats\nMay 19: Push Me / Pull You\nMay 26: The Center on Colfax is CLOSED for Memorial Day\nJune 2: Regrets\nJune 9: When in Greece / Grease\nJune 16: Too Cool\nJune 23: Meaningful Trips I Have Taken\nJune 30: Responsibility\nJuly 7: The Center on Colfax is CLOSED for Staff Recovery Day\nJuly 14: Avalanche\nJuly 21: Monumental Blunder\nJuly 28: Can't Make It Work\nAugust 4: Profanity\nAugust 11: Coming Undone\nAugust 18: Faith / Spirituality\nAugust 25: Plan B\nSeptember 1: The Center on Colfax is CLOSED for Labor Day\nSeptember 8: The Women in My Life\nSeptember 15: Routine\nSeptember 22: Adjusting\nSeptember 29: That's Sick / Sic\nOctober 6: If It's Not Broke\, Don't Fix It\nOctober 13: Changing Gears\nOctober 20: Not My Fault\n\nPlease Note: If Center is closed on a Monday for other reasons not listed above\, please prepare the topic listed for following week. \nFor Registration and/or Questions? Contact Bryant Mehay at bmehay@lgbtqcolorado.org
URL:https://lgbtqcolorado.org/event/telling-your-story/2025-06-09/
LOCATION:Leadership Meeting Room\, 1301 E. Colfax Ave.\, Denver\, Colorado\, 80218
CATEGORIES:The Center Calendar,West of 50,Older Adults
ATTACH;FMTTYPE=image/png:https://lgbtqcolorado.org/wp-content/uploads/2020/04/OnlineTellingYourStory_web.png
ORGANIZER;CN="Jason Eaton-Lynch":MAILTO:jeatonlynch@lgbtqcolorado.org
END:VEVENT
BEGIN:VEVENT
DTSTART;TZID=America/Denver:20250609T180000
DTEND;TZID=America/Denver:20250609T200000
DTSTAMP:20260421T110850
CREATED:20231011T163130Z
LAST-MODIFIED:20250805T162005Z
UID:10015451-1749492000-1749499200@lgbtqcolorado.org
SUMMARY:In-Person Ace Space Support Group
DESCRIPTION:This in-person peer lead and confidential support group is for individuals who identify along the asexual and/or aromantic spectrums\, including (but not limited to) demiromantic\, demisexual\, greyromantic\, and greysexual. This is a safe space providing peer-run social support\, engaging conversation\, and relevant resources to attendees. Support groups at The Center on Colfax are always free to attend. \nHow to Get Involved: Contact Joy Iwancio\, Director of Transgender Services\, at JIwancio@lgbtqcolorado.org \nDates: Join us on the Second Monday of each month in-person from 6:00 - 8:00 PM \nLocation: The Center on Colfax - 1301 East Colfax Ave\, Denver\, CO 80218
URL:https://lgbtqcolorado.org/event/ace-space-in-person/2025-06-09/
LOCATION:Stonewall Meeting Room\, 1301 E. Colfax Ave.\, Denver\, Colorado\, 80218
CATEGORIES:The Center Calendar,Transgender Program,Support Groups,Transgender
ATTACH;FMTTYPE=image/png:https://lgbtqcolorado.org/wp-content/uploads/2022/01/AceSpace-InPerson-16x9-1.png
END:VEVENT
BEGIN:VEVENT
DTSTART;TZID=America/Denver:20250609T180000
DTEND;TZID=America/Denver:20250609T200000
DTSTAMP:20260421T110850
CREATED:20250606T152357Z
LAST-MODIFIED:20250606T152357Z
UID:10024491-1749492000-1749499200@lgbtqcolorado.org
SUMMARY:TransAmericaRide Celebration and Drag Trivia at Lady Justice Brewery
DESCRIPTION:Join Ray Franks as he bikes across America in support of The Trevor Project and Lamba Legal. Follow him on InstaG @transamericaride and come have some fun and a beer: Lady Justice (also hosting their Drag Trivia night) will be donating every pour of their Strawberry La Lager! \nRay is a cis gender father who is cycling from LA to NYC in support of LGBQT+ Lives.
URL:https://lgbtqcolorado.org/event/transamericaride-celebration-and-drag-trivia-at-lady-justice-brewery/
LOCATION:Lady Justice Brewery\, 3242 S. Acoma Street\,\, Englewood CO\, 80110
CATEGORIES:Community Events
END:VEVENT
BEGIN:VEVENT
DTSTART;TZID=America/Denver:20250609T181500
DTEND;TZID=America/Denver:20250609T194500
DTSTAMP:20260421T110850
CREATED:20221208T174353Z
LAST-MODIFIED:20260121T235413Z
UID:10029503-1749492900-1749498300@lgbtqcolorado.org
SUMMARY:Stitch & Bitch
DESCRIPTION:Do you have a sewing or crafting project you’ve been meaning to get done but don’t have the motivation or time? Do you enjoy creating in a group? Do you want to have a Kiki? If our answer is yes to any of these questions\, then join us for Stitch & Bitch! \nStitch & Bitch provides space for sewing\, crafting and conversation. The Center will have sewing needles\, thread\, basic crafting supplies\, and sewing machines available for use during these sessions. \nDates: Every Monday \nTime: 6:15 - 7:45 PM \nFor more information\, please contact Bryant at bmehay@lgbtqcolorado.org
URL:https://lgbtqcolorado.org/event/stitch-bitch-2/2025-06-09/
LOCATION:Activity/Multipurpose Room\, 1301 E Colfax Ave\, Denver\, CO\, 80218
CATEGORIES:The Center Calendar,West of 50,Arts & Entertainment,Older Adults,Social & Nightlife
ATTACH;FMTTYPE=image/jpeg:https://lgbtqcolorado.org/wp-content/uploads/2022/12/StitchBitch-Graphics-02.jpg
ORGANIZER;CN="Bryant Mehay%2C Coordinator of Elder and Disability Services":MAILTO:bmehay@lgbtqcolorado.org
END:VEVENT
BEGIN:VEVENT
DTSTART;TZID=America/Denver:20250609T183000
DTEND;TZID=America/Denver:20250609T200000
DTSTAMP:20260421T110850
CREATED:20240905T225211Z
LAST-MODIFIED:20251006T154110Z
UID:10018609-1749493800-1749499200@lgbtqcolorado.org
SUMMARY:Online Trans Masc Support Group - Second and Fourth Mondays
DESCRIPTION:MUST BE 18 YEARS OLD\n\nThis online peer lead and confidential support group is for individuals who were assigned female at birth and identify as trans men\, trans masculine\, and/or female-to-male (FtM). This is a safe space providing peer-run social support\, engaging conversation\, and relevant resources to attendees. Support groups at The Center on Colfax are always free to attend.\n\nDates: Join us on the Second and Fourth Monday of every month online from 6:30 - 8:00 PM \nFor Registration and/or Questions: Please contact Terwanda McMoore\, Support Group Coordinator\, at tmcmoore@lgbtqcolorado.org
URL:https://lgbtqcolorado.org/event/online-trans-masc-support-group-2/2025-06-09/
LOCATION:Online
CATEGORIES:The Center Calendar,Transgender Program,Support Groups
ATTACH;FMTTYPE=image/png:https://lgbtqcolorado.org/wp-content/uploads/2022/04/OnlineTransMasc-16x9-2.png
END:VEVENT
END:VCALENDAR