BEGIN:VCALENDAR
VERSION:2.0
PRODID:-//The Center on Colfax - LGBTQ Colorado - ECPv6.15.20//NONSGML v1.0//EN
CALSCALE:GREGORIAN
METHOD:PUBLISH
X-ORIGINAL-URL:https://lgbtqcolorado.org
X-WR-CALDESC:Events for The Center on Colfax - LGBTQ Colorado
REFRESH-INTERVAL;VALUE=DURATION:PT1H
X-Robots-Tag:noindex
X-PUBLISHED-TTL:PT1H
BEGIN:VTIMEZONE
TZID:America/Denver
BEGIN:DAYLIGHT
TZOFFSETFROM:-0700
TZOFFSETTO:-0600
TZNAME:MDT
DTSTART:20240310T090000
END:DAYLIGHT
BEGIN:STANDARD
TZOFFSETFROM:-0600
TZOFFSETTO:-0700
TZNAME:MST
DTSTART:20241103T080000
END:STANDARD
BEGIN:DAYLIGHT
TZOFFSETFROM:-0700
TZOFFSETTO:-0600
TZNAME:MDT
DTSTART:20250309T090000
END:DAYLIGHT
BEGIN:STANDARD
TZOFFSETFROM:-0600
TZOFFSETTO:-0700
TZNAME:MST
DTSTART:20251102T080000
END:STANDARD
BEGIN:DAYLIGHT
TZOFFSETFROM:-0700
TZOFFSETTO:-0600
TZNAME:MDT
DTSTART:20260308T090000
END:DAYLIGHT
BEGIN:STANDARD
TZOFFSETFROM:-0600
TZOFFSETTO:-0700
TZNAME:MST
DTSTART:20261101T080000
END:STANDARD
END:VTIMEZONE
BEGIN:VEVENT
DTSTART;TZID=America/Denver:20250605T200000
DTEND;TZID=America/Denver:20250609T210000
DTSTAMP:20260423T140733
CREATED:20250502T220751Z
LAST-MODIFIED:20250502T220859Z
UID:10023331-1749153600-1749502800@lgbtqcolorado.org
SUMMARY:Arkham A$$ylum: An [After Dark] Knight Burlesque
DESCRIPTION:Join us for an unforgettable evening where the world of CHICAGO collides with the shadows of Gotham! This unique production flips the Dark Knight narrative on its head by putting Batman on trial. Watch as iconic characters like the Joker\, Catwoman\, Harley Quinn\, Riddler\, Poison Ivy\, and Bane come to life\, questioning who the true villain really is. Expect a night filled with laughter\, chaos\, and enough clever penal system puns to keep you entertained! Prepare for an evening of spectacle featuring dazzling cirque performances\, jaw-dropping drag\, sultry burlesque\, and live performances. \nWritten by Andy Might \nCast: \nBatman: Bill D'Bare \nJoker: Richi Ramos \nCatwoman: Miss Monroe \nPoison Ivy: Char Grey \nHarley Quinn: Kezabel \nRiddler: August Celestial \nBane: Throbbin Hood
URL:https://lgbtqcolorado.org/event/arkham-aylum-an-after-dark-knight-burlesque/2025-06-05/
LOCATION:Cleo Parker Robinson\, 119 Park Ave W\, Denver\, CO\, 80205\, United States
CATEGORIES:Community Events
ATTACH;FMTTYPE=image/jpeg:https://lgbtqcolorado.org/wp-content/uploads/2025/05/Assylum_cast__1_.jpg
ORGANIZER;CN="Denver Fringe Festival":MAILTO:info@denverfringe.org
END:VEVENT
BEGIN:VEVENT
DTSTART;TZID=America/Denver:20250608T100000
DTEND;TZID=America/Denver:20250608T113000
DTSTAMP:20260423T140733
CREATED:20250602T160359Z
LAST-MODIFIED:20250602T162711Z
UID:10024307-1749376800-1749382200@lgbtqcolorado.org
SUMMARY:Church Pride Events
DESCRIPTION:Wheat Ridge Congregational Church UCC has two events going on during the month of June. \nWe are pleased to have the Phoenix\, Colorado's Trans Community Choir and Arts Collective participate in our service on Sunday\, June 8th starting at 10 AM. \nFor our second event on Sunday\, June 22nd\, we will have the Sage Out & About outreach ensemble of Sage Singers join us to present several songs from their recent Sage Pride Concert. \nALL ARE WELCOME
URL:https://lgbtqcolorado.org/event/church-pride-events/2025-06-08/
LOCATION:Wheat Ridge Congregational Church\, 6310 W 29th Avenue\, Wheat Ridge\, 80214
CATEGORIES:Community Events
ATTACH;FMTTYPE=image/jpeg:https://lgbtqcolorado.org/wp-content/uploads/2025/05/WRCC-Pride-2025-Music_page-0001.jpg
END:VEVENT
BEGIN:VEVENT
DTSTART;TZID=America/Denver:20250608T100000
DTEND;TZID=America/Denver:20250608T113000
DTSTAMP:20260423T140733
CREATED:20250603T221926Z
LAST-MODIFIED:20250603T221926Z
UID:10024393-1749376800-1749382200@lgbtqcolorado.org
SUMMARY:History of Queer Colorado: Collab with Colorado History Rides
DESCRIPTION:Join us for a joyful\, educational spin through Denver’s LGBTQ+ history. We’ll roll out from Cheesman Pavilion for a ~1.5 hour guided loop that celebrates the stories\, spaces\, and spirit of the LGBTQ+ community. Bring your bike\, your curiosity\, and your Pride — all wheels and identities welcome. \nJoin us afterwards for a bike and a drink at Illegal Petes on Colfax! \nOnly those who have signed our waiver can join our rides. We invite prospective members to join us for one free trial ride. After that ride\, please purchase a membership to continue riding. If you are a current member\, you have already signed our waiver and are good to go! Anyone can sign our waiver or purchase a membership at https://outspokin.org/ridewithus/
URL:https://lgbtqcolorado.org/event/history-of-queer-colorado-collab-with-colorado-history-rides/
LOCATION:Cheesman Park\, E 8th Ave & Franklin St\, Denver\, CO\, 80218\, United States
CATEGORIES:Community Events
ORGANIZER;CN="OUTSpokin' Cycling Club":MAILTO:outspokindenver@gmail.com
GEO:39.7290912;-104.9683167
X-APPLE-STRUCTURED-LOCATION;VALUE=URI;X-ADDRESS=Cheesman Park E 8th Ave & Franklin St Denver CO 80218 United States;X-APPLE-RADIUS=500;X-TITLE=E 8th Ave & Franklin St:geo:-104.9683167,39.7290912
END:VEVENT
BEGIN:VEVENT
DTSTART;TZID=America/Denver:20250608T120000
DTEND;TZID=America/Denver:20250608T160000
DTSTAMP:20260423T140733
CREATED:20250414T161225Z
LAST-MODIFIED:20250414T163907Z
UID:10023144-1749384000-1749398400@lgbtqcolorado.org
SUMMARY:Stories of Pride: A Queer Film Making Intensive
DESCRIPTION:
URL:https://lgbtqcolorado.org/event/stories-of-pride/2025-06-08/
LOCATION:The Center on Colfax\, 1301 E. Colfax Ave.\, Denver\, CO\, 80218\, United States
CATEGORIES:Community Events,The Center Calendar,Rainbow Alley,Arts & Entertainment,Youth & Young Adult
ATTACH;FMTTYPE=image/jpeg:https://lgbtqcolorado.org/wp-content/uploads/2025/04/2025-StoriesOfPride-16x9-1.jpg
GEO:39.7402674;-104.970419
X-APPLE-STRUCTURED-LOCATION;VALUE=URI;X-ADDRESS=The Center on Colfax 1301 E. Colfax Ave. Denver CO 80218 United States;X-APPLE-RADIUS=500;X-TITLE=1301 E. Colfax Ave.:geo:-104.970419,39.7402674
END:VEVENT
BEGIN:VEVENT
DTSTART;TZID=America/Denver:20250608T130000
DTEND;TZID=America/Denver:20250608T170000
DTSTAMP:20260423T140733
CREATED:20250430T160240Z
LAST-MODIFIED:20250430T160240Z
UID:10023319-1749387600-1749402000@lgbtqcolorado.org
SUMMARY:Queer Sexual Health Fair
DESCRIPTION:Sexploratorium's Woman-Centered Sexual Health Fair \nJoin us for the Queer Sexual Health Fair at the Sexploratorium! This welcoming and informative event is dedicated to promoting inclusive\, affirming\, and accessible healthcare for the LGBTQ+ community. Bringing together a diverse range of community organizations\, healthcare providers\, and advocacy groups\, the fair offers valuable resources on sexual health\, wellness\, and harm reduction. Whether you're looking for information on PrEP\, safe sex practices\, gender-affirming care\, or mental health support\, you'll find knowledgeable professionals and a judgment-free space.\nOne of the key features of the event is free and confidential STI testing\, available on-site to ensure easy and barrier-free access to essential screenings. In addition to testing\, attendees can visit booths hosted by local agencies and organizations specializing in LGBTQ+ health\, offering educational materials\, free safer-sex supplies\, and connections to essential services. With the Sexploratorium as the venue\, guests can also explore the exhibits that celebrate sexual education\, history\, and expression in a uniquely engaging environment. \nThe Queer Sexual Health Fair is more than just an educational event—it’s a celebration of community\, empowerment\, and sexual wellness. Whether you're looking to get tested\, connect with local resources\, or simply engage in meaningful conversations about queer sexual well-being\, this event offers a supportive and affirming space. Come as you are\, bring your friends\, and take part in building a healthier\, more informed\, and stronger LGBTQ+ community at the Sexploratorium! \nThis is a free event and open to all ages! Donations help put on events like this in the future!
URL:https://lgbtqcolorado.org/event/queer-sexual-health-fair/
LOCATION:Sexploratorium\, 1800 S Broadway\, Denver\, 80210
CATEGORIES:Community Events
ATTACH;FMTTYPE=image/jpeg:https://lgbtqcolorado.org/wp-content/uploads/2025/04/Screenshot-2025-04-29-190735.jpg
ORGANIZER;CN="Sexploratorium":MAILTO:fawn.sexploratorium@gmail.com
END:VEVENT
BEGIN:VEVENT
DTSTART;TZID=America/Denver:20250608T140000
DTEND;TZID=America/Denver:20250608T153000
DTSTAMP:20260423T140733
CREATED:20250522T194534Z
LAST-MODIFIED:20250522T194534Z
UID:10024113-1749391200-1749396600@lgbtqcolorado.org
SUMMARY:Immigrants: Queer\, Unafraid and Unashamed with Motus Playback Theater
DESCRIPTION:Your story matters. Your voice deserves to be heard.\n\nJoin Motus Playback Theater for a powerful afternoon where queer immigrant youth stories take center stage. Share a personal experience—whether joyful\, challenging\, or deeply meaningful—and see it brought to life through improv\, movement\, music\, and spoken word.\n\nWith a diverse cast of majority-immigrant actors\, this event creates a safe and welcoming space for immigrant communities to see YOUR experiences reflected and foster connection across cultures and lived experiences.\n\nNo pressure to share—your presence alone builds community. Whether you tell a story or simply listen\, this space is for reflection\, laughter\, and solidarity. Let’s come together to celebrate the strength\, contributions\, and lived experiences of immigrants.\n\nBecause the future belongs to all of us!\n \nLOCATION: Location of the event will be shared upon registration.\n\nQUESTIONS: Please reach out at info@motustheater.org
URL:https://lgbtqcolorado.org/event/immigrants-queer-unafraid-and-unashamed-with-motus-playback-theater/
LOCATION:Please register for exact location.\, Please register for exact location.\, Denver\, CO\, 80302
CATEGORIES:Community Events
ATTACH;FMTTYPE=image/jpeg:https://lgbtqcolorado.org/wp-content/uploads/2025/05/Immigrants-Queer-Unafraid-Unashamed-6_8_25-IG-Promo-1.jpg
ORGANIZER;CN="Motus Theater":MAILTO:info@motustheater.org
END:VEVENT
BEGIN:VEVENT
DTSTART;TZID=America/Denver:20250608T150000
DTEND;TZID=America/Denver:20250608T163000
DTSTAMP:20260423T140733
CREATED:20250508T210130Z
LAST-MODIFIED:20250605T164622Z
UID:10023437-1749394800-1749400200@lgbtqcolorado.org
SUMMARY:Sage Singers Pride Concert: Purpose and Power
DESCRIPTION:Sage Singers is an LGBTQ+ elders chorus. \nJoin us for our Pride concert! \nDate: June 8\, 2025 \nTime: 3:00-4:30 PM \nLocation: First Universalist Church\, 4101 E. Hampden Ave.\, Denver \nLearn More: https://www.sagesingers.org/
URL:https://lgbtqcolorado.org/event/sage-singers-pride-concert-purpose-and-power/
LOCATION:First Universalist Church\, 4101E. Hampden Ave\, Denver\, 80222
CATEGORIES:Community Events
ATTACH;FMTTYPE=image/jpeg:https://lgbtqcolorado.org/wp-content/uploads/2025/05/IMG_5411.jpeg
END:VEVENT
END:VCALENDAR